Workbook

Sheet 원가계산서
A1: 공 사 원 가 계 산 서
A3: 공 사 명 : 서울중계3동우체국 창구 리모델링공사(건축)
A4: 구 분 비 목 | D4: 구 성 비 | E4: 금 액 | F4: 비 고
A6: 순 공 사 원 가 | B6: 재료비 | C6: 직 접 재 료 비 | E6: =공종별집계표!F6 -> 0
C7: 간 접 재 료 비
C8: 작업설.부산물 등(△) | E8: =공종별집계표!T6 -> 0
C9: 소 계 | E9: =SUM(E6:E8) -> 0
B10: 노무비 | C10: 직 접 노 무 비 | E10: =공종별집계표!H6 -> 0
C11: 간 접 노 무 비 | D11: 직.노*9.6% | E11: =INT(E10*9.6%) -> 0 | F11: 최대 9.6% 적용가능
C12: 소 계 | E12: =SUM(E10:E11) -> 0
B13: 경 비 | C13: 기 계 경 비 | E13: =공종별집계표!J6 -> 0
C14: 산 재 보 험 료 | D14: (노)*3.8% | E14: =E12*3.8% -> 0 | F14: 필수항목 / 고정비율
C15: 고 용 보 험 료 | D15: (노)*0.87% | E15: =E12*0.87% -> 0 | F15: 필수항목 / 고정비율
C16: 건 강 보 험 료 | F16: 적용안함
C17: 연 금 보 험 료 | F17: 적용안함
C18: 노인 장기 요양보험료 | F18: 적용안함
C19: 퇴 직 공 제 부 금 비 | F19: 적용안함
C20: 안 전 관 리 비 | F20: 적용안함
C21: 기 타 경 비 | D21: (재+노)*3.03% | E21: =(E9+E12)*3.03% -> 0 | F21: 최대 3.03% 적용가능
C22: 환 경 보 전 비 | D22: (재+직.노+기.경)*0.3% | E22: =INT((E9+E10+E13)*0.3%) -> 0 | F22: 최대 0.3% 적용가능
C23: 건설하도급보증수수료
C24: 소 계 | E24: =SUM(E13:E23) -> 0
B25: 계 | E25: =+E9+E12+E24 -> 0
A26: 일 반 관 리 비 | D26: (재+노+경)*6% | E26: =INT((E9+E12+E24)*6%) -> 0 | F26: 최대 6% 적용가능
A27: 이 윤 | D27: (노+경+일)*10.51% | E27: =INT((E12+E24+E26)*10.51%) -> 0 | F27: 최대 10.51% 적용가능
A28: 폐 기 물 처 리 비 | E28: =+내역명세서!J31 -> 0
A29: 총 원 가 | E29: =SUM(E25:E28) -> 0
A30: 부 가 가 치 세 | D30: (총원가)*10% | E30: =+E29*10% -> 0
A31: 도 급 금 액 | E31: =ROUNDDOWN(SUM(E29:E30),-3) -> 0

Sheet 공종별집계표
A1: 집 계 표
A2: =원가계산서!A3 -> 공 사 명 : 서울중계3동우체국 창구 리모델링공사(건축)
A3: 품 명 | B3: 규 격 | C3: 단위 | D3: 수 량 | E3: 재 료 비 | G3: 노 무 비 | I3: 경 비 | K3: 합 계 | M3: 비고
E4: 단 가 | F4: 금 액 | G4: 단 가 | H4: 금 액 | I4: 단 가 | J4: 금 액 | K4: 단 가 | L4: 금 액 | N4: 손료요율 | O4: 손료구분 | P4: 적용구분 | Q4: 합계구분 | R4: 기계경비 | S4: 운반비 | T4: 작업부산물 | U4: 관급 | V4: 외주비 | W4: 장비비 | X4: 폐기물처리비 | Y4: 가설비 | Z4: 잡비제외분 | AA4: 사급자재대 | AB4: 관급자재대 | AC4: 사용자항목1 | AD4: 사용자항목2 | AE4: 사용자항목3 | AF4: 사용자항목4 | AG4: 사용자항목5 | AH4: 사용자항목6 | AI4: 사용자항목7 | AJ4: 사용자항목8 | AK4: 사용자항목9 | AL4: 간접재료비
A5: =내역명세서!A5 -> 1. 서울중계3동우체국 | B5: =내역명세서!B5 -> 0 | C5: 식 | D5: 1 | E5: =내역명세서!F32 -> 0 | F5: =D5*E5 -> 0 | G5: =내역명세서!H32 -> 0 | H5: =D5*G5 -> 0 | I5: =내역명세서!J32 -> 0 | J5: =D5*I5 -> 0 | K5: =내역명세서!L32 -> 0 | L5: =F5+H5+J5 -> 0 | Q5: 1 | R5: =내역명세서!R9*D5 -> 0 | S5: =내역명세서!S9*D5 -> 0 | T5: =내역명세서!T9*D5 -> 0 | U5: =내역명세서!U9*D5 -> 0 | V5: =내역명세서!V9*D5 -> 0 | W5: =내역명세서!W9*D5 -> 0 | X5: =내역명세서!X9*D5 -> 0 | Y5: =내역명세서!Y9*D5 -> 0 | Z5: =내역명세서!Z9*D5 -> 0 | AA5: =내역명세서!AA9*D5 -> 0 | AB5: =내역명세서!AB9*D5 -> 0 | AC5: =내역명세서!AC9*D5 -> 0 | AD5: =내역명세서!AD9*D5 -> 0 | AE5: =내역명세서!AE9*D5 -> 0 | AF5: =내역명세서!AF9*D5 -> 0 | AG5: =내역명세서!AG9*D5 -> 0 | AH5: =내역명세서!AH9*D5 -> 0 | AI5: =내역명세서!AI9*D5 -> 0 | AJ5: =내역명세서!AJ9*D5 -> 0 | AK5: =내역명세서!AK9*D5 -> 0 | AL5: =내역명세서!AL9*D5 -> 0
A6: 합 계 | F6: =SUM(F5:F5) -> 0 | H6: =SUM(H5:H5) -> 0 | J6: =SUM(J5:J5) -> 0 | L6: =SUM(L5:L5) -> 0 | R6: =SUM($R$5:$R$5) -> 0 | S6: =SUM($S$5:$S$5) -> 0 | T6: =SUM($T$5:$T$5) -> 0 | U6: =SUM($U$5:$U$5) -> 0 | V6: =SUM($V$5:$V$5) -> 0 | W6: =SUM($W$5:$W$5) -> 0 | X6: =SUM($X$5:$X$5) -> 0 | Y6: =SUM($Y$5:$Y$5) -> 0 | Z6: =SUM($Z$5:$Z$5) -> 0 | AA6: =SUM($AA$5:$AA$5) -> 0 | AB6: =SUM($AB$5:$AB$5) -> 0 | AC6: =SUM($AC$5:$AC$5) -> 0 | AD6: =SUM($AD$5:$AD$5) -> 0 | AE6: =SUM($AE$5:$AE$5) -> 0 | AF6: =SUM($AF$5:$AF$5) -> 0 | AG6: =SUM($AG$5:$AG$5) -> 0 | AH6: =SUM($AH$5:$AH$5) -> 0 | AI6: =SUM($AI$5:$AI$5) -> 0 | AJ6: =SUM($AJ$5:$AJ$5) -> 0 | AK6: =SUM($AK$5:$AK$5) -> 0 | AL6: =SUM($AL$5:$AL$5) -> 0

Sheet 내역명세서
A1: 내 역 서
A2: =원가계산서!A3 -> 공 사 명 : 서울중계3동우체국 창구 리모델링공사(건축)
A3: 품 명 | B3: 규 격 | C3: 단위 | D3: 수 량 | E3: 재 료 비 | G3: 노 무 비 | I3: 경 비 | K3: 합 계 | M3: 비고
E4: 단 가 | F4: 금 액 | G4: 단 가 | H4: 금 액 | I4: 단 가 | J4: 금 액 | K4: 단 가 | L4: 금 액 | N4: 손료요율 | O4: 손료구분 | P4: 적용구분 | Q4: 합계구분 | R4: 기계경비 | S4: 운반비 | T4: 작업부산물 | U4: 관급 | V4: 외주비 | W4: 장비비 | X4: 폐기물처리비 | Y4: 가설비 | Z4: 잡비제외분 | AA4: 사급자재대 | AB4: 관급자재대 | AC4: 사용자항목1 | AD4: 사용자항목2 | AE4: 사용자항목3 | AF4: 사용자항목4 | AG4: 사용자항목5 | AH4: 사용자항목6 | AI4: 사용자항목7 | AJ4: 사용자항목8 | AK4: 사용자항목9 | AL4: 간접재료비
A5: 1. 서울중계3동우체국
A6: 1. 가설공사
A7: 건축물현장정리 | B7: 준공청소 포함 | C7: M2 | D7: 96 | F7: =ROUNDDOWN(D7*E7,0) -> 0 | H7: =ROUNDDOWN(D7*G7,0) -> 0 | J7: =ROUNDDOWN(D7*I7,0) -> 0 | K7: =E7+G7+I7 -> 0 | L7: =F7+H7+J7 -> 0 | P7: 기계경비 | Q7: 1 | R7: =IF(P7="기계경비",J7,0) -> 0 | S7: =IF(P7="운반비",J7,0) -> 0 | T7: =IF(P7="작업부산물",F7,0) -> 0 | U7: =IF(P7="관급",ROUNDDOWN(D7*E7,0),0)+IF(P7="지급",ROUNDDOWN(D7*E7,0),0) -> 0 | V7: =IF(P7="외주비",F7+H7+J7,0) -> 0 | W7: =IF(P7="장비비",F7+H7+J7,0) -> 0 | X7: =IF(P7="폐기물처리비",J7,0) -> 0 | Y7: =IF(P7="가설비",J7,0) -> 0 | Z7: =IF(P7="잡비제외분",F7,0) -> 0 | AA7: =IF(P7="사급자재대",L7,0) -> 0 | AB7: =IF(P7="관급자재대",L7,0) -> 0 | AC7: =IF(P7="사용자항목1",L7,0) -> 0 | AD7: =IF(P7="사용자항목2",L7,0) -> 0 | AE7: =IF(P7="사용자항목3",L7,0) -> 0 | AF7: =IF(P7="사용자항목4",L7,0) -> 0 | AG7: =IF(P7="사용자항목5",L7,0) -> 0 | AH7: =IF(P7="사용자항목6",L7,0) -> 0 | AI7: =IF(P7="사용자항목7",L7,0) -> 0 | AJ7: =IF(P7="사용자항목8",L7,0) -> 0 | AK7: =IF(P7="사용자항목9",L7,0) -> 0
A8: 이동식강관말비계 | B8: 3개월,1단(2m) | C8: 1대 | D8: 1 | F8: =ROUNDDOWN(D8*E8,0) -> 0 | H8: =ROUNDDOWN(D8*G8,0) -> 0 | J8: =ROUNDDOWN(D8*I8,0) -> 0 | K8: =E8+G8+I8 -> 0 | L8: =F8+H8+J8 -> 0 | P8: 기계경비 | Q8: 1 | R8: =IF(P8="기계경비",J8,0) -> 0 | S8: =IF(P8="운반비",J8,0) -> 0 | T8: =IF(P8="작업부산물",F8,0) -> 0 | U8: =IF(P8="관급",ROUNDDOWN(D8*E8,0),0)+IF(P8="지급",ROUNDDOWN(D8*E8,0),0) -> 0 | V8: =IF(P8="외주비",F8+H8+J8,0) -> 0 | W8: =IF(P8="장비비",F8+H8+J8,0) -> 0 | X8: =IF(P8="폐기물처리비",J8,0) -> 0 | Y8: =IF(P8="가설비",J8,0) -> 0 | Z8: =IF(P8="잡비제외분",F8,0) -> 0 | AA8: =IF(P8="사급자재대",L8,0) -> 0 | AB8: =IF(P8="관급자재대",L8,0) -> 0 | AC8: =IF(P8="사용자항목1",L8,0) -> 0 | AD8: =IF(P8="사용자항목2",L8,0) -> 0 | AE8: =IF(P8="사용자항목3",L8,0) -> 0 | AF8: =IF(P8="사용자항목4",L8,0) -> 0 | AG8: =IF(P8="사용자항목5",L8,0) -> 0 | AH8: =IF(P8="사용자항목6",L8,0) -> 0 | AI8: =IF(P8="사용자항목7",L8,0) -> 0 | AJ8: =IF(P8="사용자항목8",L8,0) -> 0 | AK8: =IF(P8="사용자항목9",L8,0) -> 0
A9: 소 계 | F9: =SUM(F7:F8) -> 0 | H9: =SUM(H7:H8) -> 0 | J9: =SUM(J7:J8) -> 0 | L9: =SUM(L7:L8) -> 0 | R9: =SUM($R$6:$R$8) -> 0 | S9: =SUM($S$6:$S$8) -> 0 | T9: =SUM($T$6:$T$8) -> 0 | U9: =SUM($U$6:$U$8) -> 0 | V9: =SUM($V$6:$V$8) -> 0 | W9: =SUM($W$6:$W$8) -> 0 | X9: =SUM($X$6:$X$8) -> 0 | Y9: =SUM($Y$6:$Y$8) -> 0 | Z9: =SUM($Z$6:$Z$8) -> 0 | AA9: =SUM($AA$6:$AA$8) -> 0 | AB9: =SUM($AB$6:$AB$8) -> 0 | AC9: =SUM($AC$6:$AC$8) -> 0 | AD9: =SUM($AD$6:$AD$8) -> 0 | AE9: =SUM($AE$6:$AE$8) -> 0 | AF9: =SUM($AF$6:$AF$8) -> 0 | AG9: =SUM($AG$6:$AG$8) -> 0 | AH9: =SUM($AH$6:$AH$8) -> 0 | AI9: =SUM($AI$6:$AI$8) -> 0 | AJ9: =SUM($AJ$6:$AJ$8) -> 0 | AK9: =SUM($AK$6:$AK$8) -> 0 | AL9: =SUM($AL$6:$AL$8) -> 0
A10: 2. 수장공사
A11: 천정틀 보강 | C11: M2 | D11: 10 | F11: =ROUNDDOWN(D11*E11,0) -> 0 | H11: =ROUNDDOWN(D11*G11,0) -> 0 | J11: =ROUNDDOWN(D11*I11,0) -> 0 | K11: =E11+G11+I11 -> 0 | L11: =F11+H11+J11 -> 0 | P11: 기계경비 | Q11: 1 | R11: =IF(P11="기계경비",J11,0) -> 0 | S11: =IF(P11="운반비",J11,0) -> 0 | T11: =IF(P11="작업부산물",F11,0) -> 0 | U11: =IF(P11="관급",ROUNDDOWN(D11*E11,0),0)+IF(P11="지급",ROUNDDOWN(D11*E11,0),0) -> 0 | V11: =IF(P11="외주비",F11+H11+J11,0) -> 0 | W11: =IF(P11="장비비",F11+H11+J11,0) -> 0 | X11: =IF(P11="폐기물처리비",J11,0) -> 0 | Y11: =IF(P11="가설비",J11,0) -> 0 | Z11: =IF(P11="잡비제외분",F11,0) -> 0 | AA11: =IF(P11="사급자재대",L11,0) -> 0 | AB11: =IF(P11="관급자재대",L11,0) -> 0 | AC11: =IF(P11="사용자항목1",L11,0) -> 0 | AD11: =IF(P11="사용자항목2",L11,0) -> 0 | AE11: =IF(P11="사용자항목3",L11,0) -> 0 | AF11: =IF(P11="사용자항목4",L11,0) -> 0 | AG11: =IF(P11="사용자항목5",L11,0) -> 0 | AH11: =IF(P11="사용자항목6",L11,0) -> 0 | AI11: =IF(P11="사용자항목7",L11,0) -> 0 | AJ11: =IF(P11="사용자항목8",L11,0) -> 0 | AK11: =IF(P11="사용자항목9",L11,0) -> 0
A12: 천정마감 보수 | C12: M2 | D12: 10 | F12: =ROUNDDOWN(D12*E12,0) -> 0 | H12: =ROUNDDOWN(D12*G12,0) -> 0 | J12: =ROUNDDOWN(D12*I12,0) -> 0 | K12: =E12+G12+I12 -> 0 | L12: =F12+H12+J12 -> 0 | P12: 기계경비 | Q12: 1 | R12: =IF(P12="기계경비",J12,0) -> 0 | S12: =IF(P12="운반비",J12,0) -> 0 | T12: =IF(P12="작업부산물",F12,0) -> 0 | U12: =IF(P12="관급",ROUNDDOWN(D12*E12,0),0)+IF(P12="지급",ROUNDDOWN(D12*E12,0),0) -> 0 | V12: =IF(P12="외주비",F12+H12+J12,0) -> 0 | W12: =IF(P12="장비비",F12+H12+J12,0) -> 0 | X12: =IF(P12="폐기물처리비",J12,0) -> 0 | Y12: =IF(P12="가설비",J12,0) -> 0 | Z12: =IF(P12="잡비제외분",F12,0) -> 0 | AA12: =IF(P12="사급자재대",L12,0) -> 0 | AB12: =IF(P12="관급자재대",L12,0) -> 0 | AC12: =IF(P12="사용자항목1",L12,0) -> 0 | AD12: =IF(P12="사용자항목2",L12,0) -> 0 | AE12: =IF(P12="사용자항목3",L12,0) -> 0 | AF12: =IF(P12="사용자항목4",L12,0) -> 0 | AG12: =IF(P12="사용자항목5",L12,0) -> 0 | AH12: =IF(P12="사용자항목6",L12,0) -> 0 | AI12: =IF(P12="사용자항목7",L12,0) -> 0 | AJ12: =IF(P12="사용자항목8",L12,0) -> 0 | AK12: =IF(P12="사용자항목9",L12,0) -> 0
A13: 우체국카운터(우편) | B13: W1900*D1200*H850 | C13: set | D13: 1 | F13: =ROUNDDOWN(D13*E13,0) -> 0 | H13: =ROUNDDOWN(D13*G13,0) -> 0 | J13: =ROUNDDOWN(D13*I13,0) -> 0 | K13: =E13+G13+I13 -> 0 | L13: =F13+H13+J13 -> 0 | P13: 기계경비 | Q13: 1 | R13: =IF(P13="기계경비",J13,0) -> 0 | S13: =IF(P13="운반비",J13,0) -> 0 | T13: =IF(P13="작업부산물",F13,0) -> 0 | U13: =IF(P13="관급",ROUNDDOWN(D13*E13,0),0)+IF(P13="지급",ROUNDDOWN(D13*E13,0),0) -> 0 | V13: =IF(P13="외주비",F13+H13+J13,0) -> 0 | W13: =IF(P13="장비비",F13+H13+J13,0) -> 0 | X13: =IF(P13="폐기물처리비",J13,0) -> 0 | Y13: =IF(P13="가설비",J13,0) -> 0 | Z13: =IF(P13="잡비제외분",F13,0) -> 0 | AA13: =IF(P13="사급자재대",L13,0) -> 0 | AB13: =IF(P13="관급자재대",L13,0) -> 0 | AC13: =IF(P13="사용자항목1",L13,0) -> 0 | AD13: =IF(P13="사용자항목2",L13,0) -> 0 | AE13: =IF(P13="사용자항목3",L13,0) -> 0 | AF13: =IF(P13="사용자항목4",L13,0) -> 0 | AG13: =IF(P13="사용자항목5",L13,0) -> 0 | AH13: =IF(P13="사용자항목6",L13,0) -> 0 | AI13: =IF(P13="사용자항목7",L13,0) -> 0 | AJ13: =IF(P13="사용자항목8",L13,0) -> 0 | AK13: =IF(P13="사용자항목9",L13,0) -> 0
A14: 우체국카운터(우편) | B14: W1500*D1200*H850 | C14: set | D14: 1 | F14: =ROUNDDOWN(D14*E14,0) -> 0 | H14: =ROUNDDOWN(D14*G14,0) -> 0 | J14: =ROUNDDOWN(D14*I14,0) -> 0 | K14: =E14+G14+I14 -> 0 | L14: =F14+H14+J14 -> 0
A15: 우체국카운터(금융) | B15: W1900*D1200*H950 칸막이 포함 | C15: set | D15: 3 | F15: =ROUNDDOWN(D15*E15,0) -> 0 | H15: =ROUNDDOWN(D15*G15,0) -> 0 | J15: =ROUNDDOWN(D15*I15,0) -> 0 | K15: =E15+G15+I15 -> 0 | L15: =F15+H15+J15 -> 0 | P15: 기계경비 | Q15: 1 | R15: =IF(P15="기계경비",J15,0) -> 0 | S15: =IF(P15="운반비",J15,0) -> 0 | T15: =IF(P15="작업부산물",F15,0) -> 0 | U15: =IF(P15="관급",ROUNDDOWN(D15*E15,0),0)+IF(P15="지급",ROUNDDOWN(D15*E15,0),0) -> 0 | V15: =IF(P15="외주비",F15+H15+J15,0) -> 0 | W15: =IF(P15="장비비",F15+H15+J15,0) -> 0 | X15: =IF(P15="폐기물처리비",J15,0) -> 0 | Y15: =IF(P15="가설비",J15,0) -> 0 | Z15: =IF(P15="잡비제외분",F15,0) -> 0 | AA15: =IF(P15="사급자재대",L15,0) -> 0 | AB15: =IF(P15="관급자재대",L15,0) -> 0 | AC15: =IF(P15="사용자항목1",L15,0) -> 0 | AD15: =IF(P15="사용자항목2",L15,0) -> 0 | AE15: =IF(P15="사용자항목3",L15,0) -> 0 | AF15: =IF(P15="사용자항목4",L15,0) -> 0 | AG15: =IF(P15="사용자항목5",L15,0) -> 0 | AH15: =IF(P15="사용자항목6",L15,0) -> 0 | AI15: =IF(P15="사용자항목7",L15,0) -> 0 | AJ15: =IF(P15="사용자항목8",L15,0) -> 0 | AK15: =IF(P15="사용자항목9",L15,0) -> 0
A16: 우체국카운터(장애인) | B16: W1500*D1200*H850 | C16: set | D16: 1 | F16: =ROUNDDOWN(D16*E16,0) -> 0 | H16: =ROUNDDOWN(D16*G16,0) -> 0 | J16: =ROUNDDOWN(D16*I16,0) -> 0 | K16: =E16+G16+I16 -> 0 | L16: =F16+H16+J16 -> 0 | P16: 기계경비 | Q16: 1 | R16: =IF(P16="기계경비",J16,0) -> 0 | S16: =IF(P16="운반비",J16,0) -> 0 | T16: =IF(P16="작업부산물",F16,0) -> 0 | U16: =IF(P16="관급",ROUNDDOWN(D16*E16,0),0)+IF(P16="지급",ROUNDDOWN(D16*E16,0),0) -> 0 | V16: =IF(P16="외주비",F16+H16+J16,0) -> 0 | W16: =IF(P16="장비비",F16+H16+J16,0) -> 0 | X16: =IF(P16="폐기물처리비",J16,0) -> 0 | Y16: =IF(P16="가설비",J16,0) -> 0 | Z16: =IF(P16="잡비제외분",F16,0) -> 0 | AA16: =IF(P16="사급자재대",L16,0) -> 0 | AB16: =IF(P16="관급자재대",L16,0) -> 0 | AC16: =IF(P16="사용자항목1",L16,0) -> 0 | AD16: =IF(P16="사용자항목2",L16,0) -> 0 | AE16: =IF(P16="사용자항목3",L16,0) -> 0 | AF16: =IF(P16="사용자항목4",L16,0) -> 0 | AG16: =IF(P16="사용자항목5",L16,0) -> 0 | AH16: =IF(P16="사용자항목6",L16,0) -> 0 | AI16: =IF(P16="사용자항목7",L16,0) -> 0 | AJ16: =IF(P16="사용자항목8",L16,0) -> 0 | AK16: =IF(P16="사용자항목9",L16,0) -> 0
A17: 서랍장제작설치 | B17: 2단 | C17: EA | D17: 6 | F17: =ROUNDDOWN(D17*E17,0) -> 0 | H17: =ROUNDDOWN(D17*G17,0) -> 0 | I17: 0 | J17: =ROUNDDOWN(D17*I17,0) -> 0 | K17: =E17+G17+I17 -> 0 | L17: =F17+H17+J17 -> 0 | P17: 기계경비 | Q17: 1 | R17: =IF(P17="기계경비",J17,0) -> 0 | S17: =IF(P17="운반비",J17,0) -> 0 | T17: =IF(P17="작업부산물",F17,0) -> 0 | U17: =IF(P17="관급",ROUNDDOWN(D17*E17,0),0)+IF(P17="지급",ROUNDDOWN(D17*E17,0),0) -> 0 | V17: =IF(P17="외주비",F17+H17+J17,0) -> 0 | W17: =IF(P17="장비비",F17+H17+J17,0) -> 0 | X17: =IF(P17="폐기물처리비",J17,0) -> 0 | Y17: =IF(P17="가설비",J17,0) -> 0 | Z17: =IF(P17="잡비제외분",F17,0) -> 0 | AA17: =IF(P17="사급자재대",L17,0) -> 0 | AB17: =IF(P17="관급자재대",L17,0) -> 0 | AC17: =IF(P17="사용자항목1",L17,0) -> 0 | AD17: =IF(P17="사용자항목2",L17,0) -> 0 | AE17: =IF(P17="사용자항목3",L17,0) -> 0 | AF17: =IF(P17="사용자항목4",L17,0) -> 0 | AG17: =IF(P17="사용자항목5",L17,0) -> 0 | AH17: =IF(P17="사용자항목6",L17,0) -> 0 | AI17: =IF(P17="사용자항목7",L17,0) -> 0 | AJ17: =IF(P17="사용자항목8",L17,0) -> 0 | AK17: =IF(P17="사용자항목9",L17,0) -> 0
A18: 서랍장제작설치 | B18: 3단 | C18: EA | D18: 6 | F18: =ROUNDDOWN(D18*E18,0) -> 0 | H18: =ROUNDDOWN(D18*G18,0) -> 0 | I18: 0 | J18: =ROUNDDOWN(D18*I18,0) -> 0 | K18: =E18+G18+I18 -> 0 | L18: =F18+H18+J18 -> 0 | P18: 기계경비 | Q18: 1 | R18: =IF(P18="기계경비",J18,0) -> 0 | S18: =IF(P18="운반비",J18,0) -> 0 | T18: =IF(P18="작업부산물",F18,0) -> 0 | U18: =IF(P18="관급",ROUNDDOWN(D18*E18,0),0)+IF(P18="지급",ROUNDDOWN(D18*E18,0),0) -> 0 | V18: =IF(P18="외주비",F18+H18+J18,0) -> 0 | W18: =IF(P18="장비비",F18+H18+J18,0) -> 0 | X18: =IF(P18="폐기물처리비",J18,0) -> 0 | Y18: =IF(P18="가설비",J18,0) -> 0 | Z18: =IF(P18="잡비제외분",F18,0) -> 0 | AA18: =IF(P18="사급자재대",L18,0) -> 0 | AB18: =IF(P18="관급자재대",L18,0) -> 0 | AC18: =IF(P18="사용자항목1",L18,0) -> 0 | AD18: =IF(P18="사용자항목2",L18,0) -> 0 | AE18: =IF(P18="사용자항목3",L18,0) -> 0 | AF18: =IF(P18="사용자항목4",L18,0) -> 0 | AG18: =IF(P18="사용자항목5",L18,0) -> 0 | AH18: =IF(P18="사용자항목6",L18,0) -> 0 | AI18: =IF(P18="사용자항목7",L18,0) -> 0 | AJ18: =IF(P18="사용자항목8",L18,0) -> 0 | AK18: =IF(P18="사용자항목9",L18,0) -> 0
A19: 카운터 측면마감판 | C19: EA | D19: 2 | F19: =ROUNDDOWN(D19*E19,0) -> 0 | K19: =E19+G19+I19 -> 0 | L19: =F19+H19+J19 -> 0
A20: 필연대 | B20: 1,500*750*900 | C20: EA | D20: 2 | F20: =ROUNDDOWN(D20*E20,0) -> 0 | K20: =E20+G20+I20 -> 0 | L20: =F20+H20+J20 -> 0
A21: 소포포장대 | B21: 1,500*800*800 | C21: EA | D21: 2 | F21: =ROUNDDOWN(D21*E21,0) -> 0 | K21: =E21+G21+I21 -> 0 | L21: =F21+H21+J21 -> 0
A22: 미디어라인 | B22: 400*50 | C22: M | D22: 11 | F22: =ROUNDDOWN(D22*E22,0) -> 0 | H22: =ROUNDDOWN(D22*G22,0) -> 0 | I22: 0 | J22: =ROUNDDOWN(D22*I22,0) -> 0 | K22: =E22+G22+I22 -> 0 | L22: =F22+H22+J22 -> 0 | P22: 기계경비 | Q22: 1 | R22: =IF(P22="기계경비",J22,0) -> 0 | S22: =IF(P22="운반비",J22,0) -> 0 | T22: =IF(P22="작업부산물",F22,0) -> 0 | U22: =IF(P22="관급",ROUNDDOWN(D22*E22,0),0)+IF(P22="지급",ROUNDDOWN(D22*E22,0),0) -> 0 | V22: =IF(P22="외주비",F22+H22+J22,0) -> 0 | W22: =IF(P22="장비비",F22+H22+J22,0) -> 0 | X22: =IF(P22="폐기물처리비",J22,0) -> 0 | Y22: =IF(P22="가설비",J22,0) -> 0 | Z22: =IF(P22="잡비제외분",F22,0) -> 0 | AA22: =IF(P22="사급자재대",L22,0) -> 0 | AB22: =IF(P22="관급자재대",L22,0) -> 0 | AC22: =IF(P22="사용자항목1",L22,0) -> 0 | AD22: =IF(P22="사용자항목2",L22,0) -> 0 | AE22: =IF(P22="사용자항목3",L22,0) -> 0 | AF22: =IF(P22="사용자항목4",L22,0) -> 0 | AG22: =IF(P22="사용자항목5",L22,0) -> 0 | AH22: =IF(P22="사용자항목6",L22,0) -> 0 | AI22: =IF(P22="사용자항목7",L22,0) -> 0 | AJ22: =IF(P22="사용자항목8",L22,0) -> 0 | AK22: =IF(P22="사용자항목9",L22,0) -> 0
A23: 소 계 | F23: =SUM(F11:F22) -> 0 | H23: =SUM(H11:H22) -> 0 | J23: =SUM(J11:J22) -> 0 | L23: =SUM(L11:L22) -> 0 | R23: =SUM($R$10:$R$22) -> 0 | S23: =SUM($S$10:$S$22) -> 0 | T23: =SUM($T$10:$T$22) -> 0 | U23: =SUM($U$10:$U$22) -> 0 | V23: =SUM($V$10:$V$22) -> 0 | W23: =SUM($W$10:$W$22) -> 0 | X23: =SUM($X$10:$X$22) -> 0 | Y23: =SUM($Y$10:$Y$22) -> 0 | Z23: =SUM($Z$10:$Z$22) -> 0 | AA23: =SUM($AA$10:$AA$22) -> 0 | AB23: =SUM($AB$10:$AB$22) -> 0 | AC23: =SUM($AC$10:$AC$22) -> 0 | AD23: =SUM($AD$10:$AD$22) -> 0 | AE23: =SUM($AE$10:$AE$22) -> 0 | AF23: =SUM($AF$10:$AF$22) -> 0 | AG23: =SUM($AG$10:$AG$22) -> 0 | AH23: =SUM($AH$10:$AH$22) -> 0 | AI23: =SUM($AI$10:$AI$22) -> 0 | AJ23: =SUM($AJ$10:$AJ$22) -> 0 | AK23: =SUM($AK$10:$AK$22) -> 0 | AL23: =SUM($AL$10:$AL$22) -> 0
A24: 3. 철거공사
A25: 미드라인철거 | C25: M | D25: 10 | F25: =ROUNDDOWN(D25*E25,0) -> 0 | H25: =ROUNDDOWN(D25*G25,0) -> 0 | J25: =ROUNDDOWN(D25*I25,0) -> 0 | K25: =E25+G25+I25 -> 0 | L25: =F25+H25+J25 -> 0 | P25: 기계경비 | Q25: 1 | R25: =IF(P25="기계경비",J25,0) -> 0 | S25: =IF(P25="운반비",J25,0) -> 0 | T25: =IF(P25="작업부산물",F25,0) -> 0 | U25: =IF(P25="관급",ROUNDDOWN(D25*E25,0),0)+IF(P25="지급",ROUNDDOWN(D25*E25,0),0) -> 0 | V25: =IF(P25="외주비",F25+H25+J25,0) -> 0 | W25: =IF(P25="장비비",F25+H25+J25,0) -> 0 | X25: =IF(P25="폐기물처리비",J25,0) -> 0 | Y25: =IF(P25="가설비",J25,0) -> 0 | Z25: =IF(P25="잡비제외분",F25,0) -> 0 | AA25: =IF(P25="사급자재대",L25,0) -> 0 | AB25: =IF(P25="관급자재대",L25,0) -> 0 | AC25: =IF(P25="사용자항목1",L25,0) -> 0 | AD25: =IF(P25="사용자항목2",L25,0) -> 0 | AE25: =IF(P25="사용자항목3",L25,0) -> 0 | AF25: =IF(P25="사용자항목4",L25,0) -> 0 | AG25: =IF(P25="사용자항목5",L25,0) -> 0 | AH25: =IF(P25="사용자항목6",L25,0) -> 0 | AI25: =IF(P25="사용자항목7",L25,0) -> 0 | AJ25: =IF(P25="사용자항목8",L25,0) -> 0 | AK25: =IF(P25="사용자항목9",L25,0) -> 0
A26: 카운터 철거 | C26: M | D26: 10 | H26: =ROUNDDOWN(D26*G26,0) -> 0 | K26: =E26+G26+I26 -> 0 | L26: =F26+H26+J26 -> 0
A27: 천정재 해체 후 재설치 | B27: 재사용 | C27: M2 | D27: 10 | F27: =ROUNDDOWN(D27*E27,0) -> 0 | H27: =ROUNDDOWN(D27*G27,0) -> 0 | J27: =ROUNDDOWN(D27*I27,0) -> 0 | K27: =E27+G27+I27 -> 0 | L27: =F27+H27+J27 -> 0 | P27: 기계경비 | Q27: 1 | R27: =IF(P27="기계경비",J27,0) -> 0 | S27: =IF(P27="운반비",J27,0) -> 0 | T27: =IF(P27="작업부산물",F27,0) -> 0 | U27: =IF(P27="관급",ROUNDDOWN(D27*E27,0),0)+IF(P27="지급",ROUNDDOWN(D27*E27,0),0) -> 0 | V27: =IF(P27="외주비",F27+H27+J27,0) -> 0 | W27: =IF(P27="장비비",F27+H27+J27,0) -> 0 | X27: =IF(P27="폐기물처리비",J27,0) -> 0 | Y27: =IF(P27="가설비",J27,0) -> 0 | Z27: =IF(P27="잡비제외분",F27,0) -> 0 | AA27: =IF(P27="사급자재대",L27,0) -> 0 | AB27: =IF(P27="관급자재대",L27,0) -> 0 | AC27: =IF(P27="사용자항목1",L27,0) -> 0 | AD27: =IF(P27="사용자항목2",L27,0) -> 0 | AE27: =IF(P27="사용자항목3",L27,0) -> 0 | AF27: =IF(P27="사용자항목4",L27,0) -> 0 | AG27: =IF(P27="사용자항목5",L27,0) -> 0 | AH27: =IF(P27="사용자항목6",L27,0) -> 0 | AI27: =IF(P27="사용자항목7",L27,0) -> 0 | AJ27: =IF(P27="사용자항목8",L27,0) -> 0 | AK27: =IF(P27="사용자항목9",L27,0) -> 0
A28: 소 계 | F28: =SUM(F25:F27) -> 0 | H28: =SUM(H25:H27) -> 0 | J28: =SUMIF($Q$24:$Q$27,1,$J$24:$J$27) -> 0 | L28: =SUM(L25:L27) -> 0 | R28: =SUM($R$24:$R$27) -> 0 | S28: =SUM($S$24:$S$27) -> 0 | T28: =SUM($T$24:$T$27) -> 0 | U28: =SUM($U$24:$U$27) -> 0 | V28: =SUM($V$24:$V$27) -> 0 | W28: =SUM($W$24:$W$27) -> 0 | X28: =SUM($X$24:$X$27) -> 0 | Y28: =SUM($Y$24:$Y$27) -> 0 | Z28: =SUM($Z$24:$Z$27) -> 0 | AA28: =SUM($AA$24:$AA$27) -> 0 | AB28: =SUM($AB$24:$AB$27) -> 0 | AC28: =SUM($AC$24:$AC$27) -> 0 | AD28: =SUM($AD$24:$AD$27) -> 0 | AE28: =SUM($AE$24:$AE$27) -> 0 | AF28: =SUM($AF$24:$AF$27) -> 0 | AG28: =SUM($AG$24:$AG$27) -> 0 | AH28: =SUM($AH$24:$AH$27) -> 0 | AI28: =SUM($AI$24:$AI$27) -> 0 | AJ28: =SUM($AJ$24:$AJ$27) -> 0 | AK28: =SUM($AK$24:$AK$27) -> 0 | AL28: =SUM($AL$24:$AL$27) -> 0
A29: 4. 폐기물처리비
A30: 폐자재처리수수료 | B30: 수집 상차 포함 | C30: 식 | D30: 1 | E30: 0 | F30: =ROUNDDOWN(D30*E30,0) -> 0 | H30: =ROUNDDOWN(D30*G30,0) -> 0 | J30: =ROUNDDOWN(D30*I30,0) -> 0 | K30: =E30+G30+I30 -> 0 | L30: =F30+H30+J30 -> 0 | P30: 폐기물처리비 | Q30: 1 | R30: =IF(P30="기계경비",J30,0) -> 0 | S30: =IF(P30="운반비",J30,0) -> 0 | T30: =IF(P30="작업부산물",F30,0) -> 0 | U30: =IF(P30="관급",ROUNDDOWN(D30*E30,0),0)+IF(P30="지급",ROUNDDOWN(D30*E30,0),0) -> 0 | V30: =IF(P30="외주비",F30+H30+J30,0) -> 0 | W30: =IF(P30="장비비",F30+H30+J30,0) -> 0 | X30: =IF(P30="폐기물처리비",L30,0) -> 0 | Y30: =IF(P30="가설비",J30,0) -> 0 | Z30: =IF(P30="잡비제외분",F30,0) -> 0 | AA30: =IF(P30="사급자재대",L30,0) -> 0 | AB30: =IF(P30="관급자재대",L30,0) -> 0 | AC30: =IF(P30="사용자항목1",L30,0) -> 0 | AD30: =IF(P30="사용자항목2",L30,0) -> 0 | AE30: =IF(P30="사용자항목3",L30,0) -> 0 | AF30: =IF(P30="사용자항목4",L30,0) -> 0 | AG30: =IF(P30="사용자항목5",L30,0) -> 0 | AH30: =IF(P30="사용자항목6",L30,0) -> 0 | AI30: =IF(P30="사용자항목7",L30,0) -> 0 | AJ30: =IF(P30="사용자항목8",L30,0) -> 0 | AK30: =IF(P30="사용자항목9",L30,0) -> 0
A31: 소 계 | F31: =SUM(F30:F30) -> 0 | H31: =SUM(H30:H30) -> 0 | J31: =SUM(J30:J30) -> 0 | L31: =SUM(L30:L30) -> 0 | R31: =SUM($R$29:$R$30) -> 0 | S31: =SUM($S$29:$S$30) -> 0 | T31: =SUM($T$29:$T$30) -> 0 | U31: =SUM($U$29:$U$30) -> 0 | V31: =SUM($V$29:$V$30) -> 0 | W31: =SUM($W$29:$W$30) -> 0 | X31: =SUM($X$29:$X$30) -> 0 | Y31: =SUM($Y$29:$Y$30) -> 0 | Z31: =SUM($Z$29:$Z$30) -> 0 | AA31: =SUM($AA$29:$AA$30) -> 0 | AB31: =SUM($AB$29:$AB$30) -> 0 | AC31: =SUM($AC$29:$AC$30) -> 0 | AD31: =SUM($AD$29:$AD$30) -> 0 | AE31: =SUM($AE$29:$AE$30) -> 0 | AF31: =SUM($AF$29:$AF$30) -> 0 | AG31: =SUM($AG$29:$AG$30) -> 0 | AH31: =SUM($AH$29:$AH$30) -> 0 | AI31: =SUM($AI$29:$AI$30) -> 0 | AJ31: =SUM($AJ$29:$AJ$30) -> 0 | AK31: =SUM($AK$29:$AK$30) -> 0 | AL31: =SUM($AL$29:$AL$30) -> 0
A32: 합 계 | F32: =F28+F23+F9 -> 0 | H32: =H28+H23+H9 -> 0 | J32: =J28+J23+J9 -> 0 | L32: =L31+L28+L23+L9 -> 0
