Workbook

Sheet 원가계산서
A1: 공 사 원 가 계 산 서
A3: 공 사 명 : 서울종로2가 우체국 석면 철거에 따른 보수공사
A4: 구 분 비 목 | D4: 구 성 비 | E4: 금 액 | F4: 비 고
A6: 순 공 사 원 가 | B6: 재료비 | C6: 직 접 재 료 비 | E6: =집계표!F6 -> 0 | G6: A1
C7: 간 접 재 료 비 | E7: =ROUNDDOWN(SUMIF($G$6:$G$32,"A1",$E$6:$E$32)*H7,0) -> 0 | G7: A2
C8: 작업설.부산물 등(△) | G8: A3
C9: 소 계 | E9: =SUM(E6:E8) -> 0 | G9: A
B10: 노무비 | C10: 직 접 노 무 비 | E10: =집계표!H6 -> 0 | G10: B1
C11: 간 접 노 무 비 | D11: (직노)*9.6% | E11: =E10*9.6% -> 0 | F11: 최대 9.6% 적용가능 | G11: B2
C12: 소 계 | E12: =SUM(E10:E11) -> 0 | G12: B
B13: 경 비 | C13: 기 계 경 비 | E13: =집계표!J6 -> 0 | G13: C4
C14: 산 재 보 험 료 | D14: (노)*3.8% | E14: =E12*3.8% -> 0 | F14: 필수항목 / 고정비율 | G14: C10
C15: 고 용 보 험 료 | D15: (노)*0.87% | E15: =E12*0.87% -> 0 | F15: 필수항목 / 고정비율 | G15: C11
C16: 건 강 보 험 료 | F16: 적용안함 | G16: C12
C17: 연 금 보 험 료 | F17: 적용안함 | G17: C13
C18: 노인 장기 요양보험료 | F18: 적용안함 | G18: C16
C19: 퇴 직 공 제 부 금 비 | F19: 적용안함 | G19: C14
C20: 안 전 관 리 비 | E20: 0 | F20: 적용안함 | G20: C15
C21: 기 타 경 비 | D21: (재+노)*3.03% | E21: =(E9+E12)*3.03% -> 0 | F21: 최대 3.03% 적용가능 | G21: C26
C22: 환 경 보 전 비 | D22: (재+직.노+기.경)*0.3% | E22: =(E9+E10+E13)*0.3% -> 0 | F22: 필수항목 / 고정비율 | G22: C28
E23: =ROUNDDOWN((SUMIF($G$6:$G$32,"A",$E$6:$E$32)+SUMIF($G$6:$G$32,"B1",$E$6:$E$32)+SUMIF($G$6:$G$32,"C4",$E$6:$E$32))*H23,0) -> 0 | G23: C29
C24: 소 계 | E24: =SUM(E13:E23) -> 0 | G24: C
B25: 계 | E25: =SUMIF($G$6:$G$32,"A",$E$6:$E$32)+SUMIF($G$6:$G$32,"B",$E$6:$E$32)+SUMIF($G$6:$G$32,"C",$E$6:$E$32) -> 0 | G25: X
A26: 일 반 관 리 비 | D26: (재+노+경)*6% | E26: =E25*6% -> 0 | F26: 최대 6% 적용가능 | G26: D
A27: 이 윤 | D27: (노+경+일)*10.51% | E27: =(E12+E24+E26)*10.51% -> 0 | F27: 최대 10.51% 적용가능 | G27: E
A28: 폐 기 물 처 리 비 | E28: =+내역서!L46 -> 0
A29: 총 원 가 | E29: =SUM(E25:E28) -> 0 | G29: F
A30: 부 가 가 치 세 | D30: (총원가)*10% | E30: =E29*0.1 -> 0 | G30: H
A31: 도 급 금 액 | E31: =ROUNDDOWN((E29+E30),-3) -> 0 | F31: 단수정리(천원) | G31: Y

Sheet 집계표
A1: 공 종 별 집 계 표
A3: 품 명 | B3: 규 격 | C3: 단위 | D3: 수량 | E3: 재 료 비 | G3: 노 무 비 | I3: 경 비 | K3: 합 계 | M3: 비 고 | N3: 공종코드 | O3: 변수 | P3: 상위공종 | Q3: 공종구분 | R3: 공종레벨 | S3: 공종소계 | T3: 원가계산서 연결금액
E4: 단 가 | F4: 금 액 | G4: 단 가 | H4: 금 액 | I4: 단 가 | J4: 금 액 | K4: 단 가 | L4: 금 액
L5: =F5+H5+J5 -> 0
A6: =내역서!A5 -> < 서울종로2가우체국> | C6: 식 | D6: 1 | F6: =SUM(F7:F9) -> 0 | H6: =SUM(H7:H9) -> 0 | J6: =SUM(J7:J9) -> 0 | K6: =E6+G6+I6 -> 0 | L6: =F6+H6+J6 -> 0 | N6: 010101 | P6: 0101 | R6: 3
A7: =내역서!A6 -> 01 가설, 철거공사 | C7: 식 | D7: 1 | F7: =내역서!F18 -> 0 | H7: =내역서!H18 -> 0 | J7: =내역서!J18 -> 0 | K7: =E7+G7+I7 -> 0 | L7: =F7+H7+J7 -> 0 | N7: 010108 | P7: 0101 | R7: 3
A8: =내역서!A20 -> 02 수장공사 | C8: 식 | D8: 1 | F8: =내역서!F27 -> 0 | H8: =내역서!H27 -> 0 | J8: =내역서!J27 -> 0 | K8: =E8+G8+I8 -> 0 | L8: =F8+H8+J8 -> 0 | N8: 010111 | P8: 0101 | R8: 3
A9: =내역서!A29 -> 03 금속 및 마감공사 | C9: 식 | D9: 1 | F9: =내역서!F39 -> 0 | H9: =내역서!H39 -> 0 | J9: =+내역서!J38 -> 0 | K9: =E9+G9+I9 -> 0 | L9: =F9+H9+J9 -> 0
A10: =+내역서!A42 -> 04 폐기물처리 | C10: 식 | D10: 1 | F10: =+내역서!F44 -> 0 | H10: =+내역서!H44 -> 0 | J10: =+내역서!J44 -> 0 | L10: =F10+H10+J10 -> 0

Sheet 내역서
A1: 공 종 별 내 역 서
A2: 품 명 | B2: 규 격 | C2: 단위 | D2: 수량 | E2: 재 료 비 | G2: 노 무 비 | I2: 경 비 | K2: 합 계 | M2: 비 고
E3: 단 가 | F3: 금 액 | G3: 단 가 | H3: 금 액 | I3: 단 가 | J3: 금 액 | K3: 단 가 | L3: 금 액
A5: < 서울종로2가우체국>
A6: 01 가설, 철거공사
A7: 건축물현장정리 | B7: 준공청소 포함 | C7: M2 | D7: 373 | F7: =TRUNC(E7*D7, 0) -> 0 | H7: =TRUNC(G7*D7, 0) -> 0 | J7: =TRUNC(I7*D7, 0) -> 0 | K7: =TRUNC(E7+G7+I7, 0) -> 0 | L7: =TRUNC(F7+H7+J7, 0) -> 0
A8: 조립식말비계 | C8: 대 | D8: 2 | F8: =TRUNC(E8*D8, 0) -> 0 | H8: =TRUNC(G8*D8, 0) -> 0 | J8: =TRUNC(I8*D8, 0) -> 0 | K8: =TRUNC(E8+G8+I8, 0) -> 0 | L8: =TRUNC(F8+H8+J8, 0) -> 0
A9: 천장 철거 | B9: 천장틀 포함(목재) | C9: M2 | D9: 28 | F9: =TRUNC(E9*D9, 0) -> 0 | H9: =TRUNC(G9*D9, 0) -> 0 | J9: =TRUNC(I9*D9, 0) -> 0 | K9: =TRUNC(E9+G9+I9, 0) -> 0 | L9: =TRUNC(F9+H9+J9, 0) -> 0
A10: 비닐계 바닥재 철거 | B10: 남,여 직원 휴게실 | C10: M2 | D10: 54 | F10: =TRUNC(E10*D10, 0) -> 0 | H10: =TRUNC(G10*D10, 0) -> 0 | J10: =TRUNC(I10*D10, 0) -> 0 | K10: =TRUNC(E10+G10+I10, 0) -> 0 | L10: =TRUNC(F10+H10+J10, 0) -> 0
A11: 벽지 떼내기 | B11: 벽체, 천장 | C11: M2 | D11: 200 | F11: =TRUNC(E11*D11, 0) -> 0 | H11: =TRUNC(G11*D11, 0) -> 0 | J11: =TRUNC(I11*D11, 0) -> 0 | K11: =TRUNC(E11+G11+I11, 0) -> 0 | L11: =TRUNC(F11+H11+J11, 0) -> 0
A12: 철재문철거 | C12: EA | D12: 2 | F12: =TRUNC(E12*D12, 0) -> 0 | H12: =TRUNC(G12*D12, 0) -> 0 | J12: =TRUNC(I12*D12, 0) -> 0 | K12: =TRUNC(E12+G12+I12, 0) -> 0 | L12: =TRUNC(F12+H12+J12, 0) -> 0
A13: 보일러 철거 운반 | C13: 식 | D13: 1 | F13: =TRUNC(E13*D13, 0) -> 0 | H13: =TRUNC(G13*D13, 0) -> 0 | J13: =TRUNC(I13*D13, 0) -> 0 | K13: =TRUNC(E13+G13+I13, 0) -> 0 | L13: =TRUNC(F13+H13+J13, 0) -> 0
A14: 창문철거 | C14: EA | D14: 1 | F14: =TRUNC(E14*D14, 0) -> 0 | H14: =TRUNC(G14*D14, 0) -> 0 | J14: =TRUNC(I14*D14, 0) -> 0 | K14: =TRUNC(E14+G14+I14, 0) -> 0 | L14: =TRUNC(F14+H14+J14, 0) -> 0
A15: 가구 이전 및 정리 | B15: 보통인부 | C15: 인 | D15: 3 | F15: =TRUNC(E15*D15, 0) -> 0 | H15: =TRUNC(G15*D15, 0) -> 0 | J15: =TRUNC(I15*D15, 0) -> 0 | K15: =TRUNC(E15+G15+I15, 0) -> 0 | L15: =TRUNC(F15+H15+J15, 0) -> 0
A16: 폐기물 상차 | C16: ton | D16: 3 | F16: =TRUNC(E16*D16, 0) -> 0 | H16: =TRUNC(G16*D16, 0) -> 0 | J16: =TRUNC(I16*D16, 0) -> 0 | K16: =TRUNC(E16+G16+I16, 0) -> 0 | L16: =TRUNC(F16+H16+J16, 0) -> 0
A17: 고재처리 | C17: kg | D17: 120 | F17: =TRUNC(E17*D17, 0) -> 0 | H17: =TRUNC(G17*D17, 0) -> 0 | J17: =TRUNC(I17*D17, 0) -> 0 | K17: =TRUNC(E17+G17+I17, 0) -> 0 | L17: =TRUNC(F17+H17+J17, 0) -> 0
A18: [ 소 계 ] | F18: =SUM(F7:F17) -> 0 | H18: =SUM(H7:H17) -> 0 | J18: =TRUNC(I18*D18, 0) -> 0 | L18: =SUM(L7:L17) -> 0
J19: =TRUNC(I19*D19, 0) -> 0
A20: 02 수장공사
A21: 디럭스타일 붙이기 | B21: THK 3m/m | C21: M2 | D21: 23 | F21: =TRUNC(E21*D21, 0) -> 0 | H21: =TRUNC(G21*D21, 0) -> 0 | J21: =TRUNC(I21*D21, 0) -> 0 | K21: =TRUNC(E21+G21+I21, 0) -> 0 | L21: =TRUNC(F21+H21+J21, 0) -> 0
A22: 불연천장재 | B22: 암면, 300*600 | C22: M2 | D22: 307 | F22: =TRUNC(E22*D22, 0) -> 0 | H22: =TRUNC(G22*D22, 0) -> 0 | J22: =TRUNC(I22*D22, 0) -> 0 | K22: =TRUNC(E22+G22+I22, 0) -> 0 | L22: =TRUNC(F22+H22+J22, 0) -> 0
A23: 벽지 붙이기 | B23: 실크 | C23: M2 | D23: 173 | F23: =TRUNC(E23*D23, 0) -> 0 | H23: =TRUNC(G23*D23, 0) -> 0 | J23: =TRUNC(I23*D23, 0) -> 0 | K23: =TRUNC(E23+G23+I23, 0) -> 0 | L23: =TRUNC(F23+H23+J23, 0) -> 0
A24: 천장지 붙이기 | C24: M2 | D24: 42 | F24: =TRUNC(E24*D24, 0) -> 0 | H24: =TRUNC(G24*D24, 0) -> 0 | J24: =TRUNC(I24*D24, 0) -> 0 | K24: =TRUNC(E24+G24+I24, 0) -> 0 | L24: =TRUNC(F24+H24+J24, 0) -> 0
A25: 비닐시트 설치 | B25: 경보행용 | C25: M2 | D25: 60 | F25: =TRUNC(E25*D25, 0) -> 0 | H25: =TRUNC(G25*D25, 0) -> 0 | J25: =TRUNC(I25*D25, 0) -> 0 | K25: =TRUNC(E25+G25+I25, 0) -> 0 | L25: =TRUNC(F25+H25+J25, 0) -> 0
A26: 비닐시트 설치 | B26: 중보행용 | C26: M2 | D26: 60 | F26: =TRUNC(E26*D26, 0) -> 0 | H26: =TRUNC(G26*D26, 0) -> 0 | J26: =TRUNC(I26*D26, 0) -> 0 | K26: =TRUNC(E26+G26+I26, 0) -> 0 | L26: =TRUNC(F26+H26+J26, 0) -> 0
A27: [ 소 계 ] | F27: =SUM(F21:F26) -> 0 | H27: =SUM(H21:H26) -> 0 | J27: =SUM(J21:J26) -> 0 | L27: =SUM(L21:L26) -> 0
A29: 03 금속 및 마감공사
A30: 천장틀 설치 | C30: M2 | D30: 88 | F30: =TRUNC(E30*D30, 0) -> 0 | H30: =TRUNC(G30*D30, 0) -> 0 | J30: =TRUNC(I30*D30, 0) -> 0 | K30: =TRUNC(E30+G30+I30, 0) -> 0 | L30: =TRUNC(F30+H30+J30, 0) -> 0
A31: 철재문 설치 | B31: 문틀포함 | C31: EA | D31: 2 | F31: =TRUNC(E31*D31, 0) -> 0 | H31: =TRUNC(G31*D31, 0) -> 0 | J31: =TRUNC(I31*D31, 0) -> 0 | K31: =TRUNC(E31+G31+I31, 0) -> 0 | L31: =TRUNC(F31+H31+J31, 0) -> 0
A32: 건식벽체 | B32: 석고보드 2겹 | C32: M2 | D32: 5 | F32: =TRUNC(E32*D32, 0) -> 0 | H32: =TRUNC(G32*D32, 0) -> 0 | J32: =TRUNC(I32*D32, 0) -> 0 | K32: =TRUNC(E32+G32+I32, 0) -> 0 | L32: =TRUNC(F32+H32+J32, 0) -> 0
A33: 벽돌설치 | B33: 1.5B | C33: M2 | D33: 6 | F33: =TRUNC(E33*D33, 0) -> 0 | H33: =TRUNC(G33*D33, 0) -> 0 | J33: =TRUNC(I33*D33, 0) -> 0 | K33: =TRUNC(E33+G33+I33, 0) -> 0 | L33: =TRUNC(F33+H33+J33, 0) -> 0
A34: 타일설치 | C34: M2 | D34: 6 | F34: =TRUNC(E34*D34, 0) -> 0 | H34: =TRUNC(G34*D34, 0) -> 0 | J34: =TRUNC(I34*D34, 0) -> 0 | K34: =TRUNC(E34+G34+I34, 0) -> 0 | L34: =TRUNC(F34+H34+J34, 0) -> 0
A35: 미장 | C35: M2 | D35: 6 | F35: =TRUNC(E35*D35, 0) -> 0 | H35: =TRUNC(G35*D35, 0) -> 0 | J35: =TRUNC(I35*D35, 0) -> 0 | K35: =TRUNC(E35+G35+I35, 0) -> 0 | L35: =TRUNC(F35+H35+J35, 0) -> 0
A36: 도어록 | C36: EA | D36: 2 | F36: =TRUNC(E36*D36, 0) -> 0 | H36: =TRUNC(G36*D36, 0) -> 0 | J36: =TRUNC(I36*D36, 0) -> 0 | K36: =TRUNC(E36+G36+I36, 0) -> 0 | L36: =TRUNC(F36+H36+J36, 0) -> 0
A37: 도어체크 | C37: EA | D37: 2 | F37: =TRUNC(E37*D37, 0) -> 0 | H37: =TRUNC(G37*D37, 0) -> 0 | J37: =TRUNC(I37*D37, 0) -> 0 | K37: =TRUNC(E37+G37+I37, 0) -> 0 | L37: =TRUNC(F37+H37+J37, 0) -> 0
A38: 피보트힌지 | C38: EA | D38: 2 | F38: =TRUNC(E38*D38, 0) -> 0 | H38: =TRUNC(G38*D38, 0) -> 0 | J38: =TRUNC(I38*D38, 0) -> 0 | K38: =TRUNC(E38+G38+I38, 0) -> 0 | L38: =TRUNC(F38+H38+J38, 0) -> 0
A39: [ 소 계 ] | F39: =SUM(F30:F38) -> 0 | H39: =SUM(H30:H38) -> 0 | J39: =SUM(J30:J38) -> 0 | K39: =TRUNC(E39+G39+I39, 0) -> 0 | L39: =TRUNC(F39+H39+J39, 0) -> 0
K40: =TRUNC(E40+G40+I40, 0) -> 0
A41: [ 합 계 ] | F41: =F18+F27+F39 -> 0 | H41: =H18+H27+H39 -> 0 | J41: =J18+J27+J39 -> 0 | L41: =TRUNC(F41+H41+J41, 0) -> 0
A42: 04 폐기물처리
A43: 건설폐기물 운반, 처리비 | B43: 폐목재, 합성수지, 벽지 | C43: ton | D43: 3 | F43: =TRUNC(E43*D43, 0) -> 0 | H43: =TRUNC(G43*D43, 0) -> 0 | J43: =TRUNC(I43*D43, 0) -> 0 | K43: =TRUNC(E43+G43+I43, 0) -> 0 | L43: =TRUNC(F43+H43+J43, 0) -> 0
A44: [ 소 계 ] | F44: =SUM(F43:F43) -> 0 | H44: =SUM(H43:H43) -> 0 | J44: =SUM(J43:J43) -> 0 | K44: =TRUNC(E44+G44+I44, 0) -> 0 | L44: =TRUNC(F44+H44+J44, 0) -> 0
K45: =TRUNC(E45+G45+I45, 0) -> 0
A46: [ 합 계 ] | J46: =J44 -> 0 | L46: =TRUNC(F46+H46+J46, 0) -> 0
