Workbook

Sheet 원가계산서
A1: 공 사 원 가 계 산 서
A2: 공사명 : 서울마천동우체국 365자동화코너 리모델링(건축)
A3: 비 목 | D3: 합 계 | E3: 금 액 | F3: 기 계 설 비 | G3: 부대토목 | H3: 구 성 비 | M3: 비 고
B4: 재 | C4: 직 접 재 료 비 | D4: =SUM(E4:G4) -> 1530227984 | E4: =공종별집계표!F27 -> 0 | F4: 1359095070 | G4: 171132914
B5: 료 | C5: 간 접 재 료 비 | D5: =SUM(E5:G5) -> 0 | E5: 0 | F5: 0 | G5: 0
B6: 비 | C6: 작업설 ,부산물등(△) | D6: =SUM(E6:G6) -> 0 | E6: 0 | F6: 0 | G6: 0
A7: 순 | C7: [ 소 계 ] | D7: =SUM(E7:G7) -> 1530227984 | E7: =E4+E5-E6 -> 0 | F7: =F4+F5-F6 -> 1359095070 | G7: =G4+G5-G6 -> 171132914
B8: 노 | C8: 직 접 노 무 비 | D8: =SUM(E8:G8) -> 799109512 | E8: =공종별집계표!H27 -> 0 | F8: 662762469 | G8: 136347043
B9: 무 | C9: 간 접 노 무 비 | D9: =SUM(E9:G9) -> 76714513 | E9: =TRUNC(E8*J9) -> 0 | F9: =TRUNC(F8*J9) -> 63625197 | G9: =TRUNC(G8*J9) -> 13089316 | H9: 직접노무비 | I9: × | J9: 0.096 | M9: 최대 9.6% 적용가능
A10: 공 | B10: 비 | C10: [ 소 계 ] | D10: =SUM(E10:G10) -> 875824025 | E10: =SUM(E8:E9) -> 0 | F10: =SUM(F8:F9) -> 726387666 | G10: =SUM(G8:G9) -> 149436359
C11: 기 계 경 비 | D11: =SUM(E11:G11) -> 7215903 | E11: =공종별집계표!J27 -> 0 | F11: 4771179 | G11: 2444724
C12: 운 반 비 | D12: =SUM(E12:G12) -> 0 | E12: 0 | F12: 0 | G12: 0
A13: 사 | C13: 산 재 보 험 료 | D13: =SUM(E13:G13) -> 33281312 | E13: =TRUNC(E10*J13) -> 0 | F13: =TRUNC(F10*J13) -> 27602731 | G13: =TRUNC(G10*J13) -> 5678581 | H13: 노무비 | I13: × | J13: 0.038 | M13: 필수항목 / 고정비율
B14: 경 | C14: 고 용 보 험 료 | D14: =SUM(E14:G14) -> 7619668 | E14: =TRUNC(E10*J14) -> 0 | F14: =TRUNC(F10*J14) -> 6319572 | G14: =TRUNC(G10*J14) -> 1300096 | H14: 노무비 | I14: × | J14: 0.0087 | M14: 필수항목 / 고정비율
C15: 건 강 보 험 료 | D15: =SUM(E15:G15) -> 0 | E15: =TRUNC(E8*J15) -> 0 | F15: =TRUNC(F8*J15) -> 0 | G15: =TRUNC(G8*J15) -> 0 | H15: 직접노무비 | I15: × | J15: 0 | M15: 적용안함
C16: 연 금 보 험 료 | D16: =SUM(E16:G16) -> 0 | E16: =TRUNC(E8*J16) -> 0 | F16: =TRUNC(F8*J16) -> 0 | G16: =TRUNC(G8*J16) -> 0 | H16: 직접노무비 | I16: × | J16: 0 | M16: 적용안함
A17: 원 | C17: 노인장기요양 보험료 | E17: =TRUNC(E15*J17) -> 0 | H17: 건강보험료 | I17: × | J17: 0.0655 | M17: 적용안함
C18: 퇴 직 공 제 부 금 비 | D18: =SUM(E18:G18) -> 18379517 | E18: =TRUNC(E8*J18)*0 -> 0 | F18: =TRUNC(F8*J18) -> 15243536 | G18: =TRUNC(G8*J18) -> 3135981 | H18: 직접노무비 | I18: × | J18: 0.023 | M18: 적용안함
C19: 안 전 관 리 비 | D19: =SUM(E19:G19) -> 68249587 | F19: =TRUNC((F7+F8)*J19)+L19 -> 59240425 | G19: =TRUNC((G7+G8)*J19)+L19 -> 9009162 | H19: (재료+직노+도.관/1.1) | I19: × | J19: 0.0293 | K19: + | L19: 0 | M19: 적용안함
A20: 가 | B20: 비 | C20: 기 타 경 비 | D20: =SUM(E20:G20) -> 72903374 | E20: =TRUNC((E7+E10)*J20) -> 0 | F20: =TRUNC((F7+F10)*J20) -> 63190126 | G20: =TRUNC((G7+G10)*J20) -> 9713248 | H20: (재료비+노무비) | I20: × | J20: 0.0303 | M20: 최대 3.03% 적용가능
C21: 환 경 보 존 비 | D21: =SUM(E21:G21) -> 7009660 | E21: =TRUNC((E7+E8+E11)*J21) -> 0 | F21: =TRUNC((F7+F8+F11+F12)*J21) -> 6079886 | G21: =TRUNC((G7+G8+G11+G12)*J21) -> 929774 | H21: (재+직노+기계경비) | I21: × | J21: 0.003 | M21: 필수항목 / 고정비율
C22: 하도급대금지급보증서수수료 | D22: =SUM(E22:G22) -> 0 | E22: =TRUNC((E7+E8+E11)*J22) -> 0 | F22: =TRUNC((F7+F8+F11+F12)*J22) -> 0 | G22: =TRUNC((G7+G8+G11+G12)*J22) -> 0 | H22: (재+직노+기계경비) | I22: × | J22: 0 | M22: 적용안함
C23: 건설기계대여대금지급보증서수수료 | E23: =TRUNC((E7+E8+E11)*J23) -> 0 | H23: (재+직노+기계경비) | I23: × | J23: 0 | M23: 적용안함
C24: [ 소 계 ] | D24: =SUM(E24:G24) -> 214659021 | E24: =SUM(E11:E23) -> 0 | F24: =SUM(F11:F22) -> 182447455 | G24: =SUM(G11:G22) -> 32211566
A25: 계 | D25: =SUM(E25:G25) -> 2620711030 | E25: =E7+E10+E24 -> 0 | F25: =F7+F10+F24 -> 2267930191 | G25: =G7+G10+G24 -> 352780839
A26: 일 반 관 리 비 | D26: =SUM(E26:G26) -> 157242661 | E26: =TRUNC(E25*J26) -> 0 | F26: =TRUNC(F25*J26) -> 136075811 | G26: =TRUNC(G25*J26) -> 21166850 | H26: 계 | I26: × | J26: 0.06 | M26: 최대 9.6% 적용가능
A27: 이 윤 | D27: =SUM(E27:G27) -> 131135970 | E27: =TRUNC((E10+E24+E26)*J27) -> 0 | F27: =TRUNC((F10+F24+F26)*J27) -> 109820138 | G27: =TRUNC((G10+G24+G26)*J27) -> 21315832 | H27: (노무비+경비+일관) | I27: × | J27: 0.1051 | M27: 최대 10.51% 적용가능
A28: 폐 기 물 처 리 비
A29: 공 급 가 액 | D29: =SUM(E29:G29) -> 2909089661 | E29: =SUM(E25:E28) -> 0 | F29: =SUM(F25:F27) -> 2513826140 | G29: =SUM(G25:G27) -> 395263521
A30: 부 가 가 치 세 | D30: =SUM(E30:G30) -> #REF! | E30: =TRUNC(E29*J30) -> 0 | F30: =TRUNC((F29+#REF!)*J30) -> #REF! | G30: =TRUNC((G29+#REF!)*J30) -> #REF! | H30: 공급가액 | I30: × | J30: 0.1
A31: 도 급 액 | D31: =SUM(E31:G31) -> #REF! | E31: =SUM(E29:E30) -> 0 | F31: =SUM(F29:F30) -> #REF! | G31: =SUM(G29:G30) -> #REF!
A32: 관 급 자 재 비 / 도 급 자 | E32: 0
A33: 관 급 자 재 비 / 관 급 자 | E33: 0
A34: 폐 기 물 처 리 비 | E34: =공종별집계표!L25 -> 0
A35: 시 설 분 담 금 | E35: 0
A36: 총 공 사 비 | D36: =SUM(D31:D31)-10786 -> #REF! | E36: =ROUNDDOWN(SUM(E31:E35),-3) -> 0 | F36: =SUM(F31:F31)-1910 -> #REF! | G36: =SUM(G31:G31)-1815 -> #REF!

Sheet 공종별집계표
A1: 공 종 별 집 계 표
A2: [ 서울마천동우체국 365자동화코너 리모델링(건축)]
A3: 품 명 | B3: 규 격 | C3: 단위 | D3: 수량 | E3: 재 료 비 | G3: 노 무 비 | I3: 경 비 | K3: 합 계 | M3: 비 고 | N3: 공종코드 | O3: 변수 | P3: 상위공종 | Q3: 공종구분 | R3: 공종레벨 | S3: 공종소계 | T3: 원가계산서 연결금액
E4: 단 가 | F4: 금 액 | G4: 단 가 | H4: 금 액 | I4: 단 가 | J4: 금 액 | K4: 단 가 | L4: 금 액
A5: 01 서울마천동,삼전동365자동화코너개보수공사 | D5: 1 | E5: =F6 -> 0 | F5: =E5*D5 -> 0 | G5: =H6 -> 0 | H5: =G5*D5 -> 0 | I5: =J6 -> 0 | J5: =I5*D5 -> 0 | K5: =E5+G5+I5 -> 0 | L5: =F5+H5+J5 -> 0 | N5: 01 | R5: 1
A6: 0101 건축공사 | D6: 1 | E6: =F7+F8+F9+F10+F11+F12+F13+F14+F15+F16+F17+F18+F19+F20+F21+F22+F23+F24 -> 0 | F6: =E6*D6 -> 0 | G6: =H7+H8+H9+H10+H11+H12+H13+H14+H15+H16+H17+H18+H19+H20+H21+H22+H23+H24 -> 0 | H6: =G6*D6 -> 0 | I6: =J7+J8+J9+J10+J11+J12+J13+J14+J15+J16+J17+J18+J19+J20+J21+J22+J23+J24 -> 0 | J6: =I6*D6 -> 0 | K6: =E6+G6+I6 -> 0 | L6: =F6+H6+J6 -> 0 | N6: 0101 | P6: 01 | R6: 2
A7: 010101 가 설 공 사 | D7: 1 | E7: =공종별내역서!F9 -> 0 | F7: =E7*D7 -> 0 | G7: =공종별내역서!H9 -> 0 | H7: =G7*D7 -> 0 | I7: =공종별내역서!J9 -> 0 | J7: =I7*D7 -> 0 | K7: =E7+G7+I7 -> 0 | L7: =F7+H7+J7 -> 0 | N7: 010101 | P7: 0101 | R7: 3
A8: 010102 철근콘크리트공사 | D8: 1 | E8: =공종별내역서!F13 -> 0 | F8: =E8*D8 -> 0 | G8: =공종별내역서!H13 -> 0 | H8: =G8*D8 -> 0 | I8: =공종별내역서!J13 -> 0 | J8: =I8*D8 -> 0 | K8: =E8+G8+I8 -> 0 | L8: =F8+H8+J8 -> 0 | N8: 010102 | P8: 0101 | R8: 3
A9: 010103 조 적 공 사 | D9: 1 | E9: =공종별내역서!F22 -> 0 | F9: =E9*D9 -> 0 | G9: =공종별내역서!H22 -> 0 | H9: =G9*D9 -> 0 | I9: =공종별내역서!J22 -> 0 | J9: =I9*D9 -> 0 | K9: =E9+G9+I9 -> 0 | L9: =F9+H9+J9 -> 0 | N9: 010103 | P9: 0101 | R9: 3
A10: 010104 돌 공 사 | D10: 1 | E10: =공종별내역서!F27 -> 0 | F10: =E10*D10 -> 0 | G10: =공종별내역서!H27 -> 0 | H10: =G10*D10 -> 0 | I10: =공종별내역서!J27 -> 0 | J10: =I10*D10 -> 0 | K10: =E10+G10+I10 -> 0 | L10: =F10+H10+J10 -> 0 | N10: 010104 | P10: 0101 | R10: 3
A11: 010105 목 공 사 | D11: 1 | E11: =공종별내역서!F33 -> 0 | F11: =E11*D11 -> 0 | G11: =공종별내역서!H33 -> 0 | H11: =G11*D11 -> 0 | I11: =공종별내역서!J33 -> 0 | J11: =I11*D11 -> 0 | K11: =E11+G11+I11 -> 0 | L11: =F11+H11+J11 -> 0 | N11: 010105 | P11: 0101 | R11: 3
A12: 010106 방 수 공 사 | D12: 1 | E12: =공종별내역서!F38 -> 0 | F12: =E12*D12 -> 0 | G12: =공종별내역서!H38 -> 0 | H12: =G12*D12 -> 0 | I12: =공종별내역서!J38 -> 0 | J12: =I12*D12 -> 0 | K12: =E12+G12+I12 -> 0 | L12: =F12+H12+J12 -> 0 | N12: 010106 | P12: 0101 | R12: 3
A13: 010107 금 속 공 사 | D13: 1 | E13: =공종별내역서!F46 -> 0 | F13: =E13*D13 -> 0 | G13: =공종별내역서!H46 -> 0 | H13: =G13*D13 -> 0 | I13: =공종별내역서!J46 -> 0 | J13: =I13*D13 -> 0 | K13: =E13+G13+I13 -> 0 | L13: =F13+H13+J13 -> 0 | N13: 010107 | P13: 0101 | R13: 3
A14: 010108 미 장 공 사 | D14: 1 | E14: =공종별내역서!F50 -> 0 | F14: =E14*D14 -> 0 | G14: =공종별내역서!H50 -> 0 | H14: =G14*D14 -> 0 | I14: =공종별내역서!J50 -> 0 | J14: =I14*D14 -> 0 | K14: =E14+G14+I14 -> 0 | L14: =F14+H14+J14 -> 0 | N14: 010108 | P14: 0101 | R14: 3
A15: 010109 창 호 공 사 | D15: 1 | E15: =공종별내역서!F67 -> 0 | F15: =E15*D15 -> 0 | G15: =공종별내역서!H67 -> 0 | H15: =G15*D15 -> 0 | I15: =공종별내역서!J67 -> 0 | J15: =I15*D15 -> 0 | K15: =E15+G15+I15 -> 0 | L15: =F15+H15+J15 -> 0 | N15: 010109 | P15: 0101 | R15: 3
A16: 010110 유 리 공 사 | D16: 1 | E16: =공종별내역서!F74 -> 0 | F16: =E16*D16 -> 0 | G16: =공종별내역서!H74 -> 0 | H16: =G16*D16 -> 0 | I16: =공종별내역서!J74 -> 0 | J16: =I16*D16 -> 0 | K16: =E16+G16+I16 -> 0 | L16: =F16+H16+J16 -> 0 | N16: 010110 | P16: 0101 | R16: 3
A17: 010111 칠 공 사 | D17: 1 | E17: =공종별내역서!F78 -> 0 | F17: =E17*D17 -> 0 | G17: =공종별내역서!H78 -> 0 | H17: =G17*D17 -> 0 | I17: =공종별내역서!J78 -> 0 | J17: =I17*D17 -> 0 | K17: =E17+G17+I17 -> 0 | L17: =F17+H17+J17 -> 0 | N17: 010111 | P17: 0101 | R17: 3
A18: 010112 수 장 공 사 | D18: 1 | E18: =공종별내역서!F83 -> 0 | F18: =E18*D18 -> 0 | G18: =공종별내역서!H83 -> 0 | H18: =G18*D18 -> 0 | I18: =공종별내역서!J83 -> 0 | J18: =I18*D18 -> 0 | K18: =E18+G18+I18 -> 0 | L18: =F18+H18+J18 -> 0 | N18: 010112 | P18: 0101 | R18: 3
A19: 010113 기 타 공 사 | D19: 1 | E19: =공종별내역서!F87 -> 0 | F19: =E19*D19 -> 0 | G19: =공종별내역서!H87 -> 0 | H19: =G19*D19 -> 0 | I19: =공종별내역서!J87 -> 0 | J19: =I19*D19 -> 0 | K19: =E19+G19+I19 -> 0 | L19: =F19+H19+J19 -> 0 | N19: 010113 | P19: 0101 | R19: 3
A20: 010114 냉난방기 공 사 | D20: 1 | E20: =공종별내역서!F97 -> 0 | F20: =E20*D20 -> 0 | G20: =공종별내역서!H97 -> 0 | H20: =G20*D20 -> 0 | I20: =공종별내역서!J97 -> 0 | J20: =I20*D20 -> 0 | K20: =E20+G20+I20 -> 0 | L20: =F20+H20+J20 -> 0 | N20: 010114 | P20: 0101 | R20: 3
A21: 010115 사 인 물 공 사 | D21: 1 | E21: =공종별내역서!F119 -> 0 | F21: =E21*D21 -> 0 | G21: =공종별내역서!H119 -> 0 | H21: =G21*D21 -> 0 | I21: =공종별내역서!J119 -> 0 | J21: =I21*D21 -> 0 | K21: =E21+G21+I21 -> 0 | L21: =F21+H21+J21 -> 0 | N21: 010115 | P21: 0101 | R21: 3
A22: 010116 철 거 공 사 | D22: 1 | E22: =공종별내역서!F132 -> 0 | F22: =E22*D22 -> 0 | G22: =공종별내역서!H132 -> 0 | H22: =G22*D22 -> 0 | I22: =공종별내역서!J132 -> 0 | J22: =I22*D22 -> 0 | K22: =E22+G22+I22 -> 0 | L22: =F22+H22+J22 -> 0 | N22: 010116 | P22: 0101 | R22: 3
A23: 010117 부 대 공 사 | D23: 1 | E23: =공종별내역서!F139 -> 0 | F23: =E23*D23 -> 0 | G23: =공종별내역서!H139 -> 0 | H23: =G23*D23 -> 0 | I23: =공종별내역서!J139 -> 0 | J23: =I23*D23 -> 0 | K23: =E23+G23+I23 -> 0 | L23: =F23+H23+J23 -> 0 | N23: 010117 | P23: 0101 | R23: 3
A24: 010118 골재 및 운반비 | D24: 1 | E24: =공종별내역서!F146 -> 0 | F24: =E24*D24 -> 0 | G24: =공종별내역서!H146 -> 0 | H24: =G24*D24 -> 0 | I24: =공종별내역서!J146 -> 0 | J24: =I24*D24 -> 0 | K24: =E24+G24+I24 -> 0 | L24: =F24+H24+J24 -> 0 | N24: 010118 | P24: 0101 | R24: 3 | S24: <
A25: 010119 폐기물 처리비 | D25: 1 | E25: =공종별내역서!F152 -> 0 | F25: =E25*D25 -> 0 | G25: =공종별내역서!H152 -> 0 | H25: =G25*D25 -> 0 | I25: =공종별내역서!J152 -> 0 | J25: =I25*D25 -> 0 | K25: =E25+G25+I25 -> 0 | L25: =F25+H25+J25 -> 0 | N25: 010119 | Q25: 6 | R25: 3 | T25: =L25*1 -> 0
A27: [ 합 계 ] | F27: =F5 -> 0 | H27: =H5 -> 0 | J27: =J5 -> 0 | L27: =L5 -> 0

Sheet 공종별내역서
A1: [서울마천동우체국 365자동화코너 리모델링(건축)]
A2: 품 명 | B2: 규 격 | C2: 단위 | D2: 수량 | E2: 재 료 비 | G2: 노 무 비 | I2: 경 비 | K2: 합 계 | M2: 비 고 | N2: 품목코드 | O2: 변수 | P2: 설정 | Q2: 공종코드 | R2: 일위 | S2: 단산 | T2: 자재 | U2: 손료적용 | V2: 손료저장 | W2: 적용율 | X2: JUK1 | Y2: JUK2 | Z2: JUK3 | AA2: JUK4 | AB2: JUK5 | AC2: JUK6 | AD2: JUK7 | AE2: JUK8 | AF2: JUK9 | AG2: JUK10 | AH2: JUK11 | AI2: JUK12 | AJ2: JUK13 | AK2: JUK14 | AL2: JUK15 | AM2: JUK16 | AN2: JUK17 | AO2: JUK18 | AP2: JUK19 | AQ2: JUK20 | AR2: 자재구분 | AS2: 공종구분 | AT2: 공종레벨 | AU2: 공종+자재 | AV2: 고유번호
E3: 단 가 | F3: 금 액 | G3: 단 가 | H3: 금 액 | I3: 단 가 | J3: 금 액 | K3: 단 가 | L3: 금 액
A4: 010101 가 설 공 사 | Q4: 010101
A5: 가설칸막이 설치 | B5: 내부, 합판+틀포함 | C5: M2 | D5: 22 | F5: =TRUNC(E5*D5,0) -> 0 | H5: =TRUNC(G5*D5,0) -> 0 | J5: =TRUNC(I5*D5,0) -> 0 | K5: =TRUNC(E5+G5+I5,0) -> 0 | L5: =TRUNC(F5+H5+J5,0) -> 0 | N5: 463983D4499D7E7B7E59EBDC99C17 | Q5: 010101 | R5: T | S5: F | T5: F | AU5: 010101463983D4499D7E7B7E59EBDC99C17 | AV5: 6
A6: 이동식강관말비계 | B6: 1단(2m), 3개월 | C6: 대 | D6: 1 | F6: =TRUNC(E6*D6,0) -> 0 | H6: =TRUNC(G6*D6,0) -> 0 | J6: =TRUNC(I6*D6,0) -> 0 | K6: =TRUNC(E6+G6+I6,0) -> 0 | L6: =TRUNC(F6+H6+J6,0) -> 0 | N6: 463983D1F4B670DB96B98D6715367 | Q6: 010101 | R6: T | S6: F | T6: F | AU6: 010101463983D1F4B670DB96B98D6715367 | AV6: 4
A7: 먹매김 | B7: 개보수 | C7: M2 | D7: 9 | F7: =TRUNC(E7*D7,0) -> 0 | H7: =TRUNC(G7*D7,0) -> 0 | J7: =TRUNC(I7*D7,0) -> 0 | K7: =TRUNC(E7+G7+I7,0) -> 0 | L7: =TRUNC(F7+H7+J7,0) -> 0 | N7: 463983D4499D7E4E3099C05FE2487 | Q7: 010101 | R7: T | S7: F | T7: F | AU7: 010101463983D4499D7E4E3099C05FE2487 | AV7: 20
A8: 건축물현장정리 | B8: 개보수 | C8: M2 | D8: 9 | F8: =TRUNC(E8*D8,0) -> 0 | H8: =TRUNC(G8*D8,0) -> 0 | J8: =TRUNC(I8*D8,0) -> 0 | K8: =TRUNC(E8+G8+I8,0) -> 0 | L8: =TRUNC(F8+H8+J8,0) -> 0 | N8: 463983D44AA272923DF9A30CBAFA7 | Q8: 010101 | R8: T | S8: F | T8: F | AU8: 010101463983D44AA272923DF9A30CBAFA7 | AV8: 5
A9: [ 합 계 ] | F9: =SUM(F5:F8) -> 0 | H9: =SUM(H5:H8) -> 0 | J9: =SUM(J5:J8) -> 0 | L9: =SUM(L5:L8) -> 0 | N9: TOTAL
A11: 010102 철근콘크리트공사 | Q11: 010102
A12: 인력비빔 콘크리트 타설 | B12: 무근구조물 | C12: M3 | D12: 1 | F12: =TRUNC(E12*D12,0) -> 0 | H12: =TRUNC(G12*D12,0) -> 0 | J12: =TRUNC(I12*D12,0) -> 0 | K12: =TRUNC(E12+G12+I12,0) -> 0 | L12: =TRUNC(F12+H12+J12,0) -> 0 | N12: 463986024A237421AAE9A5140FBA7 | Q12: 010102 | R12: T | S12: F | T12: F | AU12: 010102463986024A237421AAE9A5140FBA7 | AV12: 8
A13: [ 합 계 ] | F13: =SUM(F12:F12) -> 0 | H13: =SUM(H12:H12) -> 0 | J13: =SUM(J12:J12) -> 0 | L13: =SUM(L12:L12) -> 0 | N13: TOTAL
A15: 010103 조 적 공 사 | Q15: 010103
A16: 미장벽돌 | B16: 190*90*57mm | C16: 매 | D16: 2099 | F16: =TRUNC(E16*D16,0) -> 0 | H16: =TRUNC(G16*D16,0) -> 0 | J16: =TRUNC(I16*D16,0) -> 0 | K16: =TRUNC(E16+G16+I16,0) -> 0 | L16: =TRUNC(F16+H16+J16,0) -> 0 | N16: 411D896AF0887A028CF9FA5F40E27AA8F6B4B | Q16: 010103 | R16: F | S16: F | T16: T | AU16: 010103411D896AF0887A028CF9FA5F40E27AA8F6B4B | AV16: 10
A17: 시멘트벽돌 | B17: 190*90*57mm | C17: 매 | D17: 192 | F17: =TRUNC(E17*D17,0) -> 0 | H17: =TRUNC(G17*D17,0) -> 0 | J17: =TRUNC(I17*D17,0) -> 0 | K17: =TRUNC(E17+G17+I17,0) -> 0 | L17: =TRUNC(F17+H17+J17,0) -> 0 | N17: 411D896AF0887A028CE9D0E180E0753E4C30D | Q17: 010103 | R17: F | S17: F | T17: T | AU17: 010103411D896AF0887A028CE9D0E180E0753E4C30D | AV17: 11
A18: 1.0B 벽돌쌓기 | B18: 3.6m 이하 | C18: 천매 | D18: 0.183 | F18: =TRUNC(E18*D18,0) -> 0 | H18: =TRUNC(G18*D18,0) -> 0 | J18: =TRUNC(I18*D18,0) -> 0 | K18: =TRUNC(E18+G18+I18,0) -> 0 | L18: =TRUNC(F18+H18+J18,0) -> 0 | N18: 463984378BD7758EB5798A3000467 | Q18: 010103 | R18: T | S18: F | T18: F | AU18: 010103463984378BD7758EB5798A3000467 | AV18: 12
A19: 1.0B 치장쌓기(양면 치장) | B19: 3.6m 이하 | C19: 천매 | D19: 2.038 | F19: =TRUNC(E19*D19,0) -> 0 | H19: =TRUNC(G19*D19,0) -> 0 | J19: =TRUNC(I19*D19,0) -> 0 | K19: =TRUNC(E19+G19+I19,0) -> 0 | L19: =TRUNC(F19+H19+J19,0) -> 0 | N19: 463984378BD478638C495D3B41BD7 | Q19: 010103 | R19: T | S19: F | T19: F | AU19: 010103463984378BD478638C495D3B41BD7 | AV19: 13
A20: 벽돌 운반 | B20: 인력, 1층 | C20: 천매 | D20: 2.291 | F20: =TRUNC(E20*D20,0) -> 0 | H20: =TRUNC(G20*D20,0) -> 0 | J20: =TRUNC(I20*D20,0) -> 0 | K20: =TRUNC(E20+G20+I20,0) -> 0 | L20: =TRUNC(F20+H20+J20,0) -> 0 | N20: 4639843789297213D69918075CA47 | Q20: 010103 | R20: T | S20: F | T20: F | AU20: 0101034639843789297213D69918075CA47 | AV20: 14
A21: 철근콘크리트인방 | B21: 200*100 | C21: M | D21: 3 | F21: =TRUNC(E21*D21,0) -> 0 | H21: =TRUNC(G21*D21,0) -> 0 | J21: =TRUNC(I21*D21,0) -> 0 | K21: =TRUNC(E21+G21+I21,0) -> 0 | L21: =TRUNC(F21+H21+J21,0) -> 0 | N21: 46398424AB7F729BBE49B22C34D37 | Q21: 010103 | R21: T | S21: F | T21: F | AU21: 01010346398424AB7F729BBE49B22C34D37 | AV21: 15
A22: [ 합 계 ] | F22: =SUM(F16:F21) -> 0 | H22: =SUM(H16:H21) -> 0 | J22: =SUM(J16:J21) -> 0 | L22: =SUM(L16:L21) -> 0 | N22: TOTAL
A24: 010104 돌 공 사 | Q24: 010104
A25: 화강석붙임(습식, 잔다듬) | B25: 바닥, 포천석 24mm, 모르타르 20mm | C25: M2 | D25: 3 | F25: =TRUNC(E25*D25,0) -> 0 | H25: =TRUNC(G25*D25,0) -> 0 | J25: =TRUNC(I25*D25,0) -> 0 | K25: =TRUNC(E25+G25+I25,0) -> 0 | L25: =TRUNC(F25+H25+J25,0) -> 0 | N25: 46398F233C9E717C6AE97C72437E7 | Q25: 010104 | R25: T | S25: F | T25: F | AU25: 01010446398F233C9E717C6AE97C72437E7 | AV25: 17
A26: 화강석 재료분리대(습식, 잔다듬) | B26: 포천석, 320*24mm, 모르타르 30mm | C26: M | D26: 3 | F26: =TRUNC(E26*D26,0) -> 0 | H26: =TRUNC(G26*D26,0) -> 0 | J26: =TRUNC(I26*D26,0) -> 0 | K26: =TRUNC(E26+G26+I26,0) -> 0 | L26: =TRUNC(F26+H26+J26,0) -> 0 | N26: 46398DD422807F19DFC972770BE27 | Q26: 010104 | R26: T | S26: F | T26: F | AU26: 01010446398DD422807F19DFC972770BE27 | AV26: 18
A27: [ 합 계 ] | F27: =SUM(F25:F26) -> 0 | H27: =SUM(H25:H26) -> 0 | J27: =SUM(J25:J26) -> 0 | L27: =SUM(L25:L26) -> 0 | N27: TOTAL
A29: 010105 목 공 사 | Q29: 010105
A30: 벽, MDF붙임 | B30: 9.0T | C30: M2 | D30: 19 | F30: =TRUNC(E30*D30,0) -> 0 | H30: =TRUNC(G30*D30,0) -> 0 | J30: =TRUNC(I30*D30,0) -> 0 | K30: =TRUNC(E30+G30+I30,0) -> 0 | L30: =TRUNC(F30+H30+J30,0) -> 0 | N30: 46398DD048D67200093941EA3DEC7 | Q30: 010105 | R30: T | S30: F | T30: F | AU30: 01010546398DD048D67200093941EA3DEC7 | AV30: 81
A31: 벽, MDF붙임 | B31: 9.0T+석고보드9.5 | C31: M2 | D31: 11 | F31: =TRUNC(E31*D31,0) -> 0 | H31: =TRUNC(G31*D31,0) -> 0 | J31: =TRUNC(I31*D31,0) -> 0 | K31: =TRUNC(E31+G31+I31,0) -> 0 | L31: =TRUNC(F31+H31+J31,0) -> 0 | N31: 46398DD048D67200093941EA386A7 | Q31: 010105 | R31: T | S31: F | T31: F | AU31: 01010546398DD048D67200093941EA386A7 | AV31: 22
A32: 걸레받이 설치 | B32: H:100, MDF9.0T+세라민페인트 | C32: M | D32: 10 | F32: =TRUNC(E32*D32,0) -> 0 | H32: =TRUNC(G32*D32,0) -> 0 | J32: =TRUNC(I32*D32,0) -> 0 | K32: =TRUNC(E32+G32+I32,0) -> 0 | L32: =TRUNC(F32+H32+J32,0) -> 0 | N32: 46398DD048D67200093941EA37437 | Q32: 010105 | R32: T | S32: F | T32: F | AU32: 01010546398DD048D67200093941EA37437 | AV32: 23
A33: [ 합 계 ] | F33: =SUM(F30:F32) -> 0 | H33: =SUM(H30:H32) -> 0 | J33: =SUM(J30:J32) -> 0 | L33: =SUM(L30:L32) -> 0 | N33: TOTAL
A35: 010106 방 수 공 사 | Q35: 010106
A36: 발수제 도포 | B36: 2회, 조적면 | C36: M2 | D36: 28 | F36: =TRUNC(E36*D36,0) -> 0 | H36: =TRUNC(G36*D36,0) -> 0 | J36: =TRUNC(I36*D36,0) -> 0 | K36: =TRUNC(E36+G36+I36,0) -> 0 | L36: =TRUNC(F36+H36+J36,0) -> 0 | N36: 46398A9B5F63784D75198335B6EF7 | Q36: 010106 | R36: T | S36: F | T36: F | AU36: 01010646398A9B5F63784D75198335B6EF7 | AV36: 25
A37: 수밀코킹(실리콘) | B37: 10mm, 창호주위 | C37: M | D37: 53 | F37: =TRUNC(E37*D37,0) -> 0 | H37: =TRUNC(G37*D37,0) -> 0 | J37: =TRUNC(I37*D37,0) -> 0 | K37: =TRUNC(E37+G37+I37,0) -> 0 | L37: =TRUNC(F37+H37+J37,0) -> 0 | N37: 46398A99AD287F1230B9C800BEBD7 | Q37: 010106 | R37: T | S37: F | T37: F | AU37: 01010646398A99AD287F1230B9C800BEBD7 | AV37: 26
A38: [ 합 계 ] | F38: =SUM(F36:F37) -> 0 | H38: =SUM(H36:H37) -> 0 | J38: =SUM(J36:J37) -> 0 | L38: =SUM(L36:L37) -> 0 | N38: TOTAL
A40: 010107 금 속 공 사 | Q40: 010107
A41: 알루미늄 시트패널 | B41: 평판 T=2 불소수지 | C41: M2 | D41: 2 | F41: =TRUNC(E41*D41,0) -> 0 | H41: =TRUNC(G41*D41,0) -> 0 | J41: =TRUNC(I41*D41,0) -> 0 | K41: =TRUNC(E41+G41+I41,0) -> 0 | L41: =TRUNC(F41+H41+J41,0) -> 0 | N41: 411D896AF6137889B249D029D02E767B10871 | Q41: 010107 | R41: F | S41: F | T41: T | AU41: 010107411D896AF6137889B249D029D02E767B10871 | AV41: 94
A42: 철재칸막이 설치 | B42: 방화12.5+0.5강판,양면, 틀및부자재포함 | C42: M2 | D42: 16 | F42: =TRUNC(E42*D42,0) -> 0 | H42: =TRUNC(G42*D42,0) -> 0 | J42: =TRUNC(I42*D42,0) -> 0 | K42: =TRUNC(E42+G42+I42,0) -> 0 | L42: =TRUNC(F42+H42+J42,0) -> 0 | N42: 4639885C2A967E3163A9A52D446A7 | Q42: 010107 | R42: T | S42: F | T42: F | AU42: 0101074639885C2A967E3163A9A52D446A7 | AV42: 92
A43: 셔터박스 보강틀설치/방범망포함 | B43: 600H, 틀및부자재포함 | C43: M | D43: 1 | F43: =TRUNC(E43*D43,0) -> 0 | H43: =TRUNC(G43*D43,0) -> 0 | J43: =TRUNC(I43*D43,0) -> 0 | K43: =TRUNC(E43+G43+I43,0) -> 0 | L43: =TRUNC(F43+H43+J43,0) -> 0 | N43: 4639885C2A967E3163A9A52CBD987 | Q43: 010107 | R43: T | S43: F | T43: F | AU43: 0101074639885C2A967E3163A9A52CBD987 | AV43: 93
A44: 천장 점검구 설치 | B44: 650*650mm | C44: 개소 | D44: 1 | F44: =TRUNC(E44*D44,0) -> 0 | H44: =TRUNC(G44*D44,0) -> 0 | J44: =TRUNC(I44*D44,0) -> 0 | K44: =TRUNC(E44+G44+I44,0) -> 0 | L44: =TRUNC(F44+H44+J44,0) -> 0 | N44: 46398858B5D57176FF09FEF113DF7 | Q44: 010107 | R44: T | S44: F | T44: F | AU44: 01010746398858B5D57176FF09FEF113DF7 | AV44: 83
A45: AL몰딩설(L형) | B45: 30*30*1.0mm | C45: M | D45: 19 | F45: =TRUNC(E45*D45,0) -> 0 | H45: =TRUNC(G45*D45,0) -> 0 | J45: =TRUNC(I45*D45,0) -> 0 | K45: =TRUNC(E45+G45+I45,0) -> 0 | L45: =TRUNC(F45+H45+J45,0) -> 0 | N45: 46398DDA4ED87ABFE999729A8F637 | Q45: 010107 | R45: T | S45: F | T45: F | AU45: 01010746398DDA4ED87ABFE999729A8F637 | AV45: 82
A46: [ 합 계 ] | F46: =SUM(F41:F45) -> 0 | H46: =SUM(H41:H45) -> 0 | J46: =SUM(J41:J45) -> 0 | L46: =SUM(L41:L45) -> 0 | N46: TOTAL
...
