Workbook

Sheet 원가계산서
A1: 공 사 원 가 계 산 서
A2: 공사명 : 서울마천동우체국 365자동화코너 리모델링(건축)
A3: 비 목 | D3: 합 계 | E3: 금 액 | F3: 기 계 설 비 | G3: 부대토목 | H3: 구 성 비 | M3: 비 고
B4: 재 | C4: 직 접 재 료 비 | D4: =SUM(E4:G4) -> 1530227984 | E4: =공종별집계표!F27 -> 0 | F4: 1359095070 | G4: 171132914
B5: 료 | C5: 간 접 재 료 비 | D5: =SUM(E5:G5) -> 0 | E5: 0 | F5: 0 | G5: 0
B6: 비 | C6: 작업설 ,부산물등(△) | D6: =SUM(E6:G6) -> 0 | E6: 0 | F6: 0 | G6: 0
A7: 순 | C7: [ 소 계 ] | D7: =SUM(E7:G7) -> 1530227984 | E7: =E4+E5-E6 -> 0 | F7: =F4+F5-F6 -> 1359095070 | G7: =G4+G5-G6 -> 171132914
B8: 노 | C8: 직 접 노 무 비 | D8: =SUM(E8:G8) -> 799109512 | E8: =공종별집계표!H27 -> 0 | F8: 662762469 | G8: 136347043
B9: 무 | C9: 간 접 노 무 비 | D9: =SUM(E9:G9) -> 76714513 | E9: =TRUNC(E8*J9) -> 0 | F9: =TRUNC(F8*J9) -> 63625197 | G9: =TRUNC(G8*J9) -> 13089316 | H9: 직접노무비 | I9: × | J9: 0.096 | M9: 최대 9.6% 적용가능
A10: 공 | B10: 비 | C10: [ 소 계 ] | D10: =SUM(E10:G10) -> 875824025 | E10: =SUM(E8:E9) -> 0 | F10: =SUM(F8:F9) -> 726387666 | G10: =SUM(G8:G9) -> 149436359
C11: 기 계 경 비 | D11: =SUM(E11:G11) -> 7215903 | E11: =공종별집계표!J27 -> 0 | F11: 4771179 | G11: 2444724
C12: 운 반 비 | D12: =SUM(E12:G12) -> 0 | E12: 0 | F12: 0 | G12: 0
A13: 사 | C13: 산 재 보 험 료 | D13: =SUM(E13:G13) -> 33281312 | E13: =TRUNC(E10*J13) -> 0 | F13: =TRUNC(F10*J13) -> 27602731 | G13: =TRUNC(G10*J13) -> 5678581 | H13: 노무비 | I13: × | J13: 0.038 | M13: 필수항목 / 고정비율
B14: 경 | C14: 고 용 보 험 료 | D14: =SUM(E14:G14) -> 7619668 | E14: =TRUNC(E10*J14) -> 0 | F14: =TRUNC(F10*J14) -> 6319572 | G14: =TRUNC(G10*J14) -> 1300096 | H14: 노무비 | I14: × | J14: 0.0087 | M14: 필수항목 / 고정비율
C15: 건 강 보 험 료 | D15: =SUM(E15:G15) -> 0 | E15: =TRUNC(E8*J15) -> 0 | F15: =TRUNC(F8*J15) -> 0 | G15: =TRUNC(G8*J15) -> 0 | H15: 직접노무비 | I15: × | J15: 0 | M15: 적용안함
C16: 연 금 보 험 료 | D16: =SUM(E16:G16) -> 0 | E16: =TRUNC(E8*J16) -> 0 | F16: =TRUNC(F8*J16) -> 0 | G16: =TRUNC(G8*J16) -> 0 | H16: 직접노무비 | I16: × | J16: 0 | M16: 적용안함
A17: 원 | C17: 노인장기요양 보험료 | E17: =TRUNC(E15*J17) -> 0 | H17: 건강보험료 | I17: × | J17: 0.0655 | M17: 적용안함
C18: 퇴 직 공 제 부 금 비 | D18: =SUM(E18:G18) -> 18379517 | E18: =TRUNC(E8*J18)*0 -> 0 | F18: =TRUNC(F8*J18) -> 15243536 | G18: =TRUNC(G8*J18) -> 3135981 | H18: 직접노무비 | I18: × | J18: 0.023 | M18: 적용안함
C19: 안 전 관 리 비 | D19: =SUM(E19:G19) -> 68249587 | F19: =TRUNC((F7+F8)*J19)+L19 -> 59240425 | G19: =TRUNC((G7+G8)*J19)+L19 -> 9009162 | H19: (재료+직노+도.관/1.1) | I19: × | J19: 0.0293 | K19: + | L19: 0 | M19: 적용안함
A20: 가 | B20: 비 | C20: 기 타 경 비 | D20: =SUM(E20:G20) -> 72903374 | E20: =TRUNC((E7+E10)*J20) -> 0 | F20: =TRUNC((F7+F10)*J20) -> 63190126 | G20: =TRUNC((G7+G10)*J20) -> 9713248 | H20: (재료비+노무비) | I20: × | J20: 0.0303 | M20: 최대 3.03% 적용가능
C21: 환 경 보 존 비 | D21: =SUM(E21:G21) -> 7009660 | E21: =TRUNC((E7+E8+E11)*J21) -> 0 | F21: =TRUNC((F7+F8+F11+F12)*J21) -> 6079886 | G21: =TRUNC((G7+G8+G11+G12)*J21) -> 929774 | H21: (재+직노+기계경비) | I21: × | J21: 0.003 | M21: 필수항목 / 고정비율
C22: 하도급대금지급보증서수수료 | D22: =SUM(E22:G22) -> 0 | E22: =TRUNC((E7+E8+E11)*J22) -> 0 | F22: =TRUNC((F7+F8+F11+F12)*J22) -> 0 | G22: =TRUNC((G7+G8+G11+G12)*J22) -> 0 | H22: (재+직노+기계경비) | I22: × | J22: 0 | M22: 적용안함
C23: 건설기계대여대금지급보증서수수료 | E23: =TRUNC((E7+E8+E11)*J23) -> 0 | H23: (재+직노+기계경비) | I23: × | J23: 0 | M23: 적용안함
C24: [ 소 계 ] | D24: =SUM(E24:G24) -> 214659021 | E24: =SUM(E11:E23) -> 0 | F24: =SUM(F11:F22) -> 182447455 | G24: =SUM(G11:G22) -> 32211566
A25: 계 | D25: =SUM(E25:G25) -> 2620711030 | E25: =E7+E10+E24 -> 0 | F25: =F7+F10+F24 -> 2267930191 | G25: =G7+G10+G24 -> 352780839
A26: 일 반 관 리 비 | D26: =SUM(E26:G26) -> 157242661 | E26: =TRUNC(E25*J26) -> 0 | F26: =TRUNC(F25*J26) -> 136075811 | G26: =TRUNC(G25*J26) -> 21166850 | H26: 계 | I26: × | J26: 0.06 | M26: 최대 9.6% 적용가능
A27: 이 윤 | D27: =SUM(E27:G27) -> 131135970 | E27: =TRUNC((E10+E24+E26)*J27) -> 0 | F27: =TRUNC((F10+F24+F26)*J27) -> 109820138 | G27: =TRUNC((G10+G24+G26)*J27) -> 21315832 | H27: (노무비+경비+일관) | I27: × | J27: 0.1051 | M27: 최대 10.51% 적용가능
A28: 폐 기 물 처 리 비
A29: 공 급 가 액 | D29: =SUM(E29:G29) -> 2909089661 | E29: =SUM(E25:E28) -> 0 | F29: =SUM(F25:F27) -> 2513826140 | G29: =SUM(G25:G27) -> 395263521
A30: 부 가 가 치 세 | D30: =SUM(E30:G30) -> #REF! | E30: =TRUNC(E29*J30) -> 0 | F30: =TRUNC((F29+#REF!)*J30) -> #REF! | G30: =TRUNC((G29+#REF!)*J30) -> #REF! | H30: 공급가액 | I30: × | J30: 0.1
A31: 도 급 액 | D31: =SUM(E31:G31) -> #REF! | E31: =SUM(E29:E30) -> 0 | F31: =SUM(F29:F30) -> #REF! | G31: =SUM(G29:G30) -> #REF!
A32: 관 급 자 재 비 / 도 급 자 | E32: 0
A33: 관 급 자 재 비 / 관 급 자 | E33: 0
A34: 폐 기 물 처 리 비 | E34: =공종별집계표!L25 -> 0
A35: 시 설 분 담 금 | E35: 0
A36: 총 공 사 비 | D36: =SUM(D31:D31)-10786 -> #REF! | E36: =ROUNDDOWN(SUM(E31:E35),-3) -> 0 | F36: =SUM(F31:F31)-1910 -> #REF! | G36: =SUM(G31:G31)-1815 -> #REF!

Sheet 공종별집계표
A1: 공 종 별 집 계 표
A2: [ 서울마천동우체국 365자동화코너 리모델링(건축)]
A3: 품 명 | B3: 규 격 | C3: 단위 | D3: 수량 | E3: 재 료 비 | G3: 노 무 비 | I3: 경 비 | K3: 합 계 | M3: 비 고 | N3: 공종코드 | O3: 변수 | P3: 상위공종 | Q3: 공종구분 | R3: 공종레벨 | S3: 공종소계 | T3: 원가계산서 연결금액
E4: 단 가 | F4: 금 액 | G4: 단 가 | H4: 금 액 | I4: 단 가 | J4: 금 액 | K4: 단 가 | L4: 금 액
A5: 01 서울마천동,삼전동365자동화코너개보수공사 | D5: 1 | E5: =F6 -> 0 | F5: =E5*D5 -> 0 | G5: =H6 -> 0 | H5: =G5*D5 -> 0 | I5: =J6 -> 0 | J5: =I5*D5 -> 0 | K5: =E5+G5+I5 -> 0 | L5: =F5+H5+J5 -> 0 | N5: 01 | R5: 1
A6: 0101 건축공사 | D6: 1 | E6: =F7+F8+F9+F10+F11+F12+F13+F14+F15+F16+F17+F18+F19+F20+F21+F22+F23+F24 -> 0 | F6: =E6*D6 -> 0 | G6: =H7+H8+H9+H10+H11+H12+H13+H14+H15+H16+H17+H18+H19+H20+H21+H22+H23+H24 -> 0 | H6: =G6*D6 -> 0 | I6: =J7+J8+J9+J10+J11+J12+J13+J14+J15+J16+J17+J18+J19+J20+J21+J22+J23+J24 -> 0 | J6: =I6*D6 -> 0 | K6: =E6+G6+I6 -> 0 | L6: =F6+H6+J6 -> 0 | N6: 0101 | P6: 01 | R6: 2
A7: 010101 가 설 공 사 | D7: 1 | E7: =공종별내역서!F9 -> 0 | F7: =E7*D7 -> 0 | G7: =공종별내역서!H9 -> 0 | H7: =G7*D7 -> 0 | I7: =공종별내역서!J9 -> 0 | J7: =I7*D7 -> 0 | K7: =E7+G7+I7 -> 0 | L7: =F7+H7+J7 -> 0 | N7: 010101 | P7: 0101 | R7: 3
A8: 010102 철근콘크리트공사 | D8: 1 | E8: =공종별내역서!F13 -> 0 | F8: =E8*D8 -> 0 | G8: =공종별내역서!H13 -> 0 | H8: =G8*D8 -> 0 | I8: =공종별내역서!J13 -> 0 | J8: =I8*D8 -> 0 | K8: =E8+G8+I8 -> 0 | L8: =F8+H8+J8 -> 0 | N8: 010102 | P8: 0101 | R8: 3
A9: 010103 조 적 공 사 | D9: 1 | E9: =공종별내역서!F22 -> 0 | F9: =E9*D9 -> 0 | G9: =공종별내역서!H22 -> 0 | H9: =G9*D9 -> 0 | I9: =공종별내역서!J22 -> 0 | J9: =I9*D9 -> 0 | K9: =E9+G9+I9 -> 0 | L9: =F9+H9+J9 -> 0 | N9: 010103 | P9: 0101 | R9: 3
A10: 010104 돌 공 사 | D10: 1 | E10: =공종별내역서!F27 -> 0 | F10: =E10*D10 -> 0 | G10: =공종별내역서!H27 -> 0 | H10: =G10*D10 -> 0 | I10: =공종별내역서!J27 -> 0 | J10: =I10*D10 -> 0 | K10: =E10+G10+I10 -> 0 | L10: =F10+H10+J10 -> 0 | N10: 010104 | P10: 0101 | R10: 3
A11: 010105 목 공 사 | D11: 1 | E11: =공종별내역서!F33 -> 0 | F11: =E11*D11 -> 0 | G11: =공종별내역서!H33 -> 0 | H11: =G11*D11 -> 0 | I11: =공종별내역서!J33 -> 0 | J11: =I11*D11 -> 0 | K11: =E11+G11+I11 -> 0 | L11: =F11+H11+J11 -> 0 | N11: 010105 | P11: 0101 | R11: 3
A12: 010106 방 수 공 사 | D12: 1 | E12: =공종별내역서!F38 -> 0 | F12: =E12*D12 -> 0 | G12: =공종별내역서!H38 -> 0 | H12: =G12*D12 -> 0 | I12: =공종별내역서!J38 -> 0 | J12: =I12*D12 -> 0 | K12: =E12+G12+I12 -> 0 | L12: =F12+H12+J12 -> 0 | N12: 010106 | P12: 0101 | R12: 3
A13: 010107 금 속 공 사 | D13: 1 | E13: =공종별내역서!F46 -> 0 | F13: =E13*D13 -> 0 | G13: =공종별내역서!H46 -> 0 | H13: =G13*D13 -> 0 | I13: =공종별내역서!J46 -> 0 | J13: =I13*D13 -> 0 | K13: =E13+G13+I13 -> 0 | L13: =F13+H13+J13 -> 0 | N13: 010107 | P13: 0101 | R13: 3
A14: 010108 미 장 공 사 | D14: 1 | E14: =공종별내역서!F50 -> 0 | F14: =E14*D14 -> 0 | G14: =공종별내역서!H50 -> 0 | H14: =G14*D14 -> 0 | I14: =공종별내역서!J50 -> 0 | J14: =I14*D14 -> 0 | K14: =E14+G14+I14 -> 0 | L14: =F14+H14+J14 -> 0 | N14: 010108 | P14: 0101 | R14: 3
A15: 010109 창 호 공 사 | D15: 1 | E15: =공종별내역서!F67 -> 0 | F15: =E15*D15 -> 0 | G15: =공종별내역서!H67 -> 0 | H15: =G15*D15 -> 0 | I15: =공종별내역서!J67 -> 0 | J15: =I15*D15 -> 0 | K15: =E15+G15+I15 -> 0 | L15: =F15+H15+J15 -> 0 | N15: 010109 | P15: 0101 | R15: 3
A16: 010110 유 리 공 사 | D16: 1 | E16: =공종별내역서!F74 -> 0 | F16: =E16*D16 -> 0 | G16: =공종별내역서!H74 -> 0 | H16: =G16*D16 -> 0 | I16: =공종별내역서!J74 -> 0 | J16: =I16*D16 -> 0 | K16: =E16+G16+I16 -> 0 | L16: =F16+H16+J16 -> 0 | N16: 010110 | P16: 0101 | R16: 3
A17: 010111 칠 공 사 | D17: 1 | E17: =공종별내역서!F78 -> 0 | F17: =E17*D17 -> 0 | G17: =공종별내역서!H78 -> 0 | H17: =G17*D17 -> 0 | I17: =공종별내역서!J78 -> 0 | J17: =I17*D17 -> 0 | K17: =E17+G17+I17 -> 0 | L17: =F17+H17+J17 -> 0 | N17: 010111 | P17: 0101 | R17: 3
A18: 010112 수 장 공 사 | D18: 1 | E18: =공종별내역서!F83 -> 0 | F18: =E18*D18 -> 0 | G18: =공종별내역서!H83 -> 0 | H18: =G18*D18 -> 0 | I18: =공종별내역서!J83 -> 0 | J18: =I18*D18 -> 0 | K18: =E18+G18+I18 -> 0 | L18: =F18+H18+J18 -> 0 | N18: 010112 | P18: 0101 | R18: 3
A19: 010113 기 타 공 사 | D19: 1 | E19: =공종별내역서!F87 -> 0 | F19: =E19*D19 -> 0 | G19: =공종별내역서!H87 -> 0 | H19: =G19*D19 -> 0 | I19: =공종별내역서!J87 -> 0 | J19: =I19*D19 -> 0 | K19: =E19+G19+I19 -> 0 | L19: =F19+H19+J19 -> 0 | N19: 010113 | P19: 0101 | R19: 3
A20: 010114 냉난방기 공 사 | D20: 1 | E20: =공종별내역서!F97 -> 0 | F20: =E20*D20 -> 0 | G20: =공종별내역서!H97 -> 0 | H20: =G20*D20 -> 0 | I20: =공종별내역서!J97 -> 0 | J20: =I20*D20 -> 0 | K20: =E20+G20+I20 -> 0 | L20: =F20+H20+J20 -> 0 | N20: 010114 | P20: 0101 | R20: 3
A21: 010115 사 인 물 공 사 | D21: 1 | E21: =공종별내역서!F119 -> 0 | F21: =E21*D21 -> 0 | G21: =공종별내역서!H119 -> 0 | H21: =G21*D21 -> 0 | I21: =공종별내역서!J119 -> 0 | J21: =I21*D21 -> 0 | K21: =E21+G21+I21 -> 0 | L21: =F21+H21+J21 -> 0 | N21: 010115 | P21: 0101 | R21: 3
A22: 010116 철 거 공 사 | D22: 1 | E22: =공종별내역서!F132 -> 0 | F22: =E22*D22 -> 0 | G22: =공종별내역서!H132 -> 0 | H22: =G22*D22 -> 0 | I22: =공종별내역서!J132 -> 0 | J22: =I22*D22 -> 0 | K22: =E22+G22+I22 -> 0 | L22: =F22+H22+J22 -> 0 | N22: 010116 | P22: 0101 | R22: 3
A23: 010117 부 대 공 사 | D23: 1 | E23: =공종별내역서!F139 -> 0 | F23: =E23*D23 -> 0 | G23: =공종별내역서!H139 -> 0 | H23: =G23*D23 -> 0 | I23: =공종별내역서!J139 -> 0 | J23: =I23*D23 -> 0 | K23: =E23+G23+I23 -> 0 | L23: =F23+H23+J23 -> 0 | N23: 010117 | P23: 0101 | R23: 3
A24: 010118 골재 및 운반비 | D24: 1 | E24: =공종별내역서!F146 -> 0 | F24: =E24*D24 -> 0 | G24: =공종별내역서!H146 -> 0 | H24: =G24*D24 -> 0 | I24: =공종별내역서!J146 -> 0 | J24: =I24*D24 -> 0 | K24: =E24+G24+I24 -> 0 | L24: =F24+H24+J24 -> 0 | N24: 010118 | P24: 0101 | R24: 3 | S24: <
A25: 010119 폐기물 처리비 | D25: 1 | E25: =공종별내역서!F152 -> 0 | F25: =E25*D25 -> 0 | G25: =공종별내역서!H152 -> 0 | H25: =G25*D25 -> 0 | I25: =공종별내역서!J152 -> 0 | J25: =I25*D25 -> 0 | K25: =E25+G25+I25 -> 0 | L25: =F25+H25+J25 -> 0 | N25: 010119 | Q25: 6 | R25: 3 | T25: =L25*1 -> 0
A27: [ 합 계 ] | F27: =F5 -> 0 | H27: =H5 -> 0 | J27: =J5 -> 0 | L27: =L5 -> 0

Sheet 공종별내역서
A1: [서울마천동우체국 365자동화코너 리모델링(건축)]
A2: 품 명 | B2: 규 격 | C2: 단위 | D2: 수량 | E2: 재 료 비 | G2: 노 무 비 | I2: 경 비 | K2: 합 계 | M2: 비 고 | N2: 품목코드 | O2: 변수 | P2: 설정 | Q2: 공종코드 | R2: 일위 | S2: 단산 | T2: 자재 | U2: 손료적용 | V2: 손료저장 | W2: 적용율 | X2: JUK1 | Y2: JUK2 | Z2: JUK3 | AA2: JUK4 | AB2: JUK5 | AC2: JUK6 | AD2: JUK7 | AE2: JUK8 | AF2: JUK9 | AG2: JUK10 | AH2: JUK11 | AI2: JUK12 | AJ2: JUK13 | AK2: JUK14 | AL2: JUK15 | AM2: JUK16 | AN2: JUK17 | AO2: JUK18 | AP2: JUK19 | AQ2: JUK20 | AR2: 자재구분 | AS2: 공종구분 | AT2: 공종레벨 | AU2: 공종+자재 | AV2: 고유번호
E3: 단 가 | F3: 금 액 | G3: 단 가 | H3: 금 액 | I3: 단 가 | J3: 금 액 | K3: 단 가 | L3: 금 액
A4: 010101 가 설 공 사 | Q4: 010101
A5: 가설칸막이 설치 | B5: 내부, 합판+틀포함 | C5: M2 | D5: 22 | F5: =TRUNC(E5*D5,0) -> 0 | H5: =TRUNC(G5*D5,0) -> 0 | J5: =TRUNC(I5*D5,0) -> 0 | K5: =TRUNC(E5+G5+I5,0) -> 0 | L5: =TRUNC(F5+H5+J5,0) -> 0 | N5: 463983D4499D7E7B7E59EBDC99C17 | Q5: 010101 | R5: T | S5: F | T5: F | AU5: 010101463983D4499D7E7B7E59EBDC99C17 | AV5: 6
A6: 이동식강관말비계 | B6: 1단(2m), 3개월 | C6: 대 | D6: 1 | F6: =TRUNC(E6*D6,0) -> 0 | H6: =TRUNC(G6*D6,0) -> 0 | J6: =TRUNC(I6*D6,0) -> 0 | K6: =TRUNC(E6+G6+I6,0) -> 0 | L6: =TRUNC(F6+H6+J6,0) -> 0 | N6: 463983D1F4B670DB96B98D6715367 | Q6: 010101 | R6: T | S6: F | T6: F | AU6: 010101463983D1F4B670DB96B98D6715367 | AV6: 4
A7: 먹매김 | B7: 개보수 | C7: M2 | D7: 9 | F7: =TRUNC(E7*D7,0) -> 0 | H7: =TRUNC(G7*D7,0) -> 0 | J7: =TRUNC(I7*D7,0) -> 0 | K7: =TRUNC(E7+G7+I7,0) -> 0 | L7: =TRUNC(F7+H7+J7,0) -> 0 | N7: 463983D4499D7E4E3099C05FE2487 | Q7: 010101 | R7: T | S7: F | T7: F | AU7: 010101463983D4499D7E4E3099C05FE2487 | AV7: 20
A8: 건축물현장정리 | B8: 개보수 | C8: M2 | D8: 9 | F8: =TRUNC(E8*D8,0) -> 0 | H8: =TRUNC(G8*D8,0) -> 0 | J8: =TRUNC(I8*D8,0) -> 0 | K8: =TRUNC(E8+G8+I8,0) -> 0 | L8: =TRUNC(F8+H8+J8,0) -> 0 | N8: 463983D44AA272923DF9A30CBAFA7 | Q8: 010101 | R8: T | S8: F | T8: F | AU8: 010101463983D44AA272923DF9A30CBAFA7 | AV8: 5
A9: [ 합 계 ] | F9: =SUM(F5:F8) -> 0 | H9: =SUM(H5:H8) -> 0 | J9: =SUM(J5:J8) -> 0 | L9: =SUM(L5:L8) -> 0 | N9: TOTAL
A11: 010102 철근콘크리트공사 | Q11: 010102
A12: 인력비빔 콘크리트 타설 | B12: 무근구조물 | C12: M3 | D12: 1 | F12: =TRUNC(E12*D12,0) -> 0 | H12: =TRUNC(G12*D12,0) -> 0 | J12: =TRUNC(I12*D12,0) -> 0 | K12: =TRUNC(E12+G12+I12,0) -> 0 | L12: =TRUNC(F12+H12+J12,0) -> 0 | N12: 463986024A237421AAE9A5140FBA7 | Q12: 010102 | R12: T | S12: F | T12: F | AU12: 010102463986024A237421AAE9A5140FBA7 | AV12: 8
A13: [ 합 계 ] | F13: =SUM(F12:F12) -> 0 | H13: =SUM(H12:H12) -> 0 | J13: =SUM(J12:J12) -> 0 | L13: =SUM(L12:L12) -> 0 | N13: TOTAL
A15: 010103 조 적 공 사 | Q15: 010103
A16: 미장벽돌 | B16: 190*90*57mm | C16: 매 | D16: 2099 | F16: =TRUNC(E16*D16,0) -> 0 | H16: =TRUNC(G16*D16,0) -> 0 | J16: =TRUNC(I16*D16,0) -> 0 | K16: =TRUNC(E16+G16+I16,0) -> 0 | L16: =TRUNC(F16+H16+J16,0) -> 0 | N16: 411D896AF0887A028CF9FA5F40E27AA8F6B4B | Q16: 010103 | R16: F | S16: F | T16: T | AU16: 010103411D896AF0887A028CF9FA5F40E27AA8F6B4B | AV16: 10
A17: 시멘트벽돌 | B17: 190*90*57mm | C17: 매 | D17: 192 | F17: =TRUNC(E17*D17,0) -> 0 | H17: =TRUNC(G17*D17,0) -> 0 | J17: =TRUNC(I17*D17,0) -> 0 | K17: =TRUNC(E17+G17+I17,0) -> 0 | L17: =TRUNC(F17+H17+J17,0) -> 0 | N17: 411D896AF0887A028CE9D0E180E0753E4C30D | Q17: 010103 | R17: F | S17: F | T17: T | AU17: 010103411D896AF0887A028CE9D0E180E0753E4C30D | AV17: 11
A18: 1.0B 벽돌쌓기 | B18: 3.6m 이하 | C18: 천매 | D18: 0.183 | F18: =TRUNC(E18*D18,0) -> 0 | H18: =TRUNC(G18*D18,0) -> 0 | J18: =TRUNC(I18*D18,0) -> 0 | K18: =TRUNC(E18+G18+I18,0) -> 0 | L18: =TRUNC(F18+H18+J18,0) -> 0 | N18: 463984378BD7758EB5798A3000467 | Q18: 010103 | R18: T | S18: F | T18: F | AU18: 010103463984378BD7758EB5798A3000467 | AV18: 12
A19: 1.0B 치장쌓기(양면 치장) | B19: 3.6m 이하 | C19: 천매 | D19: 2.038 | F19: =TRUNC(E19*D19,0) -> 0 | H19: =TRUNC(G19*D19,0) -> 0 | J19: =TRUNC(I19*D19,0) -> 0 | K19: =TRUNC(E19+G19+I19,0) -> 0 | L19: =TRUNC(F19+H19+J19,0) -> 0 | N19: 463984378BD478638C495D3B41BD7 | Q19: 010103 | R19: T | S19: F | T19: F | AU19: 010103463984378BD478638C495D3B41BD7 | AV19: 13
A20: 벽돌 운반 | B20: 인력, 1층 | C20: 천매 | D20: 2.291 | F20: =TRUNC(E20*D20,0) -> 0 | H20: =TRUNC(G20*D20,0) -> 0 | J20: =TRUNC(I20*D20,0) -> 0 | K20: =TRUNC(E20+G20+I20,0) -> 0 | L20: =TRUNC(F20+H20+J20,0) -> 0 | N20: 4639843789297213D69918075CA47 | Q20: 010103 | R20: T | S20: F | T20: F | AU20: 0101034639843789297213D69918075CA47 | AV20: 14
A21: 철근콘크리트인방 | B21: 200*100 | C21: M | D21: 3 | F21: =TRUNC(E21*D21,0) -> 0 | H21: =TRUNC(G21*D21,0) -> 0 | J21: =TRUNC(I21*D21,0) -> 0 | K21: =TRUNC(E21+G21+I21,0) -> 0 | L21: =TRUNC(F21+H21+J21,0) -> 0 | N21: 46398424AB7F729BBE49B22C34D37 | Q21: 010103 | R21: T | S21: F | T21: F | AU21: 01010346398424AB7F729BBE49B22C34D37 | AV21: 15
A22: [ 합 계 ] | F22: =SUM(F16:F21) -> 0 | H22: =SUM(H16:H21) -> 0 | J22: =SUM(J16:J21) -> 0 | L22: =SUM(L16:L21) -> 0 | N22: TOTAL
A24: 010104 돌 공 사 | Q24: 010104
A25: 화강석붙임(습식, 잔다듬) | B25: 바닥, 포천석 24mm, 모르타르 20mm | C25: M2 | D25: 3 | F25: =TRUNC(E25*D25,0) -> 0 | H25: =TRUNC(G25*D25,0) -> 0 | J25: =TRUNC(I25*D25,0) -> 0 | K25: =TRUNC(E25+G25+I25,0) -> 0 | L25: =TRUNC(F25+H25+J25,0) -> 0 | N25: 46398F233C9E717C6AE97C72437E7 | Q25: 010104 | R25: T | S25: F | T25: F | AU25: 01010446398F233C9E717C6AE97C72437E7 | AV25: 17
A26: 화강석 재료분리대(습식, 잔다듬) | B26: 포천석, 320*24mm, 모르타르 30mm | C26: M | D26: 3 | F26: =TRUNC(E26*D26,0) -> 0 | H26: =TRUNC(G26*D26,0) -> 0 | J26: =TRUNC(I26*D26,0) -> 0 | K26: =TRUNC(E26+G26+I26,0) -> 0 | L26: =TRUNC(F26+H26+J26,0) -> 0 | N26: 46398DD422807F19DFC972770BE27 | Q26: 010104 | R26: T | S26: F | T26: F | AU26: 01010446398DD422807F19DFC972770BE27 | AV26: 18
A27: [ 합 계 ] | F27: =SUM(F25:F26) -> 0 | H27: =SUM(H25:H26) -> 0 | J27: =SUM(J25:J26) -> 0 | L27: =SUM(L25:L26) -> 0 | N27: TOTAL
A29: 010105 목 공 사 | Q29: 010105
A30: 벽, MDF붙임 | B30: 9.0T | C30: M2 | D30: 19 | F30: =TRUNC(E30*D30,0) -> 0 | H30: =TRUNC(G30*D30,0) -> 0 | J30: =TRUNC(I30*D30,0) -> 0 | K30: =TRUNC(E30+G30+I30,0) -> 0 | L30: =TRUNC(F30+H30+J30,0) -> 0 | N30: 46398DD048D67200093941EA3DEC7 | Q30: 010105 | R30: T | S30: F | T30: F | AU30: 01010546398DD048D67200093941EA3DEC7 | AV30: 81
A31: 벽, MDF붙임 | B31: 9.0T+석고보드9.5 | C31: M2 | D31: 11 | F31: =TRUNC(E31*D31,0) -> 0 | H31: =TRUNC(G31*D31,0) -> 0 | J31: =TRUNC(I31*D31,0) -> 0 | K31: =TRUNC(E31+G31+I31,0) -> 0 | L31: =TRUNC(F31+H31+J31,0) -> 0 | N31: 46398DD048D67200093941EA386A7 | Q31: 010105 | R31: T | S31: F | T31: F | AU31: 01010546398DD048D67200093941EA386A7 | AV31: 22
A32: 걸레받이 설치 | B32: H:100, MDF9.0T+세라민페인트 | C32: M | D32: 10 | F32: =TRUNC(E32*D32,0) -> 0 | H32: =TRUNC(G32*D32,0) -> 0 | J32: =TRUNC(I32*D32,0) -> 0 | K32: =TRUNC(E32+G32+I32,0) -> 0 | L32: =TRUNC(F32+H32+J32,0) -> 0 | N32: 46398DD048D67200093941EA37437 | Q32: 010105 | R32: T | S32: F | T32: F | AU32: 01010546398DD048D67200093941EA37437 | AV32: 23
A33: [ 합 계 ] | F33: =SUM(F30:F32) -> 0 | H33: =SUM(H30:H32) -> 0 | J33: =SUM(J30:J32) -> 0 | L33: =SUM(L30:L32) -> 0 | N33: TOTAL
A35: 010106 방 수 공 사 | Q35: 010106
A36: 발수제 도포 | B36: 2회, 조적면 | C36: M2 | D36: 28 | F36: =TRUNC(E36*D36,0) -> 0 | H36: =TRUNC(G36*D36,0) -> 0 | J36: =TRUNC(I36*D36,0) -> 0 | K36: =TRUNC(E36+G36+I36,0) -> 0 | L36: =TRUNC(F36+H36+J36,0) -> 0 | N36: 46398A9B5F63784D75198335B6EF7 | Q36: 010106 | R36: T | S36: F | T36: F | AU36: 01010646398A9B5F63784D75198335B6EF7 | AV36: 25
A37: 수밀코킹(실리콘) | B37: 10mm, 창호주위 | C37: M | D37: 53 | F37: =TRUNC(E37*D37,0) -> 0 | H37: =TRUNC(G37*D37,0) -> 0 | J37: =TRUNC(I37*D37,0) -> 0 | K37: =TRUNC(E37+G37+I37,0) -> 0 | L37: =TRUNC(F37+H37+J37,0) -> 0 | N37: 46398A99AD287F1230B9C800BEBD7 | Q37: 010106 | R37: T | S37: F | T37: F | AU37: 01010646398A99AD287F1230B9C800BEBD7 | AV37: 26
A38: [ 합 계 ] | F38: =SUM(F36:F37) -> 0 | H38: =SUM(H36:H37) -> 0 | J38: =SUM(J36:J37) -> 0 | L38: =SUM(L36:L37) -> 0 | N38: TOTAL
A40: 010107 금 속 공 사 | Q40: 010107
A41: 알루미늄 시트패널 | B41: 평판 T=2 불소수지 | C41: M2 | D41: 2 | F41: =TRUNC(E41*D41,0) -> 0 | H41: =TRUNC(G41*D41,0) -> 0 | J41: =TRUNC(I41*D41,0) -> 0 | K41: =TRUNC(E41+G41+I41,0) -> 0 | L41: =TRUNC(F41+H41+J41,0) -> 0 | N41: 411D896AF6137889B249D029D02E767B10871 | Q41: 010107 | R41: F | S41: F | T41: T | AU41: 010107411D896AF6137889B249D029D02E767B10871 | AV41: 94
A42: 철재칸막이 설치 | B42: 방화12.5+0.5강판,양면, 틀및부자재포함 | C42: M2 | D42: 16 | F42: =TRUNC(E42*D42,0) -> 0 | H42: =TRUNC(G42*D42,0) -> 0 | J42: =TRUNC(I42*D42,0) -> 0 | K42: =TRUNC(E42+G42+I42,0) -> 0 | L42: =TRUNC(F42+H42+J42,0) -> 0 | N42: 4639885C2A967E3163A9A52D446A7 | Q42: 010107 | R42: T | S42: F | T42: F | AU42: 0101074639885C2A967E3163A9A52D446A7 | AV42: 92
A43: 셔터박스 보강틀설치/방범망포함 | B43: 600H, 틀및부자재포함 | C43: M | D43: 1 | F43: =TRUNC(E43*D43,0) -> 0 | H43: =TRUNC(G43*D43,0) -> 0 | J43: =TRUNC(I43*D43,0) -> 0 | K43: =TRUNC(E43+G43+I43,0) -> 0 | L43: =TRUNC(F43+H43+J43,0) -> 0 | N43: 4639885C2A967E3163A9A52CBD987 | Q43: 010107 | R43: T | S43: F | T43: F | AU43: 0101074639885C2A967E3163A9A52CBD987 | AV43: 93
A44: 천장 점검구 설치 | B44: 650*650mm | C44: 개소 | D44: 1 | F44: =TRUNC(E44*D44,0) -> 0 | H44: =TRUNC(G44*D44,0) -> 0 | J44: =TRUNC(I44*D44,0) -> 0 | K44: =TRUNC(E44+G44+I44,0) -> 0 | L44: =TRUNC(F44+H44+J44,0) -> 0 | N44: 46398858B5D57176FF09FEF113DF7 | Q44: 010107 | R44: T | S44: F | T44: F | AU44: 01010746398858B5D57176FF09FEF113DF7 | AV44: 83
A45: AL몰딩설(L형) | B45: 30*30*1.0mm | C45: M | D45: 19 | F45: =TRUNC(E45*D45,0) -> 0 | H45: =TRUNC(G45*D45,0) -> 0 | J45: =TRUNC(I45*D45,0) -> 0 | K45: =TRUNC(E45+G45+I45,0) -> 0 | L45: =TRUNC(F45+H45+J45,0) -> 0 | N45: 46398DDA4ED87ABFE999729A8F637 | Q45: 010107 | R45: T | S45: F | T45: F | AU45: 01010746398DDA4ED87ABFE999729A8F637 | AV45: 82
A46: [ 합 계 ] | F46: =SUM(F41:F45) -> 0 | H46: =SUM(H41:H45) -> 0 | J46: =SUM(J41:J45) -> 0 | L46: =SUM(L41:L45) -> 0 | N46: TOTAL
A48: 010108 미 장 공 사 | Q48: 010108
A49: 창문틀 주위 충전 | B49: 발포우레탄 충전 | C49: M | D49: 27 | F49: =TRUNC(E49*D49,0) -> 0 | H49: =TRUNC(G49*D49,0) -> 0 | J49: =TRUNC(I49*D49,0) -> 0 | K49: =TRUNC(E49+G49+I49,0) -> 0 | L49: =TRUNC(F49+H49+J49,0) -> 0 | N49: 46398E3CE1517F3E9369EEBA7B757 | Q49: 010108 | R49: T | S49: F | T49: F | AU49: 01010846398E3CE1517F3E9369EEBA7B757 | AV49: 86
A50: [ 합 계 ] | F50: =SUM(F49:F49) -> 0 | H50: =SUM(H49:H49) -> 0 | J50: =SUM(J49:J49) -> 0 | L50: =SUM(L49:L49) -> 0 | N50: TOTAL
A52: 010109 창 호 공 사 | Q52: 010109
A53: 셔터용 전동개폐기(220-380V) | B53: 150KG | C53: set | D53: 1 | F53: =TRUNC(E53*D53,0) -> 0 | H53: =TRUNC(G53*D53,0) -> 0 | J53: =TRUNC(I53*D53,0) -> 0 | K53: =TRUNC(E53+G53+I53,0) -> 0 | L53: =TRUNC(F53+H53+J53,0) -> 0 | N53: 46398E3FB9AA793A40B957BC0D977 | Q53: 010109 | R53: F | S53: F | T53: T | AU53: 01010946398E3FB9AA793A40B957BC0D977 | AV53: 87
A54: 도어클로저 | B54: 도어클로저, K-2830, KS3호, 고급방화, 40∼65kg | C54: 조 | D54: 1 | F54: =TRUNC(E54*D54,0) -> 0 | H54: =TRUNC(G54*D54,0) -> 0 | J54: =TRUNC(I54*D54,0) -> 0 | K54: =TRUNC(E54+G54+I54,0) -> 0 | L54: =TRUNC(F54+H54+J54,0) -> 0 | N54: 411D896AF46572128CB998A5CA8E756533F15 | Q54: 010109 | R54: F | S54: F | T54: T | AU54: 010109411D896AF46572128CB998A5CA8E756533F15 | AV54: 88
A55: 피벗힌지 | B55: 피벗힌지, 100kg, 방화문용 | C55: 조 | D55: 2 | F55: =TRUNC(E55*D55,0) -> 0 | H55: =TRUNC(G55*D55,0) -> 0 | J55: =TRUNC(I55*D55,0) -> 0 | K55: =TRUNC(E55+G55+I55,0) -> 0 | L55: =TRUNC(F55+H55+J55,0) -> 0 | N55: 411D884591CA7B73BDF9478FF9027348D0DF9 | Q55: 010109 | R55: F | S55: F | T55: T | AU55: 010109411D884591CA7B73BDF9478FF9027348D0DF9 | AV55: 89
A56: 플로어힌지 | B56: 플로어힌지, KS3호, 105kg, 강화유리문(K-8300) | C56: 조 | D56: 1 | F56: =TRUNC(E56*D56,0) -> 0 | H56: =TRUNC(G56*D56,0) -> 0 | J56: =TRUNC(I56*D56,0) -> 0 | K56: =TRUNC(E56+G56+I56,0) -> 0 | L56: =TRUNC(F56+H56+J56,0) -> 0 | N56: 411D884591CA7B73BDF9478FF9027348D01CB | Q56: 010109 | R56: F | S56: F | T56: T | AU56: 010109411D884591CA7B73BDF9478FF9027348D01CB | AV56: 90
A57: 도어핸들 | B57: 도어핸들, 8300, 2CA, 스테인리스 | C57: 조 | D57: 1 | F57: =TRUNC(E57*D57,0) -> 0 | H57: =TRUNC(G57*D57,0) -> 0 | J57: =TRUNC(I57*D57,0) -> 0 | K57: =TRUNC(E57+G57+I57,0) -> 0 | L57: =TRUNC(F57+H57+J57,0) -> 0 | N57: 411D884591CA7BB96CD9421725577B1B52E58 | Q57: 010109 | R57: F | S57: F | T57: T | AU57: 010109411D884591CA7BB96CD9421725577B1B52E58 | AV57: 37
A58: 도어스톱 | B58: 바닥형 | C58: 개 | D58: 1 | F58: =TRUNC(E58*D58,0) -> 0 | H58: =TRUNC(G58*D58,0) -> 0 | J58: =TRUNC(I58*D58,0) -> 0 | K58: =TRUNC(E58+G58+I58,0) -> 0 | L58: =TRUNC(F58+H58+J58,0) -> 0 | N58: 411D884591CA7BB96CD942172DAE7315114D2 | Q58: 010109 | R58: F | S58: F | T58: T | AU58: 010109411D884591CA7BB96CD942172DAE7315114D2 | AV58: 38
A59: 스텐레스손잡이 | B59: 유리문 | C59: 조 | D59: 1 | F59: =TRUNC(E59*D59,0) -> 0 | H59: =TRUNC(G59*D59,0) -> 0 | J59: =TRUNC(I59*D59,0) -> 0 | K59: =TRUNC(E59+G59+I59,0) -> 0 | L59: =TRUNC(F59+H59+J59,0) -> 0 | N59: 411D884591CA7BB96CD9421577F570F5396EA | Q59: 010109 | R59: F | S59: F | T59: T | AU59: 010109411D884591CA7BB96CD9421577F570F5396EA | AV59: 39
A60: 도아록설치 | B60: 강재문, 재료비 별도 | C60: 개소 | D60: 1 | F60: =TRUNC(E60*D60,0) -> 0 | H60: =TRUNC(G60*D60,0) -> 0 | J60: =TRUNC(I60*D60,0) -> 0 | K60: =TRUNC(E60+G60+I60,0) -> 0 | L60: =TRUNC(F60+H60+J60,0) -> 0 | N60: 46398E3CE426776BFF897D6F8B9D7 | Q60: 010109 | R60: T | S60: F | T60: F | AU60: 01010946398E3CE426776BFF897D6F8B9D7 | AV60: 44
A61: 도아체크달기 | B61: 재료비 별도 | C61: 개소 | D61: 1 | F61: =TRUNC(E61*D61,0) -> 0 | H61: =TRUNC(G61*D61,0) -> 0 | J61: =TRUNC(I61*D61,0) -> 0 | K61: =TRUNC(E61+G61+I61,0) -> 0 | L61: =TRUNC(F61+H61+J61,0) -> 0 | N61: 46398E3CE4237A3E51E92E14D8047 | Q61: 010109 | R61: T | S61: F | T61: F | AU61: 01010946398E3CE4237A3E51E92E14D8047 | AV61: 45
A62: 플로어힌지설치 | B62: 재료비 별도 | C62: 개소 | D62: 1 | F62: =TRUNC(E62*D62,0) -> 0 | H62: =TRUNC(G62*D62,0) -> 0 | J62: =TRUNC(I62*D62,0) -> 0 | K62: =TRUNC(E62+G62+I62,0) -> 0 | L62: =TRUNC(F62+H62+J62,0) -> 0 | N62: 46398E3CE7F87E8DB5F9FFF2F3557 | Q62: 010109 | R62: T | S62: F | T62: F | AU62: 01010946398E3CE7F87E8DB5F9FFF2F3557 | AV62: 46
A63: FSD01 | B63: 0.750 x 2.100 = 1.575 | C63: EA | D63: 1 | F63: =TRUNC(E63*D63,0) -> 0 | H63: =TRUNC(G63*D63,0) -> 0 | J63: =TRUNC(I63*D63,0) -> 0 | K63: =TRUNC(E63+G63+I63,0) -> 0 | L63: =TRUNC(F63+H63+J63,0) -> 0 | N63: 46398E3BDEDA7C2C4B694AD0C0B47 | Q63: 010109 | R63: T | S63: F | T63: F | AU63: 01010946398E3BDEDA7C2C4B694AD0C0B47 | AV63: 40
A64: SSD01[100*50(100)] | B64: 3.075 x 2.450 = 7.533 | C64: EA | D64: 1 | F64: =TRUNC(E64*D64,0) -> 0 | H64: =TRUNC(G64*D64,0) -> 0 | J64: =TRUNC(I64*D64,0) -> 0 | K64: =TRUNC(E64+G64+I64,0) -> 0 | L64: =TRUNC(F64+H64+J64,0) -> 0 | N64: 46398E3BDEDA7C2C4B694AD0C0B67 | Q64: 010109 | R64: T | S64: F | T64: F | AU64: 01010946398E3BDEDA7C2C4B694AD0C0B67 | AV64: 41
... A66: SSH01[STL,틀SST1.5, 방범용] | B66: 1.050 x 2.750 = 2.887 | C66: EA | D66: 1 | F66: =TRUNC(E66*D66,0) -> 0 | H66: =TRUNC(G66*D66,0) -> 0 | J66: =TRUNC(I66*D66,0) -> 0 | K66: =TRUNC(E66+G66+I66,0) -> 0 | L66: =TRUNC(F66+H66+J66,0) -> 0 | N66: 46398E3BDEDA7C2C4B694AD0C0B27 | Q66: 010109 | R66: T | S66: F | T66: F | AU66: 01010946398E3BDEDA7C2C4B694AD0C0B27 | AV66: 43
A67: [ 합 계 ] | F67: =SUM(F53:F66) -> 0 | H67: =SUM(H53:H66) -> 0 | J67: =SUM(J53:J66) -> 0 | L67: =SUM(L53:L66) -> 0 | N67: TOTAL
A69: 010110 유 리 공 사 | Q69: 010110
A70: 강화유리문/손보호 | B70: 12*900*2100mm, 칼라, 부자재포함 | C70: 개 | D70: 1 | F70: =TRUNC(E70*D70,0) -> 0 | H70: =TRUNC(G70*D70,0) -> 0 | J70: =TRUNC(I70*D70,0) -> 0 | K70: =TRUNC(E70+G70+I70,0) -> 0 | L70: =TRUNC(F70+H70+J70,0) -> 0 | N70: 411D896AF46572129D49BBCE40D27413247E8 | Q70: 010110 | R70: F | S70: F | T70: T | AU70: 010110411D896AF46572129D49BBCE40D27413247E8 | AV70: 31
A71: 강화유리 | B71: 강화유리, 칼라, 12mm, 그린 | C71: M2 | D71: 10 | F71: =TRUNC(E71*D71,0) -> 0 | H71: =TRUNC(G71*D71,0) -> 0 | J71: =TRUNC(I71*D71,0) -> 0 | K71: =TRUNC(E71+G71+I71,0) -> 0 | L71: =TRUNC(F71+H71+J71,0) -> 0 | N71: 411D896AF465723D776939E033EE7727939C5 | Q71: 010110 | R71: F | S71: F | T71: T | AU71: 010110411D896AF465723D776939E033EE7727939C5 | AV71: 34
A72: 유리끼우기 - 판유리 | B72: 10mm 이상 | C72: M2 | D72: 10 | F72: =TRUNC(E72*D72,0) -> 0 | H72: =TRUNC(G72*D72,0) -> 0 | J72: =TRUNC(I72*D72,0) -> 0 | K72: =TRUNC(E72+G72+I72,0) -> 0 | L72: =TRUNC(F72+H72+J72,0) -> 0 | N72: 46398E3D8D5D7F515D5965B0A0F57 | Q72: 010110 | R72: T | S72: F | T72: F | AU72: 01011046398E3D8D5D7F515D5965B0A0F57 | AV72: 48
A73: 복층유리주위코킹 | B73: 5*5, 실리콘 | C73: M | D73: 54 | F73: =TRUNC(E73*D73,0) -> 0 | H73: =TRUNC(G73*D73,0) -> 0 | J73: =TRUNC(I73*D73,0) -> 0 | K73: =TRUNC(E73+G73+I73,0) -> 0 | L73: =TRUNC(F73+H73+J73,0) -> 0 | N73: 46398E32EBF277F269C914674B747 | Q73: 010110 | R73: T | S73: F | T73: F | AU73: 01011046398E32EBF277F269C914674B747 | AV73: 49
A74: [ 합 계 ] | F74: =SUM(F70:F73) -> 0 | H74: =SUM(H70:H73) -> 0 | J74: =SUM(J70:J73) -> 0 | L74: =SUM(L70:L73) -> 0 | N74: TOTAL
A76: 010111 칠 공 사 | Q76: 010111
A77: 바탕만들기+비닐페인트(롤러칠) | B77: 내부 천장, 3회, 1급, 석고보드면 | C77: M2 | D77: 14 | F77: =TRUNC(E77*D77,0) -> 0 | H77: =TRUNC(G77*D77,0) -> 0 | J77: =TRUNC(I77*D77,0) -> 0 | K77: =TRUNC(E77+G77+I77,0) -> 0 | L77: =TRUNC(F77+H77+J77,0) -> 0 | N77: 46398CEF994071A15119B0E579E37 | Q77: 010111 | R77: T | S77: F | T77: F | AU77: 01011146398CEF994071A15119B0E579E37 | AV77: 51
A78: [ 합 계 ] | F78: =SUM(F77:F77) -> 0 | H78: =SUM(H77:H77) -> 0 | J78: =SUM(J77:J77) -> 0 | L78: =SUM(L77:L77) -> 0 | N78: TOTAL
A80: 010112 수 장 공 사 | Q80: 010112
A81: 인테리어필름 | B81: 무늬목, 방염 | C81: M2 | D81: 37 | F81: =TRUNC(E81*D81,0) -> 0 | H81: =TRUNC(G81*D81,0) -> 0 | J81: =TRUNC(I81*D81,0) -> 0 | K81: =TRUNC(E81+G81+I81,0) -> 0 | L81: =TRUNC(F81+H81+J81,0) -> 0 | N81: 411D896AF50A7E48D469AED2A126795F9E6DC | Q81: 010112 | R81: F | S81: F | T81: T | AU81: 010112411D896AF50A7E48D469AED2A126795F9E6DC | AV81: 53
A82: 석고판 나사 고정(치장용) | B82: 천장, 바탕용 석고판(1겹) + 치장용 석고판(1겹) | C82: M2 | D82: 14 | F82: =TRUNC(E82*D82,0) -> 0 | H82: =TRUNC(G82*D82,0) -> 0 | J82: =TRUNC(I82*D82,0) -> 0 | K82: =TRUNC(E82+G82+I82,0) -> 0 | L82: =TRUNC(F82+H82+J82,0) -> 0 | N82: 46398DD04BAA78066289EE68D3637 | Q82: 010112 | R82: T | S82: F | T82: F | AU82: 01011246398DD04BAA78066289EE68D3637 | AV82: 54
A83: [ 합 계 ] | F83: =SUM(F81:F82) -> 0 | H83: =SUM(H81:H82) -> 0 | J83: =SUM(J81:J82) -> 0 | L83: =SUM(L81:L82) -> 0 | N83: TOTAL
A85: 010113 기 타 공 사 | Q85: 010113
A86: 캐노피 설치/965*1500 | B86: 안전접합유리12.3T+SST12T(300*100)*3 | C86: 개소 | D86: 1 | F86: =TRUNC(E86*D86,0) -> 0 | H86: =TRUNC(G86*D86,0) -> 0 | J86: =TRUNC(I86*D86,0) -> 0 | K86: =TRUNC(E86+G86+I86,0) -> 0 | L86: =TRUNC(F86+H86+J86,0) -> 0 | N86: 4639885C2A967E3163A9ABBA2B3C7 | Q86: 010113 | R86: T | S86: F | T86: F | AU86: 0101134639885C2A967E3163A9ABBA2B3C7 | AV86: 95
A87: [ 합 계 ] | F87: =SUM(F86:F86) -> 0 | H87: =SUM(H86:H86) -> 0 | J87: =SUM(J86:J86) -> 0 | L87: =SUM(L86:L86) -> 0 | N87: TOTAL
A89: 010114 냉난방기 공 사 | Q89: 010114
A90: 천정형 냉,난방기 | B90: TW0900M2S, 인버터 23평형 | C90: 대 | D90: 0 | F90: =TRUNC(E90*D90,0) -> 0 | H90: =TRUNC(G90*D90,0) -> 0 | J90: =TRUNC(I90*D90,0) -> 0 | K90: =TRUNC(E90+G90+I90,0) -> 0 | L90: =TRUNC(F90+H90+J90,0) -> 0 | N90: 4788817BDF2F7E78104958144EF67491BCCC4 | Q90: 010114 | R90: F | S90: F | T90: T | AU90: 0101144788817BDF2F7E78104958144EF67491BCCC4 | AV90: 127
A91: 설치비 | B91: 장비설치 | C91: 대 | D91: 0 | F91: =TRUNC(E91*D91,0) -> 0 | H91: =TRUNC(G91*D91,0) -> 0 | J91: =TRUNC(I91*D91,0) -> 0 | K91: =TRUNC(E91+G91+I91,0) -> 0 | L91: =TRUNC(F91+H91+J91,0) -> 0 | N91: 4788817BDF2F7E78104958144EF67491BCCC5 | Q91: 010114 | R91: F | S91: F | T91: T | AU91: 0101144788817BDF2F7E78104958144EF67491BCCC5 | AV91: 128
A92: 덕트공사 | B92: 써버덕트 | C92: 구 | D92: 0 | F92: =TRUNC(E92*D92,0) -> 0 | H92: =TRUNC(G92*D92,0) -> 0 | J92: =TRUNC(I92*D92,0) -> 0 | K92: =TRUNC(E92+G92+I92,0) -> 0 | L92: =TRUNC(F92+H92+J92,0) -> 0 | N92: 4788817BDF2F7E78104958144EF67491BCCC6 | Q92: 010114 | R92: F | S92: F | T92: T | AU92: 0101144788817BDF2F7E78104958144EF67491BCCC6 | AV92: 129
A93: 동배관공사 | B93: 동관/보온재 | C93: M | D93: 0 | F93: =TRUNC(E93*D93,0) -> 0 | H93: =TRUNC(G93*D93,0) -> 0 | J93: =TRUNC(I93*D93,0) -> 0 | K93: =TRUNC(E93+G93+I93,0) -> 0 | L93: =TRUNC(F93+H93+J93,0) -> 0 | N93: 4788817BDF2F7E78104958144EF67491BCCC7 | Q93: 010114 | R93: F | S93: F | T93: T | AU93: 0101144788817BDF2F7E78104958144EF67491BCCC7 | AV93: 130
A94: 드레인공사 | B94: PVC자재외 | C94: 조 | D94: 0 | F94: =TRUNC(E94*D94,0) -> 0 | H94: =TRUNC(G94*D94,0) -> 0 | J94: =TRUNC(I94*D94,0) -> 0 | K94: =TRUNC(E94+G94+I94,0) -> 0 | L94: =TRUNC(F94+H94+J94,0) -> 0 | N94: 4788817BDF2F7E78104958144EF67491BCCC8 | Q94: 010114 | R94: F | S94: F | T94: T | AU94: 0101144788817BDF2F7E78104958144EF67491BCCC8 | AV94: 131
A95: 실외기받침 | B95: 싱글형 | C95: 조 | D95: 0 | F95: =TRUNC(E95*D95,0) -> 0 | H95: =TRUNC(G95*D95,0) -> 0 | J95: =TRUNC(I95*D95,0) -> 0 | K95: =TRUNC(E95+G95+I95,0) -> 0 | L95: =TRUNC(F95+H95+J95,0) -> 0 | N95: 4788817BDF2F7E78104958144EF67491BCCC9 | Q95: 010114 | R95: F | S95: F | T95: T | AU95: 0101144788817BDF2F7E78104958144EF67491BCCC9 | AV95: 132
A96: 전기공사 | B96: 실외기전원선 | C96: M | D96: 0 | F96: =TRUNC(E96*D96,0) -> 0 | H96: =TRUNC(G96*D96,0) -> 0 | J96: =TRUNC(I96*D96,0) -> 0 | K96: =TRUNC(E96+G96+I96,0) -> 0 | L96: =TRUNC(F96+H96+J96,0) -> 0 | N96: 4788817BDF2F7E78104958144EF67491BCDE7 | Q96: 010114 | R96: F | S96: F | T96: T | AU96: 0101144788817BDF2F7E78104958144EF67491BCDE7 | AV96: 133
A97: [ 합 계 ] | F97: =SUM(F90:F96) -> 0 | H97: =SUM(H90:H96) -> 0 | J97: =SUM(J90:J96) -> 0 | L97: =SUM(L90:L96) -> 0 | N97: TOTAL
A99: 010115 사 인 물 공 사 | Q99: 010115
A100: < 마천동 > | F100: =TRUNC(E100*D100,0) -> 0 | H100: =TRUNC(G100*D100,0) -> 0 | J100: =TRUNC(I100*D100,0) -> 0 | K100: =TRUNC(E100+G100+I100,0) -> 0 | L100: =TRUNC(F100+H100+J100,0) -> 0 | N100: 4788817BDF2F7E78104958144EF67491BCE8C | Q100: 010115 | R100: F | S100: F | T100: T | AU100: 0101154788817BDF2F7E78104958144EF67491BCE8C | AV100: 101
A101: CCTV 가동중실사 | B101: 200*70 | C101: 개 | D101: 1 | F101: =TRUNC(E101*D101,0) -> 0 | H101: =TRUNC(G101*D101,0) -> 0 | J101: =TRUNC(I101*D101,0) -> 0 | K101: =TRUNC(E101+G101+I101,0) -> 0 | L101: =TRUNC(F101+H101+J101,0) -> 0 | N101: 4788817BDF2F7E78104958144EF67491BCF96 | Q101: 010115 | R101: F | S101: F | T101: T | AU101: 0101154788817BDF2F7E78104958144EF67491BCF96 | AV101: 112
A102: 사각사인실사 | B102: 300*300 | C102: 개 | D102: 1 | F102: =TRUNC(E102*D102,0) -> 0 | H102: =TRUNC(G102*D102,0) -> 0 | J102: =TRUNC(I102*D102,0) -> 0 | K102: =TRUNC(E102+G102+I102,0) -> 0 | L102: =TRUNC(F102+H102+J102,0) -> 0 | N102: 4788817BDF2F7E78104958144EF67491BCF94 | Q102: 010115 | R102: F | S102: F | T102: T | AU102: 0101154788817BDF2F7E78104958144EF67491BCF94 | AV102: 110
A103: 영업시간안내 | B103: 450*350 | C103: 개 | D103: 1 | F103: =TRUNC(E103*D103,0) -> 0 | H103: =TRUNC(G103*D103,0) -> 0 | J103: =TRUNC(I103*D103,0) -> 0 | K103: =TRUNC(E103+G103+I103,0) -> 0 | L103: =TRUNC(F103+H103+J103,0) -> 0 | N103: 4788817BDF2F7E78104958144EF67491BCF95 | Q103: 010115 | R103: F | S103: F | T103: T | AU103: 0101154788817BDF2F7E78104958144EF67491BCF95 | AV103: 111
A104: 365 띠장(H:100) | B104: 3.075+3.26+1.5 | C104: M | D104: 8 | F104: =TRUNC(E104*D104,0) -> 0 | H104: =TRUNC(G104*D104,0) -> 0 | J104: =TRUNC(I104*D104,0) -> 0 | K104: =TRUNC(E104+G104+I104,0) -> 0 | L104: =TRUNC(F104+H104+J104,0) -> 0 | N104: 4788817BDF2F7E78104958144EF67491BCF97 | Q104: 010115 | R104: F | S104: F | T104: T | AU104: 0101154788817BDF2F7E78104958144EF67491BCF97 | AV104: 113
A105: 시공비 | C105: 식 | D105: 1 | F105: =TRUNC(E105*D105,0) -> 0 | H105: =TRUNC(G105*D105,0) -> 0 | J105: =TRUNC(I105*D105,0) -> 0 | K105: =TRUNC(E105+G105+I105,0) -> 0 | L105: =TRUNC(F105+H105+J105,0) -> 0 | N105: 4788817BDF2F7E78104958144EF67491BCDE6 | Q105: 010115 | R105: F | S105: F | T105: T | AU105: 0101154788817BDF2F7E78104958144EF67491BCDE6 | AV105: 139
A106: 소 계 | F106: =SUM(F100:F105) -> 0 | H106: =SUM(H100:H105) -> 0 | J106: =SUM(J100:J105) -> 0 | L106: =SUM(L100:L105) -> 0 | N106: 47898A87F39E7B6493C96CCD787 | R106: F | S106: F | T106: F | AU106: 01011547898A87F39E7B6493C96CCD787 | AV106: 140
A108: <삼전동> | F108: =TRUNC(E108*D108,0) -> 0 | H108: =TRUNC(G108*D108,0) -> 0 | J108: =TRUNC(I108*D108,0) -> 0 | K108: =TRUNC(E108+G108+I108,0) -> 0 | L108: =TRUNC(F108+H108+J108,0) -> 0 | N108: 4788817BDF2F7E78104958144EF67491BCF90 | Q108: 010115 | R108: F | S108: F | T108: T | AU108: 0101154788817BDF2F7E78104958144EF67491BCF90 | AV108: 115
A109: 외부사인화면교체 | B109: 3600*800 | C109: M | D109: 3.6 | F109: =TRUNC(E109*D109,0) -> 0 | H109: =TRUNC(G109*D109,0) -> 0 | J109: =TRUNC(I109*D109,0) -> 0 | K109: =TRUNC(E109+G109+I109,0) -> 0 | L109: =TRUNC(F109+H109+J109,0) -> 0 | N109: 4788817BDF2F7E78104958144EF67491BCF91 | Q109: 010115 | R109: F | S109: F | T109: T | AU109: 0101154788817BDF2F7E78104958144EF67491BCF91 | AV109: 116
A110: 내부사인화면교체 | B110: 2450*400 | C110: M | D110: 3 | F110: =TRUNC(E110*D110,0) -> 0 | H110: =TRUNC(G110*D110,0) -> 0 | J110: =TRUNC(I110*D110,0) -> 0 | K110: =TRUNC(E110+G110+I110,0) -> 0 | L110: =TRUNC(F110+H110+J110,0) -> 0 | N110: 4788817BDF2F7E78104958144EF67491BCF92 | Q110: 010115 | R110: F | S110: F | T110: T | AU110: 0101154788817BDF2F7E78104958144EF67491BCF92 | AV110: 117
A111: 상부. 입.출금사인 | B111: 700*200 | C111: 개 | D111: 3 | F111: =TRUNC(E111*D111,0) -> 0 | H111: =TRUNC(G111*D111,0) -> 0 | J111: =TRUNC(I111*D111,0) -> 0 | K111: =TRUNC(E111+G111+I111,0) -> 0 | L111: =TRUNC(F111+H111+J111,0) -> 0 | N111: 4788817BDF2F7E78104958144EF67491BCF93 | Q111: 010115 | R111: F | S111: F | T111: T | AU111: 0101154788817BDF2F7E78104958144EF67491BCF93 | AV111: 118
A112: 기기표켓 | B112: 150*50 | C112: 개 | D112: 3 | F112: =TRUNC(E112*D112,0) -> 0 | H112: =TRUNC(G112*D112,0) -> 0 | J112: =TRUNC(I112*D112,0) -> 0 | K112: =TRUNC(E112+G112+I112,0) -> 0 | L112: =TRUNC(F112+H112+J112,0) -> 0 | N112: 4788817BDF2F7E78104958144EF67491BCF9C | Q112: 010115 | R112: F | S112: F | T112: T | AU112: 0101154788817BDF2F7E78104958144EF67491BCF9C | AV112: 119
A113: CCTV 가동중실사 | B113: 200*70 | C113: 개 | D113: 1 | F113: =TRUNC(E113*D113,0) -> 0 | H113: =TRUNC(G113*D113,0) -> 0 | J113: =TRUNC(I113*D113,0) -> 0 | K113: =TRUNC(E113+G113+I113,0) -> 0 | L113: =TRUNC(F113+H113+J113,0) -> 0 | N113: 4788817BDF2F7E78104958144EF67491BCF9D | Q113: 010115 | R113: F | S113: F | T113: T | AU113: 0101154788817BDF2F7E78104958144EF67491BCF9D | AV113: 120
A114: 사각사인실사 | B114: 300*300 | C114: 개 | D114: 1 | F114: =TRUNC(E114*D114,0) -> 0 | H114: =TRUNC(G114*D114,0) -> 0 | J114: =TRUNC(I114*D114,0) -> 0 | K114: =TRUNC(E114+G114+I114,0) -> 0 | L114: =TRUNC(F114+H114+J114,0) -> 0 | N114: 4788817BDF2F7E78104958144EF67491BCCC0 | Q114: 010115 | R114: F | S114: F | T114: T | AU114: 0101154788817BDF2F7E78104958144EF67491BCCC0 | AV114: 121
A115: 영업시간안내 | B115: 450*350 | C115: 개 | D115: 1 | F115: =TRUNC(E115*D115,0) -> 0 | H115: =TRUNC(G115*D115,0) -> 0 | J115: =TRUNC(I115*D115,0) -> 0 | K115: =TRUNC(E115+G115+I115,0) -> 0 | L115: =TRUNC(F115+H115+J115,0) -> 0 | N115: 4788817BDF2F7E78104958144EF67491BCCC1 | Q115: 010115 | R115: F | S115: F | T115: T | AU115: 0101154788817BDF2F7E78104958144EF67491BCCC1 | AV115: 122
A116: 365 띠장(H:100) | B116: 2.4 | C116: M | D116: 3 | F116: =TRUNC(E116*D116,0) -> 0 | H116: =TRUNC(G116*D116,0) -> 0 | J116: =TRUNC(I116*D116,0) -> 0 | K116: =TRUNC(E116+G116+I116,0) -> 0 | L116: =TRUNC(F116+H116+J116,0) -> 0 | N116: 4788817BDF2F7E78104958144EF67491BCCC2 | Q116: 010115 | R116: F | S116: F | T116: T | AU116: 0101154788817BDF2F7E78104958144EF67491BCCC2 | AV116: 123
...
