Workbook
Name _: #REF!
Name __: #REF!
Name ___: #REF!
Name ____: #REF!
Name _____: #REF!
Name ______: #REF!
Name _______: #REF!
Name __________: #REF!
Name _____________0: #REF!
Name _____________11: #REF!
Name _____________12: #REF!
Name __________0: #REF!
Name __________11: #REF!
Name __________12: #REF!
Name _________0: #REF!
Name _________10: #REF!
Name _________11: #REF!
Name _________12: #REF!
Name ________0: #REF!
Name ________10: #REF!
Name ________11: #REF!
Name ________12: #REF!
Name _______0: #REF!
Name ______0: #REF!
Name ______11: #REF!
Name ______12: #REF!
Name _____0: #REF!
Name _____10: #REF!
Name _____11: #REF!
Name _____12: #REF!
Name ____0: #REF!
Name ____1: #REF!
Name ____10: #REF!
Name ____11: #REF!
Name ____12: #REF!
Name ____2: #REF!
Name ____3: #REF!
Name ____4: #REF!
Name ____5: #REF!
Name ____7: #REF!
Name ____8: #REF!
Name ____9: #REF!
Name ____sub4: #REF!
Name ____sub5: #REF!
Name ___DOG1: #REF!
Name ___DOG2: #REF!
Name ___DOG3: #REF!
Name ___DOG4: #REF!
Name ___PB1: [1]工완성공사율!$A$1:$J$45
Name ___PB2: [1]工완성공사율!$K$1:$T$45
Name ___PB3: [1]工완성공사율!$U$1:$AD$45
Name ___PI48: #REF!
Name ___PI60: #REF!
Name ___RO110: #REF!
Name ___RO22: #REF!
Name ___RO35: #REF!
Name ___RO60: #REF!
Name ___RO80: #REF!
Name ___SUB1: #REF!
Name ___SUB2: #REF!

Sheet 원가계산(건축)
A1: 원 가 계 산 서
A2: [ 서울강서우체국 엘리베이터 증축공사(건축) ]
A3: 비 목 | D3: 금 액 | G3: 구 성 비 | L3: 비 고
B4: 재 | C4: 직 접 재 료 비 | E4: =공정별집계표!F6 -> 0 | N4: 1620586100 | O4: =E4-N4 -> -1620586100
B5: 료 | C5: 간 접 재 료 비
A6: 순 | B6: 비 | C6: 작업설 ,부산물등(△)
C7: [ 소 계 ] | E7: =SUM(E4:E6) -> 0
B8: 노 | C8: 직 접 노 무 비 | E8: =공정별집계표!H6 -> 0
A9: 공 | B9: 무 | C9: 간 접 노 무 비 | E9: =E8*I9 -> 0 | G9: 직접노무비 | H9: × | I9: 0.096 | L9: 최대 9.6% | M9: 0.066
B10: 비 | C10: [ 소 계 ] | E10: =SUM(E8:E9) -> 0
C11: 기 계 경 비 | E11: =공정별집계표!J6 -> 0 | F11: 0
A12: 사 | B12: 경 | C12: 건 강 보 험 료 | E12: =E8*I12 -> 0 | G12: 직접노무비 | H12: × | I12: 0.017 | L12: 1개월이상공사(공고문참조)
C13: 국 민 연 금 | E13: =E8*I13 -> 0 | G13: 직접노무비 | H13: × | I13: 0.0249 | L13: 1개월이상공사(공고문참조)
C14: 노인장기요양보험료 | E14: =E12*I14 -> 0 | G14: 건겅보험료 | H14: × | I14: 0.0655 | L14: 1개월이상공사(공고문참조)
A15: 원 | C15: 산 재 보 험 료 | E15: =E10*I15 -> 0 | G15: 노무비 | H15: × | I15: 0.038 | L15: 3.8%(법정)
C16: 고 용 보 험 료 | E16: =E10*I16 -> 0 | G16: 노무비 | H16: × | I16: 0.0087 | L16: 0.87%(법정)
A17: 가 | C17: 산업안전보건관리비 | E17: =(E4+E8)*I17 -> 0 | G17: (직재+직노) | H17: × | I17: 0.0293 | J17: * | L17: 2.93%(법정) | N17: =(E4+E8)*I17*K17 -> 0 | O17: =(E4+E8+#REF!/1.0054/1.1)*I17 -> #REF!
C18: 환 경 보 전 비 | E18: =(E4+E8+E11)*I18 -> 0 | F18: 0 | G18: (직재+직노+직경) | H18: × | I18: 0.003 | L18: 0.3%(법정)
C19: 기 타 경 비 | E19: =(E4+E10)*I19 -> 0 | G19: (재료비+노무비) | H19: × | I19: 0.0303 | L19: 최대 3.03%
C20: [ 소 계 ] | E20: =SUM(E11:E19) -> 0
A21: 계 | E21: =E7+E10+E20 -> 0
A22: 일 반 관 리 비 | E22: =E21*I22 -> 0 | G22: 계 | H22: × | I22: 0.06 | L22: 최대 6% | M22: 0.038
A23: 이 윤 | E23: =SUM(E10,E20,E22)*I23 -> 0 | G23: (노무비+경비+일관) | H23: × | I23: 0.1051 | L23: 최대 10.51% | M23: 0.09
A24: 건 설 폐 기 물 처 리 비 | E24: =공정별집계표!L14 -> 0
A25: 공 급 가 액 | E25: =SUM(E21:E24) -> 0
A26: 부 가 가 치 세 | E26: =E25*I26 -> 0 | G26: 공급가액 | H26: × | I26: 0.1
A27: [도 급 액] | E27: =TRUNC(E25+E26,-3) -> 0 | L27: 천원 미만 절사
L28: vat 및 조달수수료 포함
A29: [총 공 사 비] | E29: =SUM(E27:E28) -> 0

Sheet 공정별집계표
A1: 공 정 별 집 계 표
A2: ='원가계산(건축)'!A2 -> [ 서울강서우체국 엘리베이터 증축공사(건축) ]
A3: 품 명 | B3: 규 격 | C3: 단위 | D3: 수량 | E3: 재 료 비 | G3: 노 무 비 | I3: 경 비 | K3: 합 계 | M3: 비 고 | N3: 공종코드 | O3: 변수 | P3: 상위공종 | Q3: 공종구분 | R3: 공종레벨 | S3: 공종소계 | T3: 원가계산서 연결금액
E4: 단 가 | F4: 금 액 | G4: 단 가 | H4: 금 액 | I4: 단 가 | J4: 금 액 | K4: 단 가 | L4: 금 액
A5: 01 서울강서우체국엘리베이터증축공사 | D5: 1 | E5: =F6 -> 0 | F5: =E5*D5 -> 0 | G5: =H6 -> 0 | H5: =G5*D5 -> 0 | I5: =J6 -> 0 | J5: =I5*D5 -> 0 | K5: =E5+G5+I5 -> 0 | L5: =F5+H5+J5 -> 0 | N5: 01 | R5: 1
A6: 0101 건축공사 | D6: 1 | E6: =F7+F8 -> 0 | F6: =E6*D6 -> 0 | G6: =H7+H8 -> 0 | H6: =G6*D6 -> 0 | I6: =J7+J8 -> 0 | J6: =I6*D6 -> 0 | K6: =E6+G6+I6 -> 0 | L6: =F6+H6+J6 -> 0 | N6: 0101 | P6: 01 | R6: 2
A7: 010101 건축공사 | D7: 1 | E7: =공종별집계표!F5 -> 0 | F7: =E7*D7 -> 0 | G7: =공종별집계표!H5 -> 0 | H7: =G7*D7 -> 0 | I7: =공종별집계표!J5 -> 0 | J7: =I7*D7 -> 0 | K7: =E7+G7+I7 -> 0 | L7: =F7+H7+J7 -> 0 | N7: 010101 | P7: 0101 | R7: 3
F8: =E8*D8 -> 0 | H8: =G8*D8 -> 0 | J8: =I8*D8 -> 0 | K8: =E8+G8+I8 -> 0 | L8: =F8+H8+J8 -> 0 | N8: 010101 | P8: 0101 | R8: 3
F9: =E9*D9 -> 0 | H9: =G9*D9 -> 0 | J9: =I9*D9 -> 0 | K9: =E9+G9+I9 -> 0 | L9: =F9+H9+J9 -> 0 | N9: 010101 | P9: 0101 | R9: 3
F10: =E10*D10 -> 0 | H10: =G10*D10 -> 0 | J10: =I10*D10 -> 0 | K10: =E10+G10+I10 -> 0 | L10: =F10+H10+J10 -> 0
F11: =E11*D11 -> 0 | H11: =G11*D11 -> 0 | J11: =I11*D11 -> 0 | K11: =E11+G11+I11 -> 0 | L11: =F11+H11+J11 -> 0 | N11: 010102 | P11: 0101 | R11: 3
F12: =E12*D12 -> 0 | H12: =G12*D12 -> 0 | J12: =I12*D12 -> 0 | K12: =E12+G12+I12 -> 0 | L12: =F12+H12+J12 -> 0
A14: 0102 폐기물처리비 | D14: 1 | E14: =F15+F16+F17+F18 -> 0 | F14: =E14*D14 -> 0 | G14: =H15+H16+H17+H18 -> 0 | H14: =G14*D14 -> 0 | I14: =J15+J16 -> 0 | J14: =I14*D14 -> 0 | K14: =E14+G14+I14 -> 0 | L14: =F14+H14+J14 -> 0 | N14: 010103 | P14: 0101 | R14: 3
A15: 010201 신축폐기물 | D15: 1 | F15: =E15*D15 -> 0 | H15: =G15*D15 -> 0 | I15: =공종별집계표!L26 -> 0 | J15: =I15*D15 -> 0 | K15: =E15+G15+I15 -> 0 | L15: =F15+H15+J15 -> 0 | N15: 010104 | P15: 0101 | R15: 3
F16: =E16*D16 -> 0 | H16: =G16*D16 -> 0 | J16: =I16*D16 -> 0 | K16: =E16+G16+I16 -> 0 | L16: =F16+H16+J16 -> 0
F17: =E17*D17 -> 0 | H17: =G17*D17 -> 0 | J17: =I17*D17 -> 0 | K17: =E17+G17+I17 -> 0 | L17: =F17+H17+J17 -> 0
F18: =E18*D18 -> 0 | H18: =G18*D18 -> 0 | J18: =I18*D18 -> 0 | K18: =E18+G18+I18 -> 0 | L18: =F18+H18+J18 -> 0
F19: =E19*D19 -> 0 | H19: =G19*D19 -> 0 | J19: =I19*D19 -> 0 | K19: =E19+G19+I19 -> 0 | L19: =F19+H19+J19 -> 0
F20: =E20*D20 -> 0 | H20: =G20*D20 -> 0 | J20: =I20*D20 -> 0 | K20: =E20+G20+I20 -> 0 | L20: =F20+H20+J20 -> 0
A27: [ 합 계 ] | F27: =F5 -> 0 | H27: =H5 -> 0 | J27: =J5 -> 0 | L27: =L5 -> 0

Sheet 공종별집계표
A1: 공 종 별 집 계 표
A2: [ 서울강서우체국엘리베이터증축공사 ]
A3: 품 명 | B3: 규 격 | C3: 단위 | D3: 수량 | E3: 재 료 비 | G3: 노 무 비 | I3: 경 비 | K3: 합 계 | M3: 비 고 | N3: 공종코드 | O3: 변수 | P3: 상위공종 | Q3: 공종구분 | R3: 공종레벨 | S3: 공종소계 | T3: 원가계산서 연결금액
E4: 단 가 | F4: 금 액 | G4: 단 가 | H4: 금 액 | I4: 단 가 | J4: 금 액 | K4: 단 가 | L4: 금 액
A5: 01 서울강서우체국엘리베이터증축공사 | D5: 1 | E5: =F6+F27+F37 -> 0 | F5: =E5*D5 -> 0 | G5: =H6+H27+H37 -> 0 | H5: =G5*D5 -> 0 | I5: =J6+J27+J37 -> 0 | J5: =I5*D5 -> 0 | K5: =E5+G5+I5 -> 0 | L5: =F5+H5+J5 -> 0 | N5: 01 | R5: 1
A6: 0101 01.엘리베이터동 | D6: 1 | E6: =F7+F8+F9+F10+F11+F12+F13+F14+F15+F16+F17+F18+F19+F20+F21+F22+F23+F24+F25 -> 0 | F6: =E6*D6 -> 0 | G6: =H7+H8+H9+H10+H11+H12+H13+H14+H15+H16+H17+H18+H19+H20+H21+H22+H23+H24+H25 -> 0 | H6: =G6*D6 -> 0 | I6: =J7+J8+J9+J10+J11+J12+J13+J14+J15+J16+J17+J18+J19+J20+J21+J22+J23+J24+J25 -> 0 | J6: =I6*D6 -> 0 | K6: =E6+G6+I6 -> 0 | L6: =F6+H6+J6 -> 0 | N6: 0101 | P6: 01 | R6: 2
A7: 010101 공통 가설 공사 | D7: 1 | E7: =공종별내역서!F9 -> 0 | F7: =E7*D7 -> 0 | G7: =공종별내역서!H9 -> 0 | H7: =G7*D7 -> 0 | I7: =공종별내역서!J9 -> 0 | J7: =I7*D7 -> 0 | K7: =E7+G7+I7 -> 0 | L7: =F7+H7+J7 -> 0 | N7: 010101 | P7: 0101 | R7: 3
A8: 010102 가 설 공 사 | D8: 1 | E8: =공종별내역서!F21 -> 0 | F8: =E8*D8 -> 0 | G8: =공종별내역서!H21 -> 0 | H8: =G8*D8 -> 0 | I8: =공종별내역서!J21 -> 0 | J8: =I8*D8 -> 0 | K8: =E8+G8+I8 -> 0 | L8: =F8+H8+J8 -> 0 | N8: 010102 | P8: 0101 | R8: 3
A9: 010103 토 및 지정공사 | D9: 1 | E9: =공종별내역서!F53 -> 0 | F9: =E9*D9 -> 0 | G9: =공종별내역서!H53 -> 0 | H9: =G9*D9 -> 0 | I9: =공종별내역서!J53 -> 0 | J9: =I9*D9 -> 0 | K9: =E9+G9+I9 -> 0 | L9: =F9+H9+J9 -> 0 | N9: 010103 | P9: 0101 | R9: 3
A10: 010104 철근콘크리트공사 | D10: 1 | E10: =공종별내역서!F73 -> 0 | F10: =E10*D10 -> 0 | G10: =공종별내역서!H73 -> 0 | H10: =G10*D10 -> 0 | I10: =공종별내역서!J73 -> 0 | J10: =I10*D10 -> 0 | K10: =E10+G10+I10 -> 0 | L10: =F10+H10+J10 -> 0 | N10: 010104 | P10: 0101 | R10: 3
A11: 010105 철 골 공 사 | D11: 1 | E11: =공종별내역서!F101 -> 0 | F11: =E11*D11 -> 0 | G11: =공종별내역서!H101 -> 0 | H11: =G11*D11 -> 0 | I11: =공종별내역서!J101 -> 0 | J11: =I11*D11 -> 0 | K11: =E11+G11+I11 -> 0 | L11: =F11+H11+J11 -> 0 | N11: 010105 | P11: 0101 | R11: 3
A12: 010106 조 적 공 사 | D12: 1 | E12: =공종별내역서!F115 -> 0 | F12: =E12*D12 -> 0 | G12: =공종별내역서!H115 -> 0 | H12: =G12*D12 -> 0 | I12: =공종별내역서!J115 -> 0 | J12: =I12*D12 -> 0 | K12: =E12+G12+I12 -> 0 | L12: =F12+H12+J12 -> 0 | N12: 010106 | P12: 0101 | R12: 3
A13: 010107 돌 공 사 | D13: 1 | E13: =공종별내역서!F124 -> 0 | F13: =E13*D13 -> 0 | G13: =공종별내역서!H124 -> 0 | H13: =G13*D13 -> 0 | I13: =공종별내역서!J124 -> 0 | J13: =I13*D13 -> 0 | K13: =E13+G13+I13 -> 0 | L13: =F13+H13+J13 -> 0 | N13: 010107 | P13: 0101 | R13: 3
A14: 010108 타 일 공 사 | D14: 1 | E14: =공종별내역서!F130 -> 0 | F14: =E14*D14 -> 0 | G14: =공종별내역서!H130 -> 0 | H14: =G14*D14 -> 0 | I14: =공종별내역서!J130 -> 0 | J14: =I14*D14 -> 0 | K14: =E14+G14+I14 -> 0 | L14: =F14+H14+J14 -> 0 | N14: 010108 | P14: 0101 | R14: 3
A15: 010109 방 수 공 사 | D15: 1 | E15: =공종별내역서!F140 -> 0 | F15: =E15*D15 -> 0 | G15: =공종별내역서!H140 -> 0 | H15: =G15*D15 -> 0 | I15: =공종별내역서!J140 -> 0 | J15: =I15*D15 -> 0 | K15: =E15+G15+I15 -> 0 | L15: =F15+H15+J15 -> 0 | N15: 010109 | P15: 0101 | R15: 3
A16: 010110 금 속 공 사 | D16: 1 | E16: =공종별내역서!F153 -> 0 | F16: =E16*D16 -> 0 | G16: =공종별내역서!H153 -> 0 | H16: =G16*D16 -> 0 | I16: =공종별내역서!J153 -> 0 | J16: =I16*D16 -> 0 | K16: =E16+G16+I16 -> 0 | L16: =F16+H16+J16 -> 0 | N16: 010110 | P16: 0101 | R16: 3
A17: 010111 미 장 공 사 | D17: 1 | E17: =공종별내역서!F162 -> 0 | F17: =E17*D17 -> 0 | G17: =공종별내역서!H162 -> 0 | H17: =G17*D17 -> 0 | I17: =공종별내역서!J162 -> 0 | J17: =I17*D17 -> 0 | K17: =E17+G17+I17 -> 0 | L17: =F17+H17+J17 -> 0 | N17: 010111 | P17: 0101 | R17: 3
A18: 010112 창호 및 유리공사 | D18: 1 | E18: =공종별내역서!F181 -> 0 | F18: =E18*D18 -> 0 | G18: =공종별내역서!H181 -> 0 | H18: =G18*D18 -> 0 | I18: =공종별내역서!J181 -> 0 | J18: =I18*D18 -> 0 | K18: =E18+G18+I18 -> 0 | L18: =F18+H18+J18 -> 0 | N18: 010112 | P18: 0101 | R18: 3
A19: 010113 칠 공 사 | D19: 1 | E19: =공종별내역서!F195 -> 0 | F19: =E19*D19 -> 0 | G19: =공종별내역서!H195 -> 0 | H19: =G19*D19 -> 0 | I19: =공종별내역서!J195 -> 0 | J19: =I19*D19 -> 0 | K19: =E19+G19+I19 -> 0 | L19: =F19+H19+J19 -> 0 | N19: 010113 | P19: 0101 | R19: 3
A20: 010114 수 장 공 사 | D20: 1 | E20: =공종별내역서!F212 -> 0 | F20: =E20*D20 -> 0 | G20: =공종별내역서!H212 -> 0 | H20: =G20*D20 -> 0 | I20: =공종별내역서!J212 -> 0 | J20: =I20*D20 -> 0 | K20: =E20+G20+I20 -> 0 | L20: =F20+H20+J20 -> 0 | N20: 010114 | P20: 0101 | R20: 3
A21: 010115 기 타 공 사 | D21: 1 | E21: =공종별내역서!F217 -> 0 | F21: =E21*D21 -> 0 | G21: =공종별내역서!H217 -> 0 | H21: =G21*D21 -> 0 | I21: =공종별내역서!J217 -> 0 | J21: =I21*D21 -> 0 | K21: =E21+G21+I21 -> 0 | L21: =F21+H21+J21 -> 0 | M21: (관급자재) | N21: 010115 | P21: 0101 | R21: 3
A22: 010116 철 거 공 사 | D22: 1 | E22: =공종별내역서!F236 -> 0 | F22: =E22*D22 -> 0 | G22: =공종별내역서!H236 -> 0 | H22: =G22*D22 -> 0 | I22: =공종별내역서!J236 -> 0 | J22: =I22*D22 -> 0 | K22: =E22+G22+I22 -> 0 | L22: =F22+H22+J22 -> 0 | N22: 010116 | P22: 0101 | R22: 3
A23: 010117 골 재 비 | D23: 1 | E23: =공종별내역서!F245 -> 0 | F23: =E23*D23 -> 0 | G23: =공종별내역서!H245 -> 0 | H23: =G23*D23 -> 0 | I23: =공종별내역서!J245 -> 0 | J23: =I23*D23 -> 0 | K23: =E23+G23+I23 -> 0 | L23: =F23+H23+J23 -> 0 | N23: 010117 | P23: 0101 | R23: 3
A24: 010118 운 반 비 | D24: 1 | E24: =공종별내역서!F251 -> 0 | F24: =E24*D24 -> 0 | G24: =공종별내역서!H251 -> 0 | H24: =G24*D24 -> 0 | I24: =공종별내역서!J251 -> 0 | J24: =I24*D24 -> 0 | K24: =E24+G24+I24 -> 0 | L24: =F24+H24+J24 -> 0 | N24: 010118 | P24: 0101 | R24: 3
A25: 010119 작 업 부 산 물 | D25: 1 | E25: =공종별내역서!F256 -> 0 | F25: =E25*D25 -> 0 | G25: =공종별내역서!H256 -> 0 | H25: =G25*D25 -> 0 | I25: =공종별내역서!J256 -> 0 | J25: =I25*D25 -> 0 | K25: =E25+G25+I25 -> 0 | L25: =F25+H25+J25 -> 0 | N25: 010119 | P25: 0101 | R25: 3
A26: 010120 건설폐기물처리비 | D26: 1 | E26: =공종별내역서!F263 -> 0 | F26: =E26*D26 -> 0 | G26: =공종별내역서!H263 -> 0 | H26: =G26*D26 -> 0 | I26: =공종별내역서!J263 -> 0 | J26: =I26*D26 -> 0 | K26: =E26+G26+I26 -> 0 | L26: =F26+H26+J26 -> 0 | M26: 별도 | N26: 010120 | Q26: 6 | R26: 3 | T26: =L26*1 -> 0
A27: 0102 02.좁은계단 | D27: 1 | E27: =F28+F29+F30+F31+F32+F33+F34+F35+F36 -> 0 | F27: =E27*D27 -> 0 | G27: =H28+H29+H30+H31+H32+H33+H34+H35+H36 -> 0 | H27: =G27*D27 -> 0 | I27: =J28+J29+J30+J31+J32+J33+J34+J35+J36 -> 0 | J27: =I27*D27 -> 0 | K27: =E27+G27+I27 -> 0 | L27: =F27+H27+J27 -> 0 | N27: 0102 | P27: 01 | R27: 2
A28: 010201 가 설 공 사 | D28: 1 | E28: =공종별내역서!F270 -> 0 | F28: =E28*D28 -> 0 | G28: =공종별내역서!H270 -> 0 | H28: =G28*D28 -> 0 | I28: =공종별내역서!J270 -> 0 | J28: =I28*D28 -> 0 | K28: =E28+G28+I28 -> 0 | L28: =F28+H28+J28 -> 0 | N28: 010201 | P28: 0102 | R28: 3
A29: 010202 토 및 지정공사 | D29: 1 | E29: =공종별내역서!F278 -> 0 | F29: =E29*D29 -> 0 | G29: =공종별내역서!H278 -> 0 | H29: =G29*D29 -> 0 | I29: =공종별내역서!J278 -> 0 | J29: =I29*D29 -> 0 | K29: =E29+G29+I29 -> 0 | L29: =F29+H29+J29 -> 0 | N29: 010202 | P29: 0102 | R29: 3
A30: 010203 철근콘크리트공사 | D30: 1 | E30: =공종별내역서!F295 -> 0 | F30: =E30*D30 -> 0 | G30: =공종별내역서!H295 -> 0 | H30: =G30*D30 -> 0 | I30: =공종별내역서!J295 -> 0 | J30: =I30*D30 -> 0 | K30: =E30+G30+I30 -> 0 | L30: =F30+H30+J30 -> 0 | N30: 010203 | P30: 0102 | R30: 3
A31: 010204 목 공 사 | D31: 1 | E31: =공종별내역서!F301 -> 0 | F31: =E31*D31 -> 0 | G31: =공종별내역서!H301 -> 0 | H31: =G31*D31 -> 0 | I31: =공종별내역서!J301 -> 0 | J31: =I31*D31 -> 0 | K31: =E31+G31+I31 -> 0 | L31: =F31+H31+J31 -> 0 | N31: 010204 | P31: 0102 | R31: 3
A32: 010205 미 장 공 사 | D32: 1 | E32: =공종별내역서!F306 -> 0 | F32: =E32*D32 -> 0 | G32: =공종별내역서!H306 -> 0 | H32: =G32*D32 -> 0 | I32: =공종별내역서!J306 -> 0 | J32: =I32*D32 -> 0 | K32: =E32+G32+I32 -> 0 | L32: =F32+H32+J32 -> 0 | N32: 010205 | P32: 0102 | R32: 3
A33: 010206 수 장 공 사 | D33: 1 | E33: =공종별내역서!F311 -> 0 | F33: =E33*D33 -> 0 | G33: =공종별내역서!H311 -> 0 | H33: =G33*D33 -> 0 | I33: =공종별내역서!J311 -> 0 | J33: =I33*D33 -> 0 | K33: =E33+G33+I33 -> 0 | L33: =F33+H33+J33 -> 0 | N33: 010206 | P33: 0102 | R33: 3
A34: 010207 골 재 비 | D34: 1 | E34: =공종별내역서!F318 -> 0 | F34: =E34*D34 -> 0 | G34: =공종별내역서!H318 -> 0 | H34: =G34*D34 -> 0 | I34: =공종별내역서!J318 -> 0 | J34: =I34*D34 -> 0 | K34: =E34+G34+I34 -> 0 | L34: =F34+H34+J34 -> 0 | N34: 010207 | P34: 0102 | R34: 3
A35: 010208 운 반 비 | D35: 1 | E35: =공종별내역서!F323 -> 0 | F35: =E35*D35 -> 0 | G35: =공종별내역서!H323 -> 0 | H35: =G35*D35 -> 0 | I35: =공종별내역서!J323 -> 0 | J35: =I35*D35 -> 0 | K35: =E35+G35+I35 -> 0 | L35: =F35+H35+J35 -> 0 | N35: 010208 | P35: 0102 | R35: 3
A36: 010209 작 업 부 산 물 | D36: 1 | E36: =공종별내역서!F328 -> 0 | F36: =E36*D36 -> 0 | G36: =공종별내역서!H328 -> 0 | H36: =G36*D36 -> 0 | I36: =공종별내역서!J328 -> 0 | J36: =I36*D36 -> 0 | K36: =E36+G36+I36 -> 0 | L36: =F36+H36+J36 -> 0 | N36: 010209 | P36: 0102 | R36: 3
A37: 0103 03.장애인편의시설 | D37: 1 | E37: =F38+F39+F40+F41 -> 0 | F37: =E37*D37 -> 0 | G37: =H38+H39+H40+H41 -> 0 | H37: =G37*D37 -> 0 | I37: =J38+J39+J40+J41 -> 0 | J37: =I37*D37 -> 0 | K37: =E37+G37+I37 -> 0 | L37: =F37+H37+J37 -> 0 | N37: 0103 | P37: 01 | R37: 2
A38: 010301 주출입구 공사 | D38: 1 | E38: =공종별내역서!F338 -> 0 | F38: =E38*D38 -> 0 | G38: =공종별내역서!H338 -> 0 | H38: =G38*D38 -> 0 | I38: =공종별내역서!J338 -> 0 | J38: =I38*D38 -> 0 | K38: =E38+G38+I38 -> 0 | L38: =F38+H38+J38 -> 0 | N38: 010301 | P38: 0103 | R38: 3
A39: 010302 부출입구 공사 | D39: 1 | E39: =공종별내역서!F346 -> 0 | F39: =E39*D39 -> 0 | G39: =공종별내역서!H346 -> 0 | H39: =G39*D39 -> 0 | I39: =공종별내역서!J346 -> 0 | J39: =I39*D39 -> 0 | K39: =E39+G39+I39 -> 0 | L39: =F39+H39+J39 -> 0 | N39: 010302 | P39: 0103 | R39: 3
A40: 010303 내부 화장실 공사 | D40: 1 | E40: =공종별내역서!F358 -> 0 | F40: =E40*D40 -> 0 | G40: =공종별내역서!H358 -> 0 | H40: =G40*D40 -> 0 | I40: =공종별내역서!J358 -> 0 | J40: =I40*D40 -> 0 | K40: =E40+G40+I40 -> 0 | L40: =F40+H40+J40 -> 0 | N40: 010303 | P40: 0103 | R40: 3
A41: 010304 내부 기타 공사 | D41: 1 | E41: =공종별내역서!F365 -> 0 | F41: =E41*D41 -> 0 | G41: =공종별내역서!H365 -> 0 | H41: =G41*D41 -> 0 | I41: =공종별내역서!J365 -> 0 | J41: =I41*D41 -> 0 | K41: =E41+G41+I41 -> 0 | L41: =F41+H41+J41 -> 0 | N41: 010304 | P41: 0103 | R41: 3
A48: [ 합 계 ] | F48: =F5 -> 0 | H48: =H5 -> 0 | J48: =J5 -> 0 | L48: =L5 -> 0

Sheet 공종별내역서
A1: [ 서울강서우체국엘리베이터증축공사 ]
A2: 품 명 | B2: 규 격 | C2: 단위 | D2: 수량 | E2: 재 료 비 | G2: 노 무 비 | I2: 경 비 | K2: 합 계 | M2: 비 고 | N2: 품목코드 | O2: 변수 | P2: 설정 | Q2: 공종코드 | R2: 일위 | S2: 단산 | T2: 자재 | U2: 손료적용 | V2: 손료저장 | W2: 적용율 | X2: JUK1 | Y2: JUK2 | Z2: JUK3 | AA2: JUK4 | AB2: JUK5 | AC2: JUK6 | AD2: JUK7 | AE2: JUK8 | AF2: JUK9 | AG2: JUK10 | AH2: JUK11 | AI2: JUK12 | AJ2: JUK13 | AK2: JUK14 | AL2: JUK15 | AM2: JUK16 | AN2: JUK17 | AO2: JUK18 | AP2: JUK19 | AQ2: JUK20 | AR2: 자재구분 | AS2: 공종구분 | AT2: 공종레벨 | AU2: 공종+자재 | AV2: 고유번호
E3: 단 가 | F3: 금 액 | G3: 단 가 | H3: 금 액 | I3: 단 가 | J3: 금 액 | K3: 단 가 | L3: 금 액
A4: 0101 엘리베이터동
A5: 010101 공통 가설 공사 | Q5: 010101
A6: 컨테이너형 가설건축물 - 사무실 | B6: 3.0*6.0*2.6m, 3개월 | C6: 개소 | D6: 1 | F6: =TRUNC(E6*D6,0) -> 0 | H6: =TRUNC(G6*D6,0) -> 0 | J6: =TRUNC(I6*D6,0) -> 0 | K6: =TRUNC(E6+G6+I6,0) -> 0 | L6: =TRUNC(F6+H6+J6,0) -> 0 | N6: 5A2A65D7DD8C72F385134F1CCE7A68 | Q6: 010101 | R6: T | S6: F | T6: F | AU6: 0101015A2A65D7DD8C72F385134F1CCE7A68 | AV6: 5
A7: 컨테이너형 가설건축물 - 창고 | B7: 3.0*6.0*2.6m, 3개월 | C7: 개소 | D7: 1 | F7: =TRUNC(E7*D7,0) -> 0 | H7: =TRUNC(G7*D7,0) -> 0 | J7: =TRUNC(I7*D7,0) -> 0 | K7: =TRUNC(E7+G7+I7,0) -> 0 | L7: =TRUNC(F7+H7+J7,0) -> 0 | N7: 5A2A65D7DD8C4542F6137515A44D52 | Q7: 010101 | R7: T | S7: F | T7: F | AU7: 0101015A2A65D7DD8C4542F6137515A44D52 | AV7: 6
A8: 조립식가설울타리/E.G.I철판 | B8: H=2.4, 3개월 | C8: M | D8: 14 | F8: =TRUNC(E8*D8,0) -> 0 | H8: =TRUNC(G8*D8,0) -> 0 | J8: =TRUNC(I8*D8,0) -> 0 | K8: =TRUNC(E8+G8+I8,0) -> 0 | L8: =TRUNC(F8+H8+J8,0) -> 0 | N8: 5A2A65D40A849199BF13CC17FA2197 | Q8: 010101 | R8: T | S8: F | T8: F | AU8: 0101015A2A65D40A849199BF13CC17FA2197 | AV8: 4
A9: [ 합 계 ] | F9: =SUM(F6:F8) -> 0 | H9: =SUM(H6:H8) -> 0 | J9: =SUM(J6:J8) -> 0 | L9: =SUM(L6:L8) -> 0 | N9: TOTAL
A12: 010102 가 설 공 사 | Q12: 010102
A13: 외부쌍줄비계(강관) | B13: 3개월 이하 | C13: ㎡ | D13: 258 | F13: =TRUNC(E13*D13,0) -> 0 | H13: =TRUNC(G13*D13,0) -> 0 | J13: =TRUNC(I13*D13,0) -> 0 | K13: =TRUNC(E13+G13+I13,0) -> 0 | L13: =TRUNC(F13+H13+J13,0) -> 0 | N13: 5A2A65D4088800932513161A5E9B18 | Q13: 010102 | R13: F | S13: F | T13: T | AU13: 0101025A2A65D4088800932513161A5E9B18 | AV13: 8
A14: 비계다리 (강관) | B14: 3개월 이하 | C14: ㎡ | D14: 92 | F14: =TRUNC(E14*D14,0) -> 0 | H14: =TRUNC(G14*D14,0) -> 0 | J14: =TRUNC(I14*D14,0) -> 0 | K14: =TRUNC(E14+G14+I14,0) -> 0 | L14: =TRUNC(F14+H14+J14,0) -> 0 | N14: 5A2A65D4088800933713761D35541F | Q14: 010102 | R14: F | S14: F | T14: T | AU14: 0101025A2A65D4088800933713761D35541F | AV14: 9
A15: 측량 및 검측비 | B15: 평규준틀 | C15: 개소(nr) | D15: 4 | F15: =TRUNC(E15*D15,0) -> 0 | H15: =TRUNC(G15*D15,0) -> 0 | J15: =TRUNC(I15*D15,0) -> 0 | K15: =TRUNC(E15+G15+I15,0) -> 0 | L15: =TRUNC(F15+H15+J15,0) -> 0 | N15: 5A2A65D1B4846A404513D81EDB691E | Q15: 010102 | R15: F | S15: F | T15: T | AU15: 0101025A2A65D1B4846A404513D81EDB691E | AV15: 10
A16: 현장 정리 | B16: 철골조 | C16: ㎡ | D16: 36 | F16: =TRUNC(E16*D16,0) -> 0 | H16: =TRUNC(G16*D16,0) -> 0 | J16: =TRUNC(I16*D16,0) -> 0 | K16: =TRUNC(E16+G16+I16,0) -> 0 | L16: =TRUNC(F16+H16+J16,0) -> 0 | N16: 5A2A65D1B78101F66113091EA5A80E | Q16: 010102 | R16: F | S16: F | T16: T | AU16: 0101025A2A65D1B78101F66113091EA5A80E | AV16: 11
A17: 콘크리트 양생 | C17: ㎡ | D17: 45 | F17: =TRUNC(E17*D17,0) -> 0 | H17: =TRUNC(G17*D17,0) -> 0 | J17: =TRUNC(I17*D17,0) -> 0 | K17: =TRUNC(E17+G17+I17,0) -> 0 | L17: =TRUNC(F17+H17+J17,0) -> 0 | N17: 5A2A35A7548C52B3FF139B17C2384E | Q17: 010102 | R17: F | S17: F | T17: T | AU17: 0101025A2A35A7548C52B3FF139B17C2384E | AV17: 12
A18: 석재면,타일보양 | B18: 톱밥 | C18: ㎡ | D18: 36 | F18: =TRUNC(E18*D18,0) -> 0 | H18: =TRUNC(G18*D18,0) -> 0 | J18: =TRUNC(I18*D18,0) -> 0 | K18: =TRUNC(E18+G18+I18,0) -> 0 | L18: =TRUNC(F18+H18+J18,0) -> 0 | N18: 5A2AA5713A8AC7FC641342168C5CE0 | Q18: 010102 | R18: F | S18: F | T18: T | AU18: 0101025A2AA5713A8AC7FC641342168C5CE0 | AV18: 13
A19: 거푸집 먹매김 | B19: 일반 | C19: M2 | D19: 36 | F19: =TRUNC(E19*D19,0) -> 0 | H19: =TRUNC(G19*D19,0) -> 0 | J19: =TRUNC(I19*D19,0) -> 0 | K19: =TRUNC(E19+G19+I19,0) -> 0 | L19: =TRUNC(F19+H19+J19,0) -> 0 | N19: 5A2A65D1B4842C8A94131513506D08 | Q19: 010102 | R19: T | S19: F | T19: F | AU19: 0101025A2A65D1B4842C8A94131513506D08 | AV19: 85
A20: 구조부 먹매김 | B20: 일반 | C20: M2 | D20: 36 | F20: =TRUNC(E20*D20,0) -> 0 | H20: =TRUNC(G20*D20,0) -> 0 | J20: =TRUNC(I20*D20,0) -> 0 | K20: =TRUNC(E20+G20+I20,0) -> 0 | L20: =TRUNC(F20+H20+J20,0) -> 0 | N20: 5A2A65D1B4842C8A94131513506B5A | Q20: 010102 | R20: T | S20: F | T20: F | AU20: 0101025A2A65D1B4842C8A94131513506B5A | AV20: 86
A21: [ 합 계 ] | F21: =SUM(F13:F20) -> 0 | H21: =SUM(H13:H20) -> 0 | J21: =SUM(J13:J20) -> 0 | L21: =SUM(L13:L20) -> 0 | N21: TOTAL
A24: 010103 토 및 지정공사 | Q24: 010103
A25: 터파기(기계) | B25: 보통토사, 백호0.7m3 | C25: M3 | D25: 105 | F25: =TRUNC(E25*D25,0) -> 0 | H25: =TRUNC(G25*D25,0) -> 0 | J25: =TRUNC(I25*D25,0) -> 0 | K25: =TRUNC(E25+G25+I25,0) -> 0 | L25: =TRUNC(F25+H25+J25,0) -> 0 | N25: 5A2A55ED3088A74220136A13F74894 | Q25: 010103 | R25: T | S25: F | T25: F | AU25: 0101035A2A55ED3088A74220136A13F74894 | AV25: 16
A26: 되메우고 다지기 | B26: 토사, 다짐두께 30cm | C26: M3 | D26: 26 | F26: =TRUNC(E26*D26,0) -> 0 | H26: =TRUNC(G26*D26,0) -> 0 | J26: =TRUNC(I26*D26,0) -> 0 | K26: =TRUNC(E26+G26+I26,0) -> 0 | L26: =TRUNC(F26+H26+J26,0) -> 0 | N26: 5A2A55EB0288ED739213521760E8A4 | Q26: 010103 | R26: T | S26: F | T26: F | AU26: 0101035A2A55EB0288ED739213521760E8A4 | AV26: 17
A27: 잔토처리 | B27: 토사10km 백호0.7M3+덤프15톤 | C27: M3 | D27: 80 | F27: =TRUNC(E27*D27,0) -> 0 | H27: =TRUNC(G27*D27,0) -> 0 | J27: =TRUNC(I27*D27,0) -> 0 | K27: =TRUNC(E27+G27+I27,0) -> 0 | L27: =TRUNC(F27+H27+J27,0) -> 0 | N27: 5A2A55EC2B8446FB4213F211C477D6 | Q27: 010103 | R27: F | S27: T | T27: F | AU27: 0101035A2A55EC2B8446FB4213F211C477D6 | AV27: 222
A28: 잡석깔기지정 | B28: 백호0.7m3+래머80kg | C28: M3 | D28: 4 | F28: =TRUNC(E28*D28,0) -> 0 | H28: =TRUNC(G28*D28,0) -> 0 | J28: =TRUNC(I28*D28,0) -> 0 | K28: =TRUNC(E28+G28+I28,0) -> 0 | L28: =TRUNC(F28+H28+J28,0) -> 0 | N28: 5A2A45892F8E405B8A135C17008FAC | Q28: 010103 | R28: T | S28: F | T28: F | AU28: 0101035A2A45892F8E405B8A135C17008FAC | AV28: 223
A29: [마이크로파일] | F29: =TRUNC(E29*D29,0) -> 0 | H29: =TRUNC(G29*D29,0) -> 0 | J29: =TRUNC(I29*D29,0) -> 0 | K29: =TRUNC(E29+G29+I29,0) -> 0 | L29: =TRUNC(F29+H29+J29,0) -> 0 | N29: 5B9E353A1683437D8D13191D6DBEEF564E12AF | Q29: 010103 | R29: F | S29: F | T29: T | AU29: 0101035B9E353A1683437D8D13191D6DBEEF564E12AF | AV29: 276
A30: 1)케이싱근입 및 천공 | F30: =TRUNC(E30*D30,0) -> 0 | H30: =TRUNC(G30*D30,0) -> 0 | J30: =TRUNC(I30*D30,0) -> 0 | K30: =TRUNC(E30+G30+I30,0) -> 0 | L30: =TRUNC(F30+H30+J30,0) -> 0 | N30: 5B9E353A1683437D8D13191D6DBEEF564E12AC | Q30: 010103 | R30: F | S30: F | T30: T | AU30: 0101035B9E353A1683437D8D13191D6DBEEF564E12AC | AV30: 327
A31: CASING(200A,일반구조용) | B31: Ø216-4.5T(STK=400) | C31: m | D31: 66 | F31: =TRUNC(E31*D31,0) -> 0 | H31: =TRUNC(G31*D31,0) -> 0 | J31: =TRUNC(I31*D31,0) -> 0 | K31: =TRUNC(E31+G31+I31,0) -> 0 | L31: =TRUNC(F31+H31+J31,0) -> 0 | M31: 절단비포함 | N31: 5A2A65D47A830EDDC713EE12EACAFB735CD8AF | Q31: 010103 | R31: F | S31: F | T31: T | AU31: 0101035A2A65D47A830EDDC713EE12EACAFB735CD8AF | AV31: 306
A32: 케이싱근입(압입식+타격식) | B32: 200A(사장용) | C32: m | D32: 66 | F32: =TRUNC(E32*D32,0) -> 0 | H32: =TRUNC(G32*D32,0) -> 0 | J32: =TRUNC(I32*D32,0) -> 0 | K32: =TRUNC(E32+G32+I32,0) -> 0 | L32: =TRUNC(F32+H32+J32,0) -> 0 | M32: 타격근입 | N32: 5A2A65D47A830EDDC713EE12EACAFB735CD8A8 | Q32: 010103 | R32: F | S32: F | T32: T | AU32: 0101035A2A65D47A830EDDC713EE12EACAFB735CD8A8 | AV32: 307
A33: 천공(매립층~풍화토) | B33: 8"인치(Ø200천공) | C33: m | D33: 96 | F33: =TRUNC(E33*D33,0) -> 0 | H33: =TRUNC(G33*D33,0) -> 0 | J33: =TRUNC(I33*D33,0) -> 0 | K33: =TRUNC(E33+G33+I33,0) -> 0 | L33: =TRUNC(F33+H33+J33,0) -> 0 | M33: 햄머천공 | N33: 5A2A65D47A830EDDC713EE12EACAFB735CD8A9 | Q33: 010103 | R33: F | S33: F | T33: T | AU33: 0101035A2A65D47A830EDDC713EE12EACAFB735CD8A9 | AV33: 308
A34: 2)마이크로파일조립 및 설치 | F34: =TRUNC(E34*D34,0) -> 0 | H34: =TRUNC(G34*D34,0) -> 0 | J34: =TRUNC(I34*D34,0) -> 0 | K34: =TRUNC(E34+G34+I34,0) -> 0 | L34: =TRUNC(F34+H34+J34,0) -> 0 | N34: 5B9E353A1683437D8D13191D6DBEEF564E12AD | Q34: 010103 | R34: F | S34: F | T34: T | AU34: 0101035B9E353A1683437D8D13191D6DBEEF564E12AD | AV34: 328
A35: THREAD BAR | B35: Ø65(500MPa) | C35: m | D35: 96 | F35: =TRUNC(E35*D35,0) -> 0 | H35: =TRUNC(G35*D35,0) -> 0 | J35: =TRUNC(I35*D35,0) -> 0 | K35: =TRUNC(E35+G35+I35,0) -> 0 | L35: =TRUNC(F35+H35+J35,0) -> 0 | M35: 특수강 | N35: 5A2A65D47A830EDDC713EE12EACAFB735CD8AB | Q35: 010103 | R35: F | S35: F | T35: T | AU35: 0101035A2A65D47A830EDDC713EE12EACAFB735CD8AB | AV35: 310
A36: COUPLER | B36: Ø65(500MPa) | C36: EA | D36: 12 | F36: =TRUNC(E36*D36,0) -> 0 | H36: =TRUNC(G36*D36,0) -> 0 | J36: =TRUNC(I36*D36,0) -> 0 | K36: =TRUNC(E36+G36+I36,0) -> 0 | L36: =TRUNC(F36+H36+J36,0) -> 0 | M36: 특수강 | N36: 5A2A65D47A830EDDC713EE12EACAFB735CD8A4 | Q36: 010103 | R36: F | S36: F | T36: T | AU36: 0101035A2A65D47A830EDDC713EE12EACAFB735CD8A4 | AV36: 311
A37: CENTRALIZER | B37: Ø65(set)용 | C37: EA | D37: 32 | F37: =TRUNC(E37*D37,0) -> 0 | H37: =TRUNC(G37*D37,0) -> 0 | J37: =TRUNC(I37*D37,0) -> 0 | K37: =TRUNC(E37+G37+I37,0) -> 0 | L37: =TRUNC(F37+H37+J37,0) -> 0 | M37: ≤3.0m설치 | N37: 5A2A65D47A830EDDC713EE12EACAFB735CD8A5 | Q37: 010103 | R37: F | S37: F | T37: T | AU37: 0101035A2A65D47A830EDDC713EE12EACAFB735CD8A5 | AV37: 312
A38: THREAD BAR조립/설치 | B38: 장비(크레인)+인력 | C38: m | D38: 96 | F38: =TRUNC(E38*D38,0) -> 0 | H38: =TRUNC(G38*D38,0) -> 0 | J38: =TRUNC(I38*D38,0) -> 0 | K38: =TRUNC(E38+G38+I38,0) -> 0 | L38: =TRUNC(F38+H38+J38,0) -> 0 | M38: 6m간격조립 | N38: 5A2A65D47A830EDDC713EE12EACAFB735CD9B2 | Q38: 010103 | R38: F | S38: F | T38: T | AU38: 0101035A2A65D47A830EDDC713EE12EACAFB735CD9B2 | AV38: 313
A39: 3)그라우팅 | F39: =TRUNC(E39*D39,0) -> 0 | H39: =TRUNC(G39*D39,0) -> 0 | J39: =TRUNC(I39*D39,0) -> 0 | K39: =TRUNC(E39+G39+I39,0) -> 0 | L39: =TRUNC(F39+H39+J39,0) -> 0 | N39: 5B9E353A1683437D8D13191D6DBEEF564E12AA | Q39: 010103 | R39: F | S39: F | T39: T | AU39: 0101035B9E353A1683437D8D13191D6DBEEF564E12AA | AV39: 329
A40: 시멘트(1종) | B40: 1종포틀랜드+하차포함 | C40: 포 | D40: 102 | F40: =TRUNC(E40*D40,0) -> 0 | H40: =TRUNC(G40*D40,0) -> 0 | J40: =TRUNC(I40*D40,0) -> 0 | K40: =TRUNC(E40+G40+I40,0) -> 0 | L40: =TRUNC(F40+H40+J40,0) -> 0 | M40: 예정수량 | N40: 5A2A65D47A830EDDC713EE12EACAFB735CD9B0 | Q40: 010103 | R40: F | S40: F | T40: T | AU40: 0101035A2A65D47A830EDDC713EE12EACAFB735CD9B0 | AV40: 315
A41: 혼화제(팽창제) | B41: EXP-#3000(1%) | C41: ㎏ | D41: 40.8 | F41: =TRUNC(E41*D41,0) -> 0 | H41: =TRUNC(G41*D41,0) -> 0 | J41: =TRUNC(I41*D41,0) -> 0 | K41: =TRUNC(E41+G41+I41,0) -> 0 | L41: =TRUNC(F41+H41+J41,0) -> 0 | M41: C*1%배합 | N41: 5A2A65D47A830EDDC713EE12EACAFB735CD9B1 | Q41: 010103 | R41: F | S41: F | T41: T | AU41: 0101035A2A65D47A830EDDC713EE12EACAFB735CD9B1 | AV41: 316
A42: 그라우팅 주입호수 | B42: Ø16(P.E호수) | C42: m | D42: 98 | F42: =TRUNC(E42*D42,0) -> 0 | H42: =TRUNC(G42*D42,0) -> 0 | J42: =TRUNC(I42*D42,0) -> 0 | K42: =TRUNC(E42+G42+I42,0) -> 0 | L42: =TRUNC(F42+H42+J42,0) -> 0 | M42: 소모품 | N42: 5A2A65D47A830EDDC713EE12EACAFB735CD9B6 | Q42: 010103 | R42: F | S42: F | T42: T | AU42: 0101035A2A65D47A830EDDC713EE12EACAFB735CD9B6 | AV42: 317
A43: 그라우팅 | B43: 중력식 | C43: m | D43: 96 | F43: =TRUNC(E43*D43,0) -> 0 | H43: =TRUNC(G43*D43,0) -> 0 | J43: =TRUNC(I43*D43,0) -> 0 | K43: =TRUNC(E43+G43+I43,0) -> 0 | L43: =TRUNC(F43+H43+J43,0) -> 0 | M43: 플랜트설치포함 | N43: 5A2A65D47A830EDDC713EE12EACAFB735CD9B7 | Q43: 010103 | R43: F | S43: F | T43: T | AU43: 0101035A2A65D47A830EDDC713EE12EACAFB735CD9B7 | AV43: 318
A44: 4)두부정리 | F44: =TRUNC(E44*D44,0) -> 0 | H44: =TRUNC(G44*D44,0) -> 0 | J44: =TRUNC(I44*D44,0) -> 0 | K44: =TRUNC(E44+G44+I44,0) -> 0 | L44: =TRUNC(F44+H44+J44,0) -> 0 | N44: 5B9E353A1683437D8D13191D6DBEEF564E12AB | Q44: 010103 | R44: F | S44: F | T44: T | AU44: 0101035B9E353A1683437D8D13191D6DBEEF564E12AB | AV44: 330
A45: LOCK NUT | B45: Ø65(set)용 | C45: EA | D45: 8 | F45: =TRUNC(E45*D45,0) -> 0 | H45: =TRUNC(G45*D45,0) -> 0 | J45: =TRUNC(I45*D45,0) -> 0 | K45: =TRUNC(E45+G45+I45,0) -> 0 | L45: =TRUNC(F45+H45+J45,0) -> 0 | M45: 특수강 | N45: 5A2A65D47A830EDDC713EE12EACAFB735CD9B5 | Q45: 010103 | R45: F | S45: F | T45: T | AU45: 0101035A2A65D47A830EDDC713EE12EACAFB735CD9B5 | AV45: 320
A46: Bearing Plate | B46: PL-300*300*30T | C46: EA | D46: 4 | F46: =TRUNC(E46*D46,0) -> 0 | H46: =TRUNC(G46*D46,0) -> 0 | J46: =TRUNC(I46*D46,0) -> 0 | K46: =TRUNC(E46+G46+I46,0) -> 0 | L46: =TRUNC(F46+H46+J46,0) -> 0 | M46: 가공비포함 | N46: 5A2A65D47A830EDDC713EE12EACAFB735CD9BA | Q46: 010103 | R46: F | S46: F | T46: T | AU46: 0101035A2A65D47A830EDDC713EE12EACAFB735CD9BA | AV46: 321
A47: 두부정리 | B47: 터파기제외 | C47: 개소 | D47: 4 | F47: =TRUNC(E47*D47,0) -> 0 | H47: =TRUNC(G47*D47,0) -> 0 | J47: =TRUNC(I47*D47,0) -> 0 | K47: =TRUNC(E47+G47+I47,0) -> 0 | L47: =TRUNC(F47+H47+J47,0) -> 0 | M47: 레벨"갑"측 | N47: 5A2A65D47A830EDDC713EE12EACAFB735CD9BB | Q47: 010103 | R47: F | S47: F | T47: T | AU47: 0101035A2A65D47A830EDDC713EE12EACAFB735CD9BB | AV47: 322
A48: 5)부대비용 | F48: =TRUNC(E48*D48,0) -> 0 | H48: =TRUNC(G48*D48,0) -> 0 | J48: =TRUNC(I48*D48,0) -> 0 | K48: =TRUNC(E48+G48+I48,0) -> 0 | L48: =TRUNC(F48+H48+J48,0) -> 0 | N48: 5B9E353A1683437D8D13191D6DBEEF564E12A8 | Q48: 010103 | R48: F | S48: F | T48: T | AU48: 0101035B9E353A1683437D8D13191D6DBEEF564E12A8 | AV48: 331
A49: 장비운반비(1대기준) | B49: 크로라드릴+콤프레샤 | C49: 회 | D49: 1 | F49: =TRUNC(E49*D49,0) -> 0 | H49: =TRUNC(G49*D49,0) -> 0 | J49: =TRUNC(I49*D49,0) -> 0 | K49: =TRUNC(E49+G49+I49,0) -> 0 | L49: =TRUNC(F49+H49+J49,0) -> 0 | M49: 추레라 | N49: 5A2A65D47A830EDDC713EE12EACAFB735CDA58 | Q49: 010103 | R49: F | S49: F | T49: T | AU49: 0101035A2A65D47A830EDDC713EE12EACAFB735CDA58 | AV49: 324
A50: 자재운반비(소운반포함) | B50: 케이싱+파일자재 | C50: 회 | D50: 1 | F50: =TRUNC(E50*D50,0) -> 0 | H50: =TRUNC(G50*D50,0) -> 0 | J50: =TRUNC(I50*D50,0) -> 0 | K50: =TRUNC(E50+G50+I50,0) -> 0 | L50: =TRUNC(F50+H50+J50,0) -> 0 | M50: 5톤편도요금 | N50: 5A2A65D47A830EDDC713EE12EACAFB735CDA5B | Q50: 010103 | R50: F | S50: F | T50: T | AU50: 0101035A2A65D47A830EDDC713EE12EACAFB735CDA5B | AV50: 325
A51: 정재하시험비(공인기관) | B51: 1/100회기준(인장) | C51: 회 | D51: 1 | F51: =TRUNC(E51*D51,0) -> 0 | H51: =TRUNC(G51*D51,0) -> 0 | J51: =TRUNC(I51*D51,0) -> 0 | K51: =TRUNC(E51+G51+I51,0) -> 0 | L51: =TRUNC(F51+H51+J51,0) -> 0 | M51: 품질기관 | N51: 5A2A65D47A830EDDC713EE12EACAFB735CDA5A | Q51: 010103 | R51: F | S51: F | T51: T | AU51: 0101035A2A65D47A830EDDC713EE12EACAFB735CDA5A | AV51: 326
A52: 슬라임처리비 | B52: Ø200 | C52: M3 | D52: 3 | F52: =TRUNC(E52*D52,0) -> 0 | H52: =TRUNC(G52*D52,0) -> 0 | J52: =TRUNC(I52*D52,0) -> 0 | K52: =TRUNC(E52+G52+I52,0) -> 0 | L52: =TRUNC(F52+H52+J52,0) -> 0 | N52: 5A2A458CE284163823137E188991A3 | Q52: 010103 | R52: T | S52: F | T52: F | AU52: 0101035A2A458CE284163823137E188991A3 | AV52: 24
A53: [ 합 계 ] | F53: =SUM(F25:F52) -> 0 | H53: =SUM(H25:H52) -> 0 | J53: =SUM(J25:J52) -> 0 | L53: =SUM(L25:L52) -> 0 | N53: TOTAL
A56: 010104 철근콘크리트공사 | Q56: 010104
A57: 레미콘 | B57: 레미콘, 서울 및 경기 일부지역, 25-18-08 | C57: M3 | D57: 2 | F57: =TRUNC(E57*D57,0) -> 0 | H57: =TRUNC(G57*D57,0) -> 0 | J57: =TRUNC(I57*D57,0) -> 0 | K57: =TRUNC(E57+G57+I57,0) -> 0 | L57: =TRUNC(F57+H57+J57,0) -> 0 | N57: 5D06D519138CAD4BF913A716E5AFE6E53092AC | Q57: 010104 | R57: F | S57: F | T57: T | AU57: 0101045D06D519138CAD4BF913A716E5AFE6E53092AC | AV57: 30
A58: 레미콘 | B58: 레미콘, 서울 및 경기 일부지역, 25-18-12 | C58: M3 | D58: 2 | F58: =TRUNC(E58*D58,0) -> 0 | H58: =TRUNC(G58*D58,0) -> 0 | J58: =TRUNC(I58*D58,0) -> 0 | K58: =TRUNC(E58+G58+I58,0) -> 0 | L58: =TRUNC(F58+H58+J58,0) -> 0 | N58: 5D06D519138CAD4BF913A716E5AFE6E53092AD | Q58: 010104 | R58: F | S58: F | T58: T | AU58: 0101045D06D519138CAD4BF913A716E5AFE6E53092AD | AV58: 31
A59: 레미콘 | B59: 레미콘, 서울 및 경기 일부지역, 25-24-15 | C59: M3 | D59: 23 | F59: =TRUNC(E59*D59,0) -> 0 | H59: =TRUNC(G59*D59,0) -> 0 | J59: =TRUNC(I59*D59,0) -> 0 | K59: =TRUNC(E59+G59+I59,0) -> 0 | L59: =TRUNC(F59+H59+J59,0) -> 0 | N59: 5D06D519138CAD4BF913A716E5AFE6E53093B5 | Q59: 010104 | R59: F | S59: F | T59: T | AU59: 0101045D06D519138CAD4BF913A716E5AFE6E53093B5 | AV59: 32
A60: 철근콘크리트용봉강 | B60: 철근콘크리트용봉강, 이형봉강(SD350/400), HD-10, 하치장상차도 | C60: TON | D60: 0.644 | F60: =TRUNC(E60*D60,0) -> 0 | H60: =TRUNC(G60*D60,0) -> 0 | J60: =TRUNC(I60*D60,0) -> 0 | K60: =TRUNC(E60+G60+I60,0) -> 0 | L60: =TRUNC(F60+H60+J60,0) -> 0 | N60: 5D06D51912824480A913F6136B03EA794A1FB7 | Q60: 010104 | R60: F | S60: F | T60: T | AU60: 0101045D06D51912824480A913F6136B03EA794A1FB7 | AV60: 27
A61: 철근콘크리트용봉강 | B61: 철근콘크리트용봉강, 이형봉강(SD350/400), HD-13, 하치장상차도 | C61: TON | D61: 0.351 | F61: =TRUNC(E61*D61,0) -> 0 | H61: =TRUNC(G61*D61,0) -> 0 | J61: =TRUNC(I61*D61,0) -> 0 | K61: =TRUNC(E61+G61+I61,0) -> 0 | L61: =TRUNC(F61+H61+J61,0) -> 0 | N61: 5D06D51912824480A913F6136B03EA794A1FB0 | Q61: 010104 | R61: F | S61: F | T61: T | AU61: 0101045D06D51912824480A913F6136B03EA794A1FB0 | AV61: 28
A62: 철근콘크리트용봉강 | B62: 철근콘크리트용봉강, 이형봉강(SD350/400), HD-16, 하치장상차도 | C62: TON | D62: 0.687 | F62: =TRUNC(E62*D62,0) -> 0 | H62: =TRUNC(G62*D62,0) -> 0 | J62: =TRUNC(I62*D62,0) -> 0 | K62: =TRUNC(E62+G62+I62,0) -> 0 | L62: =TRUNC(F62+H62+J62,0) -> 0 | N62: 5D06D51912824480A913F6136B03EA794A1FB1 | Q62: 010104 | R62: F | S62: F | T62: T | AU62: 0101045D06D51912824480A913F6136B03EA794A1FB1 | AV62: 29
A63: 무근콘크리트타설 | B63: 슬럼프8-12 (50m3 미만/일) | C63: ㎥ | D63: 3 | F63: =TRUNC(E63*D63,0) -> 0 | H63: =TRUNC(G63*D63,0) -> 0 | J63: =TRUNC(I63*D63,0) -> 0 | K63: =TRUNC(E63+G63+I63,0) -> 0 | L63: =TRUNC(F63+H63+J63,0) -> 0 | N63: 5A2A35A7558EB2CE9113C912E0ACB6 | Q63: 010104 | R63: F | S63: F | T63: T | AU63: 0101045A2A35A7558EB2CE9113C912E0ACB6 | AV63: 36
A64: 철근콘크리트타설 | B64: 슬럼프 15 (50m3 미만/일) | C64: ㎥ | D64: 22 | F64: =TRUNC(E64*D64,0) -> 0 | H64: =TRUNC(G64*D64,0) -> 0 | J64: =TRUNC(I64*D64,0) -> 0 | K64: =TRUNC(E64+G64+I64,0) -> 0 | L64: =TRUNC(F64+H64+J64,0) -> 0 | N64: 5A2A35A7568F21D9B613BA19DE3B10 | Q64: 010104 | R64: F | S64: F | T64: T | AU64: 0101045A2A35A7568F21D9B613BA19DE3B10 | AV64: 38
A65: 거푸집/보통마감 | B65: 0-7m이하, (3-4회) | C65: ㎡ | D65: 4 | F65: =TRUNC(E65*D65,0) -> 0 | H65: =TRUNC(G65*D65,0) -> 0 | J65: =TRUNC(I65*D65,0) -> 0 | K65: =TRUNC(E65+G65+I65,0) -> 0 | L65: =TRUNC(F65+H65+J65,0) -> 0 | N65: 5A2A35A02681DAD43F13C510B5724E | Q65: 010104 | R65: F | S65: F | T65: T | AU65: 0101045A2A35A02681DAD43F13C510B5724E | AV65: 33
A66: 거푸집/유로폼 | B66: 0-7m 이하 | C66: ㎡ | D66: 68 | F66: =TRUNC(E66*D66,0) -> 0 | H66: =TRUNC(G66*D66,0) -> 0 | J66: =TRUNC(I66*D66,0) -> 0 | K66: =TRUNC(E66+G66+I66,0) -> 0 | L66: =TRUNC(F66+H66+J66,0) -> 0 | N66: 5A2A35A0208F4E9FED1354159A3D7D | Q66: 010104 | R66: F | S66: F | T66: T | AU66: 0101045A2A35A0208F4E9FED1354159A3D7D | AV66: 34
A67: 철근 현장가공 및 조립(일반건축) | B67: 보통, 10ton 미만 | C67: ton | D67: 1.634 | F67: =TRUNC(E67*D67,0) -> 0 | H67: =TRUNC(G67*D67,0) -> 0 | J67: =TRUNC(I67*D67,0) -> 0 | K67: =TRUNC(E67+G67+I67,0) -> 0 | L67: =TRUNC(F67+H67+J67,0) -> 0 | N67: 5A2A35A3F98940CB9E137118F17385 | Q67: 010104 | R67: F | S67: F | T67: T | AU67: 0101045A2A35A3F98940CB9E137118F17385 | AV67: 35
A68: 콘크리트 치핑(건축) | B68: 기계 | C68: M2 | D68: 3 | F68: =TRUNC(E68*D68,0) -> 0 | H68: =TRUNC(G68*D68,0) -> 0 | J68: =TRUNC(I68*D68,0) -> 0 | K68: =TRUNC(E68+G68+I68,0) -> 0 | L68: =TRUNC(F68+H68+J68,0) -> 0 | N68: 5A2A35B30086C731E0135B12DFB7CB | Q68: 010104 | R68: T | S68: F | T68: F | AU68: 0101045A2A35B30086C731E0135B12DFB7CB | AV68: 40
... A72: 콘크리트 스토퍼 | B72: H:150*1.5mm | C72: M | D72: 8 | F72: =TRUNC(E72*D72,0) -> 0 | H72: =TRUNC(G72*D72,0) -> 0 | J72: =TRUNC(I72*D72,0) -> 0 | K72: =TRUNC(E72+G72+I72,0) -> 0 | L72: =TRUNC(F72+H72+J72,0) -> 0 | N72: 5A2A852B5D8C2378A113B217938AD3 | Q72: 010104 | R72: T | S72: F | T72: F | AU72: 0101045A2A852B5D8C2378A113B217938AD3 | AV72: 341
A73: [ 합 계 ] | F73: =SUM(F57:F72) -> 0 | H73: =SUM(H57:H72) -> 0 | J73: =SUM(J57:J72) -> 0 | L73: =SUM(L57:L72) -> 0 | N73: TOTAL
A76: 010105 철 골 공 사 | Q76: 010105
A77: H빔 - 서울 | B77: H빔, SS400, 200*100*5.5*8.0mm, 대리점상차도 | C77: TON | D77: 1.305 | F77: =TRUNC(E77*D77,0) -> 0 | H77: =TRUNC(G77*D77,0) -> 0 | J77: =TRUNC(I77*D77,0) -> 0 | K77: =TRUNC(E77+G77+I77,0) -> 0 | L77: =TRUNC(F77+H77+J77,0) -> 0 | N77: 5D06D519128244912A13A611E0690D52005847 | Q77: 010105 | R77: F | S77: F | T77: T | AU77: 0101055D06D519128244912A13A611E0690D52005847 | AV77: 43
A78: H빔 - 서울 | B78: H빔, SS400, 200*200*8.0*12.0mm, 대리점상차도 | C78: TON | D78: 3.625 | F78: =TRUNC(E78*D78,0) -> 0 | H78: =TRUNC(G78*D78,0) -> 0 | J78: =TRUNC(I78*D78,0) -> 0 | K78: =TRUNC(E78+G78+I78,0) -> 0 | L78: =TRUNC(F78+H78+J78,0) -> 0 | N78: 5D06D519128244912A13A611E0690D52005840 | Q78: 010105 | R78: F | S78: F | T78: T | AU78: 0101055D06D519128244912A13A611E0690D52005840 | AV78: 44
A79: 일반구조용각형강관 | B79: 일반구조용각형강관, 각형강관, 100*50*2.3mm | C79: M | D79: 233 | F79: =TRUNC(E79*D79,0) -> 0 | H79: =TRUNC(G79*D79,0) -> 0 | J79: =TRUNC(I79*D79,0) -> 0 | K79: =TRUNC(E79+G79+I79,0) -> 0 | L79: =TRUNC(F79+H79+J79,0) -> 0 | N79: 5D79D58C6B8EE04D40136813F81FD3248A053A | Q79: 010105 | R79: F | S79: F | T79: T | AU79: 0101055D79D58C6B8EE04D40136813F81FD3248A053A | AV79: 332
A80: 일반구조용압연강판 | B80: 일반구조용압연강판, 6.0mm | C80: TON | D80: 0.199 | F80: =TRUNC(E80*D80,0) -> 0 | H80: =TRUNC(G80*D80,0) -> 0 | J80: =TRUNC(I80*D80,0) -> 0 | K80: =TRUNC(E80+G80+I80,0) -> 0 | L80: =TRUNC(F80+H80+J80,0) -> 0 | N80: 5D06D5191282701B3213171598D25F3D6AF0A7 | Q80: 010105 | R80: F | S80: F | T80: T | AU80: 0101055D06D5191282701B3213171598D25F3D6AF0A7 | AV80: 47
A81: 일반구조용압연강판 | B81: 일반구조용압연강판, 8.0mm | C81: TON | D81: 0.023 | F81: =TRUNC(E81*D81,0) -> 0 | H81: =TRUNC(G81*D81,0) -> 0 | J81: =TRUNC(I81*D81,0) -> 0 | K81: =TRUNC(E81+G81+I81,0) -> 0 | L81: =TRUNC(F81+H81+J81,0) -> 0 | N81: 5D06D5191282701B3213171598D25F3D6B9CA8 | Q81: 010105 | R81: F | S81: F | T81: T | AU81: 0101055D06D5191282701B3213171598D25F3D6B9CA8 | AV81: 226
A82: 일반구조용압연강판 | B82: 일반구조용압연강판, 10mm | C82: TON | D82: 0.014 | F82: =TRUNC(E82*D82,0) -> 0 | H82: =TRUNC(G82*D82,0) -> 0 | J82: =TRUNC(I82*D82,0) -> 0 | K82: =TRUNC(E82+G82+I82,0) -> 0 | L82: =TRUNC(F82+H82+J82,0) -> 0 | N82: 5D06D5191282701B3213171598D25F3D6AF0A4 | Q82: 010105 | R82: F | S82: F | T82: T | AU82: 0101055D06D5191282701B3213171598D25F3D6AF0A4 | AV82: 48
A83: 일반구조용압연강판 | B83: 일반구조용압연강판, 12mm | C83: TON | D83: 0.365 | F83: =TRUNC(E83*D83,0) -> 0 | H83: =TRUNC(G83*D83,0) -> 0 | J83: =TRUNC(I83*D83,0) -> 0 | K83: =TRUNC(E83+G83+I83,0) -> 0 | L83: =TRUNC(F83+H83+J83,0) -> 0 | N83: 5D06D5191282701B3213171598D25F3D6AF0A5 | Q83: 010105 | R83: F | S83: F | T83: T | AU83: 0101055D06D5191282701B3213171598D25F3D6AF0A5 | AV83: 49
A84: 일반구조용압연강판 | B84: 일반구조용압연강판, 20mm | C84: TON | D84: 0.033 | F84: =TRUNC(E84*D84,0) -> 0 | H84: =TRUNC(G84*D84,0) -> 0 | J84: =TRUNC(I84*D84,0) -> 0 | K84: =TRUNC(E84+G84+I84,0) -> 0 | L84: =TRUNC(F84+H84+J84,0) -> 0 | N84: 5D06D5191282701B3213171598D25F3D6AF148 | Q84: 010105 | R84: F | S84: F | T84: T | AU84: 0101055D06D5191282701B3213171598D25F3D6AF148 | AV84: 50
A85: 일반봉강 - 서울 | B85: 일반봉강, SS400, Φ19mm, 대리점상차도 | C85: kg | D85: 280 | F85: =TRUNC(E85*D85,0) -> 0 | H85: =TRUNC(G85*D85,0) -> 0 | J85: =TRUNC(I85*D85,0) -> 0 | K85: =TRUNC(E85+G85+I85,0) -> 0 | L85: =TRUNC(F85+H85+J85,0) -> 0 | N85: 5D06D51912824480BB139B115EC301DFAEC253 | Q85: 010105 | R85: F | S85: F | T85: T | AU85: 0101055D06D51912824480BB139B115EC301DFAEC253 | AV85: 97
A86: 앵커볼트 | B86: 앵커볼트, M19*650mm | C86: 개 | D86: 17 | F86: =TRUNC(E86*D86,0) -> 0 | H86: =TRUNC(G86*D86,0) -> 0 | J86: =TRUNC(I86*D86,0) -> 0 | K86: =TRUNC(E86+G86+I86,0) -> 0 | L86: =TRUNC(F86+H86+J86,0) -> 0 | N86: 5D06C570FC824C33CD13EB151E5F983D6161E2 | Q86: 010105 | R86: F | S86: F | T86: T | AU86: 0101055D06C570FC824C33CD13EB151E5F983D6161E2 | AV86: 227
A87: 고장력볼트 | B87: 고장력볼트, F10T, M16*50mm | C87: 조 | D87: 1319 | F87: =TRUNC(E87*D87,0) -> 0 | H87: =TRUNC(G87*D87,0) -> 0 | J87: =TRUNC(I87*D87,0) -> 0 | K87: =TRUNC(E87+G87+I87,0) -> 0 | L87: =TRUNC(F87+H87+J87,0) -> 0 | N87: 5D06C570FC824C33DE136B12A23985300EDA31 | Q87: 010105 | R87: F | S87: F | T87: T | AU87: 0101055D06C570FC824C33DE136B12A23985300EDA31 | AV87: 52
A88: 고장력볼트 | B88: 고장력볼트, F10T, M20*50mm | C88: 조 | D88: 33 | F88: =TRUNC(E88*D88,0) -> 0 | H88: =TRUNC(G88*D88,0) -> 0 | J88: =TRUNC(I88*D88,0) -> 0 | K88: =TRUNC(E88+G88+I88,0) -> 0 | L88: =TRUNC(F88+H88+J88,0) -> 0 | N88: 5D06C570FC824C33DE136B12A23985300EDFB5 | Q88: 010105 | R88: F | S88: F | T88: T | AU88: 0101055D06C570FC824C33DE136B12A23985300EDFB5 | AV88: 53
... A100: 내화피복재 | B100: 내화피복재, 뉴-하이코트, 1시간, 20mm | C100: M2 | D100: 135 | F100: =TRUNC(E100*D100,0) -> 0 | H100: =TRUNC(G100*D100,0) -> 0 | J100: =TRUNC(I100*D100,0) -> 0 | K100: =TRUNC(E100+G100+I100,0) -> 0 | L100: =TRUNC(F100+H100+J100,0) -> 0 | N100: 5D06D519168816AA3313B217106DAEEFDCFD9B | Q100: 010105 | R100: F | S100: F | T100: T | AU100: 0101055D06D519168816AA3313B217106DAEEFDCFD9B | AV100: 333
A101: [ 합 계 ] | F101: =SUM(F77:F100) -> 0 | H101: =SUM(H77:H100) -> 0 | J101: =SUM(J77:J100) -> 0 | L101: =SUM(L77:L100) -> 0 | N101: TOTAL
A104: 010106 조 적 공 사 | Q104: 010106
A105: 콘크리트벽돌 | B105: 콘크리트벽돌, 190*57*90mm, 서울, C종2급 | C105: 매 | D105: 3443 | F105: =TRUNC(E105*D105,0) -> 0 | H105: =TRUNC(G105*D105,0) -> 0 | J105: =TRUNC(I105*D105,0) -> 0 | K105: =TRUNC(E105+G105+I105,0) -> 0 | L105: =TRUNC(F105+H105+J105,0) -> 0 | N105: 5D06D5191181F0C650138912D4B403ADD37B22 | Q105: 010106 | R105: F | S105: F | T105: T | AU105: 0101065D06D5191181F0C650138912D4B403ADD37B22 | AV105: 229
A106: 0.5B 벽돌쌓기 | B106: 3.6m 이하 | C106: 천매 | D106: 0.06 | F106: =TRUNC(E106*D106,0) -> 0 | H106: =TRUNC(G106*D106,0) -> 0 | J106: =TRUNC(I106*D106,0) -> 0 | K106: =TRUNC(E106+G106+I106,0) -> 0 | L106: =TRUNC(F106+H106+J106,0) -> 0 | N106: 5A2A1555C48A3996D213551BE3B035 | Q106: 010106 | R106: T | S106: F | T106: F | AU106: 0101065A2A1555C48A3996D213551BE3B035 | AV106: 66
A107: 0.5B 벽돌쌓기 | B107: 3.6m 초과 | C107: 천매 | D107: 0.488 | F107: =TRUNC(E107*D107,0) -> 0 | H107: =TRUNC(G107*D107,0) -> 0 | J107: =TRUNC(I107*D107,0) -> 0 | K107: =TRUNC(E107+G107+I107,0) -> 0 | L107: =TRUNC(F107+H107+J107,0) -> 0 | N107: 5A2A1555C48A3996D213551BE3B389 | Q107: 010106 | R107: T | S107: F | T107: F | AU107: 0101065A2A1555C48A3996D213551BE3B389 | AV107: 67
A108: 1.0B 벽돌쌓기 | B108: 3.6m 이하 | C108: 천매 | D108: 1.263 | F108: =TRUNC(E108*D108,0) -> 0 | H108: =TRUNC(G108*D108,0) -> 0 | J108: =TRUNC(I108*D108,0) -> 0 | K108: =TRUNC(E108+G108+I108,0) -> 0 | L108: =TRUNC(F108+H108+J108,0) -> 0 | N108: 5A2A1555C48A39B1AF138A13038382 | Q108: 010106 | R108: T | S108: F | T108: F | AU108: 0101065A2A1555C48A39B1AF138A13038382 | AV108: 68
A109: 1.0B 벽돌쌓기 | B109: 3.6m 초과 | C109: 천매 | D109: 1.467 | F109: =TRUNC(E109*D109,0) -> 0 | H109: =TRUNC(G109*D109,0) -> 0 | J109: =TRUNC(I109*D109,0) -> 0 | K109: =TRUNC(E109+G109+I109,0) -> 0 | L109: =TRUNC(F109+H109+J109,0) -> 0 | N109: 5A2A1555C48A39B1AF138A130380CE | Q109: 010106 | R109: T | S109: F | T109: F | AU109: 0101065A2A1555C48A39B1AF138A130380CE | AV109: 69
A110: 벽돌 운반 | B110: 인력, 1층 | C110: 천매 | D110: 0.488 | F110: =TRUNC(E110*D110,0) -> 0 | H110: =TRUNC(G110*D110,0) -> 0 | J110: =TRUNC(I110*D110,0) -> 0 | K110: =TRUNC(E110+G110+I110,0) -> 0 | L110: =TRUNC(F110+H110+J110,0) -> 0 | N110: 5A2A1555C685173E9113731FB30DC0 | Q110: 010106 | R110: T | S110: F | T110: F | AU110: 0101065A2A1555C685173E9113731FB30DC0 | AV110: 70
A111: 벽돌 운반 | B111: 인력, 2층 | C111: 천매 | D111: 0.06 | F111: =TRUNC(E111*D111,0) -> 0 | H111: =TRUNC(G111*D111,0) -> 0 | J111: =TRUNC(I111*D111,0) -> 0 | K111: =TRUNC(E111+G111+I111,0) -> 0 | L111: =TRUNC(F111+H111+J111,0) -> 0 | N111: 5A2A1555C685173E9113731EAD227B | Q111: 010106 | R111: T | S111: F | T111: F | AU111: 0101065A2A1555C685173E9113731EAD227B | AV111: 71
A112: 벽돌 운반 | B112: 인력, 3층 | C112: 천매 | D112: 1.263 | F112: =TRUNC(E112*D112,0) -> 0 | H112: =TRUNC(G112*D112,0) -> 0 | J112: =TRUNC(I112*D112,0) -> 0 | K112: =TRUNC(E112+G112+I112,0) -> 0 | L112: =TRUNC(F112+H112+J112,0) -> 0 | N112: 5A2A1555C685173E9113731D8619B8 | Q112: 010106 | R112: T | S112: F | T112: F | AU112: 0101065A2A1555C685173E9113731D8619B8 | AV112: 72
A113: 벽돌 운반 | B113: 인력, 4층 | C113: 천매 | D113: 1.468 | F113: =TRUNC(E113*D113,0) -> 0 | H113: =TRUNC(G113*D113,0) -> 0 | J113: =TRUNC(I113*D113,0) -> 0 | K113: =TRUNC(E113+G113+I113,0) -> 0 | L113: =TRUNC(F113+H113+J113,0) -> 0 | N113: 5A2A1555C685173E9113731CFF4632 | Q113: 010106 | R113: T | S113: F | T113: F | AU113: 0101065A2A1555C685173E9113731CFF4632 | AV113: 73
A114: 철근콘크리트인방 | B114: 200*200 | C114: M | D114: 3 | F114: =TRUNC(E114*D114,0) -> 0 | H114: =TRUNC(G114*D114,0) -> 0 | J114: =TRUNC(I114*D114,0) -> 0 | K114: =TRUNC(E114+G114+I114,0) -> 0 | L114: =TRUNC(F114+H114+J114,0) -> 0 | N114: 5A2A154641828326BC133C1DA3D23B | Q114: 010106 | R114: T | S114: F | T114: F | AU114: 0101065A2A154641828326BC133C1DA3D23B | AV114: 74
A115: [ 합 계 ] | F115: =SUM(F105:F114) -> 0 | H115: =SUM(H105:H114) -> 0 | J115: =SUM(J105:J114) -> 0 | L115: =SUM(L105:L114) -> 0 | N115: TOTAL
A118: 010107 돌 공 사 | Q118: 010107
A119: 화강석붙임(건식/앵커, 버너) | B119: 벽, 포천석 30mm | C119: M2 | D119: 1 | F119: =TRUNC(E119*D119,0) -> 0 | H119: =TRUNC(G119*D119,0) -> 0 | J119: =TRUNC(I119*D119,0) -> 0 | K119: =TRUNC(E119+G119+I119,0) -> 0 | L119: =TRUNC(F119+H119+J119,0) -> 0 | N119: 5A2AA572C18390DE74130018B597FD | Q119: 010107 | R119: T | S119: F | T119: F | AU119: 0101075A2AA572C18390DE74130018B597FD | AV119: 76
A120: 화강석붙임(습식, 버너) | B120: 바닥, 포천석 30mm, 모르타르 30mm | C120: M2 | D120: 11 | F120: =TRUNC(E120*D120,0) -> 0 | H120: =TRUNC(G120*D120,0) -> 0 | J120: =TRUNC(I120*D120,0) -> 0 | K120: =TRUNC(E120+G120+I120,0) -> 0 | L120: =TRUNC(F120+H120+J120,0) -> 0 | N120: 5A2AA572C38EB032AC13E010544311 | Q120: 010107 | R120: T | S120: F | T120: F | AU120: 0101075A2AA572C38EB032AC13E010544311 | AV120: 77
A121: 화강석붙임(습식, 버너) | B121: 디딤판, 포천석 300*30mm, 모르타르 35mm | C121: M | D121: 22 | F121: =TRUNC(E121*D121,0) -> 0 | H121: =TRUNC(G121*D121,0) -> 0 | J121: =TRUNC(I121*D121,0) -> 0 | K121: =TRUNC(E121+G121+I121,0) -> 0 | L121: =TRUNC(F121+H121+J121,0) -> 0 | N121: 5A2AA572C5899FFCB813E91DAF5764 | Q121: 010107 | R121: T | S121: F | T121: F | AU121: 0101075A2AA572C5899FFCB813E91DAF5764 | AV121: 78
A122: 화강석붙임(습식, 버너) | B122: 챌판, 포천석 30mm, 모르타르 25mm | C122: M2 | D122: 5 | F122: =TRUNC(E122*D122,0) -> 0 | H122: =TRUNC(G122*D122,0) -> 0 | J122: =TRUNC(I122*D122,0) -> 0 | K122: =TRUNC(E122+G122+I122,0) -> 0 | L122: =TRUNC(F122+H122+J122,0) -> 0 | N122: 5A2AA572C5899FFCB813FA15A77A83 | Q122: 010107 | R122: T | S122: F | T122: F | AU122: 0101075A2AA572C5899FFCB813FA15A77A83 | AV122: 79
A123: 화강석 두겁대(습식, 버너) | B123: 포천석 300*30mm, 모르타르 30mm | C123: M | D123: 7 | F123: =TRUNC(E123*D123,0) -> 0 | H123: =TRUNC(G123*D123,0) -> 0 | J123: =TRUNC(I123*D123,0) -> 0 | K123: =TRUNC(E123+G123+I123,0) -> 0 | L123: =TRUNC(F123+H123+J123,0) -> 0 | N123: 5A2AA572C784484BFA1390155141CA | Q123: 010107 | R123: T | S123: F | T123: F | AU123: 0101075A2AA572C784484BFA1390155141CA | AV123: 80
A124: [ 합 계 ] | F124: =SUM(F119:F123) -> 0 | H124: =SUM(H119:H123) -> 0 | J124: =SUM(J119:J123) -> 0 | L124: =SUM(L119:L123) -> 0 | N124: TOTAL
A127: 010108 타 일 공 사 | Q127: 010108
A128: 자기질타일 | B128: 자기질타일, 석재타일, 300*300*15mm | C128: M2 | D128: 40 | F128: =TRUNC(E128*D128,0) -> 0 | H128: =TRUNC(G128*D128,0) -> 0 | J128: =TRUNC(I128*D128,0) -> 0 | K128: =TRUNC(E128+G128+I128,0) -> 0 | L128: =TRUNC(F128+H128+J128,0) -> 0 | N128: 5D06D5191181F0D0CF131318274149B88490CE | Q128: 010108 | R128: F | S128: F | T128: T | AU128: 0101085D06D5191181F0D0CF131318274149B88490CE | AV128: 82
...
