Workbook

Sheet 원가계산서 (관악)
A1: 공 사 원 가 계 산 서
A3: 공 사 명 : 서울관악우체국 임대공간 조성공사
A4: 구 분 비 목 | D4: 구 성 비 | E4: 금 액 | F4: 비 고
A6: 순 공 사 원 가 | B6: 재료비 | C6: 직 접 재 료 비 | E6: ='집계표(관악임대)'!F5 -> 0
C7: 간 접 재 료 비
C8: 소 계 | E8: =SUM(E6:E7) -> 0
B9: 노무비 | C9: 직 접 노 무 비 | E9: ='집계표(관악임대)'!H5 -> 0
C10: 간 접 노 무 비 | D10: 직.노*9.6% | E10: =E9*9.6% -> 0 | F10: 최대 9.6%
C11: 소 계 | E11: =SUM(E9:E10) -> 0
B12: 경 비 | C12: 기 계 경 비 | E12: ='집계표(관악임대)'!J5 -> 0
C13: 산 재 보 험 료 | D13: (노)*3.8% | E13: =E11*3.8% -> 0 | F13: 3.8% (법정)
C14: 고 용 보 험 료 | D14: (노)*0.87% | E14: =E11*0.87% -> 0 | F14: 0.87% (법정)
C15: 안 전 관 리 비 | D15: (재+직.노)*2.93% | E15: =SUM(E8,E9)*2.93% -> 0 | F15: 2.93% (법정)
C16: 기 타 경 비 | D16: (재+노)*3.03% | E16: =SUM(E8,E11)*3.03% -> 0 | F16: 최대 3.03%
C17: 환 경 보 전 비 | D17: (재+직.노+기.경)*0.3% | E17: =SUM(E8,E9,E12)*0.3% -> 0 | F17: 0.3% (법정)
C18: 소 계 | E18: =SUM(E12:E17) -> 0
B19: 계 | E19: =SUM(E18,E11,E8) -> 0
A20: 일 반 관 리 비 | D20: (재+노+경)*6% | E20: =E19*6% -> 0 | F20: 최대 6%
A21: 이 윤 | D21: (노+경+일)*10.51% | E21: =SUM(E11,E18,E20)*10.51% -> 0 | F21: 최대 10.51%
A22: 폐 기 물 처 리 비 | E22: ='집계표(관악임대)'!F11 -> 0
A23: 총 원 가 | E23: =E19+E20+E21+E22 -> 0
A24: 부 가 가 치 세 | D24: (총원가)*10% | E24: =E23*0.1 -> 0
A25: 도 급 금 액 | E25: =SUM(E23:E24) -> 0

Sheet 집계표(관악임대)
A1: 공 종 별 집 계 표
A3: 품 명 | B3: 규 격 | C3: 단위 | D3: 수량 | E3: 재 료 비 | G3: 노 무 비 | I3: 경 비 | K3: 합 계 | M3: 비 고 | N3: 공종코드 | O3: 변수 | P3: 상위공종 | Q3: 공종구분 | R3: 공종레벨 | S3: 공종소계 | T3: 원가계산서 연결금액
E4: 단 가 | F4: 금 액 | G4: 단 가 | H4: 금 액 | I4: 단 가 | J4: 금 액 | K4: 단 가 | L4: 금 액
A5: ='내역서(관악임대)'!A4 -> < 서울관악우체국> | F5: =SUM(F6:F9) -> 0 | H5: =SUM(H6:H9) -> 0 | J5: =SUM(J6:J9) -> 0 | L5: =F5+H5+J5 -> 0
A6: ='내역서(관악임대)'!A5 -> 01 가설, 철거공사 | C6: 식 | D6: 1 | F6: ='내역서(관악임대)'!F28 -> 0 | H6: ='내역서(관악임대)'!H28 -> 0 | J6: ='내역서(관악임대)'!J28 -> 0 | K6: =E6+G6+I6 -> 0 | L6: =F6+H6+J6 -> 0 | N6: 010101 | P6: 0101 | R6: 3
A7: ='내역서(관악임대)'!A30 -> 02 본건물공사 | C7: 식 | D7: 1 | F7: ='내역서(관악임대)'!F57 -> 0 | H7: ='내역서(관악임대)'!H57 -> 0 | J7: ='내역서(관악임대)'!J57 -> 0 | K7: =E7+G7+I7 -> 0 | L7: =F7+H7+J7 -> 0 | N7: 010111 | P7: 0101 | R7: 3
A8: ='내역서(관악임대)'!A59 -> 03 외 부 공 사 | C8: 식 | D8: 1 | F8: ='내역서(관악임대)'!F79 -> 0 | H8: ='내역서(관악임대)'!H79 -> 0 | J8: ='내역서(관악임대)'!J79 -> 0 | K8: =E8+G8+I8 -> 0 | L8: =F8+H8+J8 -> 0 | N8: 010117 | P8: 0101 | R8: 3
A9: ='내역서(관악임대)'!A81 -> 04 장애인시설공사 | C9: 식 | D9: 1 | F9: ='내역서(관악임대)'!F101 -> 0 | H9: ='내역서(관악임대)'!H101 -> 0 | J9: ='내역서(관악임대)'!J101 -> 0 | L9: =F9+H9+J9 -> 0
A11: ='내역서(관악임대)'!A105 -> 00 폐 기 물 공 사 | C11: 식 | D11: 1 | F11: ='내역서(관악임대)'!L110 -> 0

Sheet 내역서(관악임대)
A1: 공 종 별 내 역 서
A2: 품 명 | B2: 규 격 | C2: 단위 | D2: 수량 | E2: 재 료 비 | G2: 노 무 비 | I2: 경 비 | K2: 합 계 | M2: 비 고
E3: 단 가 | F3: 금 액 | G3: 단 가 | H3: 금 액 | I3: 단 가 | J3: 금 액 | K3: 단 가 | L3: 금 액
A4: < 서울관악우체국>
A5: 01 가설, 철거공사
A6: 건축물현장정리 | B6: 준공청소포함 | C6: M2 | D6: 24 | F6: =TRUNC(E6*D6, 0) -> 0 | H6: =TRUNC(G6*D6, 0) -> 0 | I6: =[1]일위대가!J12 -> 0 | J6: =TRUNC(I6*D6, 0) -> 0 | K6: =TRUNC(E6+G6+I6, 0) -> 0 | L6: =TRUNC(F6+H6+J6, 0) -> 0
A7: 가설칸막이 | C7: M2 | D7: 24 | F7: =TRUNC(E7*D7, 0) -> 0 | H7: =TRUNC(G7*D7, 0) -> 0 | J7: =TRUNC(I7*D7, 0) -> 0 | K7: =TRUNC(E7+G7+I7, 0) -> 0 | L7: =TRUNC(F7+H7+J7, 0) -> 0
A8: 부스칸막이철거 | C8: M2 | D8: 35 | F8: =TRUNC(E8*D8, 0) -> 0 | H8: =TRUNC(G8*D8, 0) -> 0 | J8: =TRUNC(I8*D8, 0) -> 0 | K8: =TRUNC(E8+G8+I8, 0) -> 0 | L8: =TRUNC(F8+H8+J8, 0) -> 0
A9: 휀코일철거 | C9: M2 | D9: 2 | F9: =TRUNC(E9*D9, 0) -> 0 | H9: =TRUNC(G9*D9, 0) -> 0 | J9: =TRUNC(I9*D9, 0) -> 0 | K9: =TRUNC(E9+G9+I9, 0) -> 0 | L9: =TRUNC(F9+H9+J9, 0) -> 0
A10: 자판기 이전설치 | C10: EA | D10: 1 | F10: =TRUNC(E10*D10, 0) -> 0 | H10: =TRUNC(G10*D10, 0) -> 0 | J10: =TRUNC(I10*D10, 0) -> 0 | K10: =TRUNC(E10+G10+I10, 0) -> 0 | L10: =TRUNC(F10+H10+J10, 0) -> 0
A11: 정수기 이전설치 | C11: EA | D11: 1 | F11: =TRUNC(E11*D11, 0) -> 0 | H11: =TRUNC(G11*D11, 0) -> 0 | J11: =TRUNC(I11*D11, 0) -> 0 | K11: =TRUNC(E11+G11+I11, 0) -> 0 | L11: =TRUNC(F11+H11+J11, 0) -> 0
A12: 휀코일 이전설치 | C12: EA | D12: 3 | F12: =TRUNC(E12*D12, 0) -> 0 | H12: =TRUNC(G12*D12, 0) -> 0 | J12: =TRUNC(I12*D12, 0) -> 0 | K12: =TRUNC(E12+G12+I12, 0) -> 0 | L12: =TRUNC(F12+H12+J12, 0) -> 0
A13: 안내대 이전설치 | C13: EA | D13: 2 | F13: =TRUNC(E13*D13, 0) -> 0 | H13: =TRUNC(G13*D13, 0) -> 0 | J13: =TRUNC(I13*D13, 0) -> 0 | K13: =TRUNC(E13+G13+I13, 0) -> 0 | L13: =TRUNC(F13+H13+J13, 0) -> 0
A14: 무근콘크리트철거 | B14: 인력,소형기계 | C14: M3 | D14: 1 | F14: =TRUNC(E14*D14, 0) -> 0 | H14: =TRUNC(G14*D14, 0) -> 0 | J14: =TRUNC(I14*D14, 0) -> 0 | K14: =TRUNC(E14+G14+I14, 0) -> 0 | L14: =TRUNC(F14+H14+J14, 0) -> 0
A15: 철근콘크리트철거 | B15: 인력,소형기계 | C15: M3 | D15: 6.2 | F15: =TRUNC(E15*D15, 0) -> 0 | H15: =TRUNC(G15*D15, 0) -> 0 | J15: =TRUNC(I15*D15, 0) -> 0 | K15: =TRUNC(E15+G15+I15, 0) -> 0 | L15: =TRUNC(F15+H15+J15, 0) -> 0
A16: 알미튬시트 철거 | C16: M2 | D16: 5 | F16: =TRUNC(E16*D16, 0) -> 0 | H16: =TRUNC(G16*D16, 0) -> 0 | J16: =TRUNC(I16*D16, 0) -> 0 | K16: =TRUNC(E16+G16+I16, 0) -> 0 | L16: =TRUNC(F16+H16+J16, 0) -> 0
A17: 복층유리철거 | C17: M2 | D17: 8.5 | F17: =TRUNC(E17*D17, 0) -> 0 | H17: =TRUNC(G17*D17, 0) -> 0 | J17: =TRUNC(I17*D17, 0) -> 0 | K17: =TRUNC(E17+G17+I17, 0) -> 0 | L17: =TRUNC(F17+H17+J17, 0) -> 0
A18: 알미늄창호철거 | C18: M2 | D18: 8.5 | F18: =TRUNC(E18*D18, 0) -> 0 | H18: =TRUNC(G18*D18, 0) -> 0 | J18: =TRUNC(I18*D18, 0) -> 0 | K18: =TRUNC(E18+G18+I18, 0) -> 0 | L18: =TRUNC(F18+H18+J18, 0) -> 0
A19: 화강석 바닥철거 | C19: M2 | D19: 3.7 | F19: =TRUNC(E19*D19, 0) -> 0 | H19: =TRUNC(G19*D19, 0) -> 0 | J19: =TRUNC(I19*D19, 0) -> 0 | K19: =TRUNC(E19+G19+I19, 0) -> 0 | L19: =TRUNC(F19+H19+J19, 0) -> 0
A20: 화강석 벽체철거 | C20: M2 | D20: 10.9 | F20: =TRUNC(E20*D20, 0) -> 0 | H20: =TRUNC(G20*D20, 0) -> 0 | J20: =TRUNC(I20*D20, 0) -> 0 | K20: =TRUNC(E20+G20+I20, 0) -> 0 | L20: =TRUNC(F20+H20+J20, 0) -> 0
A21: 화강석 통석철거 | C21: M | D21: 19.3 | F21: =TRUNC(E21*D21, 0) -> 0 | H21: =TRUNC(G21*D21, 0) -> 0 | J21: =TRUNC(I21*D21, 0) -> 0 | K21: =TRUNC(E21+G21+I21, 0) -> 0 | L21: =TRUNC(F21+H21+J21, 0) -> 0
A22: 석재타일철거 | C22: M2 | D22: 7.8 | F22: =TRUNC(E22*D22, 0) -> 0 | H22: =TRUNC(G22*D22, 0) -> 0 | J22: =TRUNC(I22*D22, 0) -> 0 | K22: =TRUNC(E22+G22+I22, 0) -> 0 | L22: =TRUNC(F22+H22+J22, 0) -> 0
A23: 고압블럭철거 | C23: M2 | D23: 4.7 | F23: =TRUNC(E23*D23, 0) -> 0 | H23: =TRUNC(G23*D23, 0) -> 0 | J23: =TRUNC(I23*D23, 0) -> 0 | K23: =TRUNC(E23+G23+I23, 0) -> 0 | L23: =TRUNC(F23+H23+J23, 0) -> 0
A24: 게시판철거 | C24: EA | D24: 1 | F24: =TRUNC(E24*D24, 0) -> 0 | H24: =TRUNC(G24*D24, 0) -> 0 | J24: =TRUNC(I24*D24, 0) -> 0 | K24: =TRUNC(E24+G24+I24, 0) -> 0 | L24: =TRUNC(F24+H24+J24, 0) -> 0
A25: 현수막철거 | C25: EA | D25: 1 | F25: =TRUNC(E25*D25, 0) -> 0 | H25: =TRUNC(G25*D25, 0) -> 0 | J25: =TRUNC(I25*D25, 0) -> 0 | K25: =TRUNC(E25+G25+I25, 0) -> 0 | L25: =TRUNC(F25+H25+J25, 0) -> 0
F26: =TRUNC(E26*D26, 0) -> 0 | H26: =TRUNC(G26*D26, 0) -> 0 | J26: =TRUNC(I26*D26, 0) -> 0 | K26: =TRUNC(E26+G26+I26, 0) -> 0 | L26: =TRUNC(F26+H26+J26, 0) -> 0
F27: =TRUNC(E27*D27, 0) -> 0 | H27: =TRUNC(G27*D27, 0) -> 0 | J27: =TRUNC(I27*D27, 0) -> 0 | K27: =TRUNC(E27+G27+I27, 0) -> 0 | L27: =TRUNC(F27+H27+J27, 0) -> 0
A28: [ 소 계 ] | F28: =SUM(F6:F27) -> 0 | H28: =SUM(H6:H27) -> 0 | J28: =SUM(J6:J27) -> 0 | L28: =SUM(L6:L27) -> 0
A30: 02 본건물공사
A31: 1/SSD(스텐레스스틸창호, 150*50*1.5T) | B31: 틀보강 SST 150*100*3.0T 포함 | C31: EA | D31: 1 | F31: =TRUNC(E31*D31, 0) -> 0 | H31: =TRUNC(G31*D31, 0) -> 0 | J31: =TRUNC(I31*D31, 0) -> 0 | K31: =TRUNC(E31+G31+I31, 0) -> 0 | L31: =TRUNC(F31+H31+J31, 0) -> 0
A32: 1/AWD | B32: 2.74*3.57, 50*120AL | C32: EA | D32: 1 | F32: =TRUNC(E32*D32, 0) -> 0 | H32: =TRUNC(G32*D32, 0) -> 0 | J32: =TRUNC(I32*D32, 0) -> 0 | K32: =TRUNC(E32+G32+I32, 0) -> 0 | L32: =TRUNC(F32+H32+J32, 0) -> 0
A33: 방범셧타 | B33: 2.74*3.57,폐쇄형, 1.6t | C33: EA | D33: 1 | F33: =TRUNC(E33*D33, 0) -> 0 | H33: =TRUNC(G33*D33, 0) -> 0 | J33: =TRUNC(I33*D33, 0) -> 0 | K33: =TRUNC(E33+G33+I33, 0) -> 0 | L33: =TRUNC(F33+H33+J33, 0) -> 0
A34: 방범접합유리 | B34: 12.8mm | C34: M2 | D34: 38 | F34: =TRUNC(E34*D34, 0) -> 0 | H34: =TRUNC(G34*D34, 0) -> 0 | J34: =TRUNC(I34*D34, 0) -> 0 | K34: =TRUNC(E34+G34+I34, 0) -> 0 | L34: =TRUNC(F34+H34+J34, 0) -> 0
A35: 강화유리 | B35: 10MM | C35: M2 | D35: 5.9 | F35: =TRUNC(E35*D35, 0) -> 0 | H35: =TRUNC(G35*D35, 0) -> 0 | J35: =TRUNC(I35*D35, 0) -> 0 | K35: =TRUNC(E35+G35+I35, 0) -> 0 | L35: =TRUNC(F35+H35+J35, 0) -> 0
A36: 유리끼우고닦기 | B36: 강제 10MM | C36: M2 | D36: 43.9 | F36: =TRUNC(E36*D36, 0) -> 0 | H36: =TRUNC(G36*D36, 0) -> 0 | J36: =TRUNC(I36*D36, 0) -> 0 | K36: =TRUNC(E36+G36+I36, 0) -> 0 | L36: =TRUNC(F36+H36+J36, 0) -> 0
A37: 유리주위코킹 | C37: M | D37: 180 | F37: =TRUNC(E37*D37, 0) -> 0 | H37: =TRUNC(G37*D37, 0) -> 0 | J37: =TRUNC(I37*D37, 0) -> 0 | K37: =TRUNC(E37+G37+I37, 0) -> 0 | L37: =TRUNC(F37+H37+J37, 0) -> 0
A38: 창호주위 코킹 | C38: M | D38: 20 | F38: =TRUNC(E38*D38, 0) -> 0 | H38: =TRUNC(G38*D38, 0) -> 0 | J38: =TRUNC(I38*D38, 0) -> 0 | K38: =TRUNC(E38+G38+I38, 0) -> 0 | L38: =TRUNC(F38+H38+J38, 0) -> 0
A39: 강화유리도어 | B39: 0.9*2.1, 12MM강화 | C39: EA | D39: 1 | F39: =TRUNC(E39*D39, 0) -> 0 | H39: =TRUNC(G39*D39, 0) -> 0 | J39: =TRUNC(I39*D39, 0) -> 0 | K39: =TRUNC(E39+G39+I39, 0) -> 0 | L39: =TRUNC(F39+H39+J39, 0) -> 0
A40: 강화유리도어 | B40: 0.9*2.4, 12MM강화 | C40: EA | D40: 2 | F40: =TRUNC(E40*D40, 0) -> 0 | H40: =TRUNC(G40*D40, 0) -> 0 | J40: =TRUNC(I40*D40, 0) -> 0 | K40: =TRUNC(E40+G40+I40, 0) -> 0 | L40: =TRUNC(F40+H40+J40, 0) -> 0
A41: 후로아힌지 | C41: EA | D41: 3 | F41: =TRUNC(E41*D41, 0) -> 0 | H41: =TRUNC(G41*D41, 0) -> 0 | J41: =TRUNC(I41*D41, 0) -> 0 | K41: =TRUNC(E41+G41+I41, 0) -> 0 | L41: =TRUNC(F41+H41+J41, 0) -> 0
A42: 도어첵크 | C42: EA | D42: 2 | F42: =TRUNC(E42*D42, 0) -> 0 | H42: =TRUNC(G42*D42, 0) -> 0 | J42: =TRUNC(I42*D42, 0) -> 0 | K42: =TRUNC(E42+G42+I42, 0) -> 0 | L42: =TRUNC(F42+H42+J42, 0) -> 0
A43: 출입문손잡이 | C43: EA | D43: 3 | F43: =TRUNC(E43*D43, 0) -> 0 | H43: =TRUNC(G43*D43, 0) -> 0 | J43: =TRUNC(I43*D43, 0) -> 0 | K43: =TRUNC(E43+G43+I43, 0) -> 0 | L43: =TRUNC(F43+H43+J43, 0) -> 0
A44: 각파이프(철제) | B44: 50*50*2.3T | C44: M | D44: 237 | F44: =TRUNC(E44*D44, 0) -> 0 | H44: =TRUNC(G44*D44, 0) -> 0 | J44: =TRUNC(I44*D44, 0) -> 0 | K44: =TRUNC(E44+G44+I44, 0) -> 0 | L44: =TRUNC(F44+H44+J44, 0) -> 0
A45: 잡철물제작설치 | B45: 간단구조 | C45: KG | D45: 792 | F45: =TRUNC(E45*D45, 0) -> 0 | H45: =TRUNC(G45*D45, 0) -> 0 | J45: =TRUNC(I45*D45, 0) -> 0 | K45: =TRUNC(E45+G45+I45, 0) -> 0 | L45: =TRUNC(F45+H45+J45, 0) -> 0
A46: 녹막이페인트 | C46: M2 | D46: 48 | F46: =TRUNC(E46*D46, 0) -> 0 | H46: =TRUNC(G46*D46, 0) -> 0 | J46: =TRUNC(I46*D46, 0) -> 0 | K46: =TRUNC(E46+G46+I46, 0) -> 0 | L46: =TRUNC(F46+H46+J46, 0) -> 0
A47: 경량철골천정틀 | B47: M-BAR | C47: M2 | D47: 73 | F47: =TRUNC(E47*D47, 0) -> 0 | H47: =TRUNC(G47*D47, 0) -> 0 | J47: =TRUNC(I47*D47, 0) -> 0 | K47: =TRUNC(E47+G47+I47, 0) -> 0 | L47: =TRUNC(F47+H47+J47, 0) -> 0
A48: 흡음패널 | B48: T=50MM, 0.5T내후강판 | C48: M2 | D48: 73 | F48: =TRUNC(E48*D48, 0) -> 0 | H48: =TRUNC(G48*D48, 0) -> 0 | J48: =TRUNC(I48*D48, 0) -> 0 | K48: =TRUNC(E48+G48+I48, 0) -> 0 | L48: =TRUNC(F48+H48+J48, 0) -> 0
A49: 무석면텍스 | B49: 12MM*300*600 | C49: M2 | D49: 73 | F49: =TRUNC(E49*D49, 0) -> 0 | H49: =TRUNC(G49*D49, 0) -> 0 | J49: =TRUNC(I49*D49, 0) -> 0 | K49: =TRUNC(E49+G49+I49, 0) -> 0 | L49: =TRUNC(F49+H49+J49, 0) -> 0
A50: 천정점검구설치 | C50: EA | D50: 2 | F50: =TRUNC(E50*D50, 0) -> 0 | H50: =TRUNC(G50*D50, 0) -> 0 | J50: =TRUNC(I50*D50, 0) -> 0 | K50: =TRUNC(E50+G50+I50, 0) -> 0 | L50: =TRUNC(F50+H50+J50, 0) -> 0
A51: 휀코일카바 | C51: M | D51: 8.3 | F51: =TRUNC(E51*D51, 0) -> 0 | H51: =TRUNC(G51*D51, 0) -> 0 | J51: =TRUNC(I51*D51, 0) -> 0 | K51: =TRUNC(E51+G51+I51, 0) -> 0 | L51: =TRUNC(F51+H51+J51, 0) -> 0
A52: 급수라인 연결설치 | C52: EA | D52: 1 | F52: =TRUNC(E52*D52, 0) -> 0 | H52: =TRUNC(G52*D52, 0) -> 0 | J52: =TRUNC(I52*D52, 0) -> 0 | K52: =TRUNC(E52+G52+I52, 0) -> 0 | L52: =TRUNC(F52+H52+J52, 0) -> 0
A53: 배수라인 연결설치 | C53: EA | D53: 1 | F53: =TRUNC(E53*D53, 0) -> 0 | H53: =TRUNC(G53*D53, 0) -> 0 | J53: =TRUNC(I53*D53, 0) -> 0 | K53: =TRUNC(E53+G53+I53, 0) -> 0 | L53: =TRUNC(F53+H53+J53, 0) -> 0
A54: 출입구캐노피 설치 | C54: EA | D54: 1 | F54: =TRUNC(E54*D54, 0) -> 0 | H54: =TRUNC(G54*D54, 0) -> 0 | J54: =TRUNC(I54*D54, 0) -> 0 | K54: =TRUNC(E54+G54+I54, 0) -> 0 | L54: =TRUNC(F54+H54+J54, 0) -> 0
F55: =TRUNC(E55*D55, 0) -> 0 | H55: =TRUNC(G55*D55, 0) -> 0 | J55: =TRUNC(I55*D55, 0) -> 0 | K55: =TRUNC(E55+G55+I55, 0) -> 0 | L55: =TRUNC(F55+H55+J55, 0) -> 0
F56: =TRUNC(E56*D56, 0) -> 0 | H56: =TRUNC(G56*D56, 0) -> 0 | J56: =TRUNC(I56*D56, 0) -> 0 | K56: =TRUNC(E56+G56+I56, 0) -> 0 | L56: =TRUNC(F56+H56+J56, 0) -> 0
A57: [ 소 계 ] | F57: =SUM(F31:F56) -> 0 | H57: =SUM(H31:H56) -> 0 | J57: =SUM(J31:J56) -> 0 | L57: =SUM(L31:L56) -> 0
A59: 03 외 부 공 사
A60: 터파기 | C60: M3 | D60: 31 | F60: =TRUNC(E60*D60, 0) -> 0 | H60: =TRUNC(G60*D60, 0) -> 0 | J60: =TRUNC(I60*D60, 0) -> 0 | K60: =TRUNC(E60+G60+I60, 0) -> 0 | L60: =TRUNC(F60+H60+J60, 0) -> 0
A61: 잔토처리 | B61: 장외,덤프 15톤 | C61: 대 | D61: 2 | F61: =TRUNC(E61*D61, 0) -> 0 | H61: =TRUNC(G61*D61, 0) -> 0 | J61: =TRUNC(I61*D61, 0) -> 0 | K61: =TRUNC(E61+G61+I61, 0) -> 0 | L61: =TRUNC(F61+H61+J61, 0) -> 0
A62: 되메우기 | C62: M3 | D62: 15 | F62: =TRUNC(E62*D62, 0) -> 0 | H62: =TRUNC(G62*D62, 0) -> 0 | J62: =TRUNC(I62*D62, 0) -> 0 | K62: =TRUNC(E62+G62+I62, 0) -> 0 | L62: =TRUNC(F62+H62+J62, 0) -> 0
A63: 잡석깔기 | C63: M3 | D63: 5 | F63: =TRUNC(E63*D63, 0) -> 0 | H63: =TRUNC(G63*D63, 0) -> 0 | J63: =TRUNC(I63*D63, 0) -> 0 | K63: =TRUNC(E63+G63+I63, 0) -> 0 | L63: =TRUNC(F63+H63+J63, 0) -> 0
A64: 철근가공조립 | C64: KG | D64: 318 | F64: =TRUNC(E64*D64, 0) -> 0 | H64: =TRUNC(G64*D64, 0) -> 0 | J64: =TRUNC(I64*D64, 0) -> 0 | K64: =TRUNC(E64+G64+I64, 0) -> 0 | L64: =TRUNC(F64+H64+J64, 0) -> 0
A65: 합판거푸집 | B65: 4회 | C65: M2 | D65: 7.9 | F65: =TRUNC(E65*D65, 0) -> 0 | H65: =TRUNC(G65*D65, 0) -> 0 | J65: =TRUNC(I65*D65, 0) -> 0 | K65: =TRUNC(E65+G65+I65, 0) -> 0 | L65: =TRUNC(F65+H65+J65, 0) -> 0
A66: 무근콘크리트타설 | B66: 인력비빔 | C66: M3 | D66: 1.2 | F66: =TRUNC(E66*D66, 0) -> 0 | H66: =TRUNC(G66*D66, 0) -> 0 | J66: =TRUNC(I66*D66, 0) -> 0 | K66: =TRUNC(E66+G66+I66, 0) -> 0 | L66: =TRUNC(F66+H66+J66, 0) -> 0
A67: 철근콘크리트타설 | B67: 기계비빔 | C67: M3 | D67: 5.5 | F67: =TRUNC(E67*D67, 0) -> 0 | H67: =TRUNC(G67*D67, 0) -> 0 | J67: =TRUNC(I67*D67, 0) -> 0 | K67: =TRUNC(E67+G67+I67, 0) -> 0 | L67: =TRUNC(F67+H67+J67, 0) -> 0
A68: 액체방수 | B68: 1종 | C68: M2 | D68: 17 | F68: =TRUNC(E68*D68, 0) -> 0 | H68: =TRUNC(G68*D68, 0) -> 0 | J68: =TRUNC(I68*D68, 0) -> 0 | K68: =TRUNC(E68+G68+I68, 0) -> 0 | L68: =TRUNC(F68+H68+J68, 0) -> 0
A69: 화강석 버너구이/바닥 | C69: M2 | D69: 8 | F69: =TRUNC(E69*D69, 0) -> 0 | H69: =TRUNC(G69*D69, 0) -> 0 | J69: =TRUNC(I69*D69, 0) -> 0 | K69: =TRUNC(E69+G69+I69, 0) -> 0 | L69: =TRUNC(F69+H69+J69, 0) -> 0
A70: 화강석 버너구이/벽 | C70: M2 | D70: 3 | F70: =TRUNC(E70*D70, 0) -> 0 | H70: =TRUNC(G70*D70, 0) -> 0 | J70: =TRUNC(I70*D70, 0) -> 0 | K70: =TRUNC(E70+G70+I70, 0) -> 0 | L70: =TRUNC(F70+H70+J70, 0) -> 0
A71: 화강석 통석 | C71: M | D71: 12 | F71: =TRUNC(E71*D71, 0) -> 0 | H71: =TRUNC(G71*D71, 0) -> 0 | J71: =TRUNC(I71*D71, 0) -> 0 | K71: =TRUNC(E71+G71+I71, 0) -> 0 | L71: =TRUNC(F71+H71+J71, 0) -> 0
A72: 석재타일붙이기 | C72: M2 | D72: 15 | F72: =TRUNC(E72*D72, 0) -> 0 | H72: =TRUNC(G72*D72, 0) -> 0 | J72: =TRUNC(I72*D72, 0) -> 0 | K72: =TRUNC(E72+G72+I72, 0) -> 0 | L72: =TRUNC(F72+H72+J72, 0) -> 0
A73: 현수막신설 | B73: Φ 101.6, 1.2T | C73: EA | D73: 1 | F73: =TRUNC(E73*D73, 0) -> 0 | H73: =TRUNC(G73*D73, 0) -> 0 | J73: =TRUNC(I73*D73, 0) -> 0 | K73: =TRUNC(E73+G73+I73, 0) -> 0 | L73: =TRUNC(F73+H73+J73, 0) -> 0
A74: 소나무이식 | B74: W=2.0, H=3.5 | C74: 주 | D74: 3 | F74: =TRUNC(E74*D74, 0) -> 0 | H74: =TRUNC(G74*D74, 0) -> 0 | J74: =TRUNC(I74*D74, 0) -> 0 | K74: =TRUNC(E74+G74+I74, 0) -> 0 | L74: =TRUNC(F74+H74+J74, 0) -> 0
F75: =TRUNC(E75*D75, 0) -> 0 | H75: =TRUNC(G75*D75, 0) -> 0 | J75: =TRUNC(I75*D75, 0) -> 0 | K75: =TRUNC(E75+G75+I75, 0) -> 0 | L75: =TRUNC(F75+H75+J75, 0) -> 0
F76: =TRUNC(E76*D76, 0) -> 0 | H76: =TRUNC(G76*D76, 0) -> 0 | J76: =TRUNC(I76*D76, 0) -> 0 | K76: =TRUNC(E76+G76+I76, 0) -> 0 | L76: =TRUNC(F76+H76+J76, 0) -> 0
F77: =TRUNC(E77*D77, 0) -> 0 | H77: =TRUNC(G77*D77, 0) -> 0 | J77: =TRUNC(I77*D77, 0) -> 0 | K77: =TRUNC(E77+G77+I77, 0) -> 0 | L77: =TRUNC(F77+H77+J77, 0) -> 0
F78: =TRUNC(E78*D78, 0) -> 0 | H78: =TRUNC(G78*D78, 0) -> 0 | J78: =TRUNC(I78*D78, 0) -> 0 | K78: =TRUNC(E78+G78+I78, 0) -> 0 | L78: =TRUNC(F78+H78+J78, 0) -> 0
A79: [ 소 계 ] | F79: =SUM(F60:F78) -> 0 | H79: =SUM(H60:H78) -> 0 | J79: =SUM(J60:J78) -> 0 | L79: =TRUNC(F79+H79+J79, 0) -> 0
A81: 04 장애인시설공사
A82: 주차장라인마킹 | B82: 장애인,서울시규정 | C82: EA | D82: 2 | F82: =TRUNC(E82*D82, 0) -> 0 | H82: =TRUNC(G82*D82, 0) -> 0 | J82: =TRUNC(I82*D82, 0) -> 0 | K82: =TRUNC(E82+G82+I82, 0) -> 0 | L82: =TRUNC(F82+H82+J82, 0) -> 0
A83: 장애인주차표지판 | B83: 벽면부착형 | C83: EA | D83: 2 | F83: =TRUNC(E83*D83, 0) -> 0 | H83: =TRUNC(G83*D83, 0) -> 0 | J83: =TRUNC(I83*D83, 0) -> 0 | K83: =TRUNC(E83+G83+I83, 0) -> 0 | L83: =TRUNC(F83+H83+J83, 0) -> 0
A84: 점자블럭 | B84: 300*300*60MM,점형/선형 | C84: EA | D84: 83 | F84: =TRUNC(E84*D84, 0) -> 0 | H84: =TRUNC(G84*D84, 0) -> 0 | J84: =TRUNC(I84*D84, 0) -> 0 | K84: =TRUNC(E84+G84+I84, 0) -> 0 | L84: =TRUNC(F84+H84+J84, 0) -> 0
A85: 화강석철거 | B85: 바닥 | C85: M2 | D85: 24 | F85: =TRUNC(E85*D85, 0) -> 0 | H85: =TRUNC(G85*D85, 0) -> 0 | J85: =TRUNC(I85*D85, 0) -> 0 | K85: =TRUNC(E85+G85+I85, 0) -> 0 | L85: =TRUNC(F85+H85+J85, 0) -> 0
A86: 석재바닥 | B86: 화강석,물갈기 | C86: M2 | D86: 18 | F86: =TRUNC(E86*D86, 0) -> 0 | H86: =TRUNC(G86*D86, 0) -> 0 | J86: =TRUNC(I86*D86, 0) -> 0 | K86: =TRUNC(E86+G86+I86, 0) -> 0 | L86: =TRUNC(F86+H86+J86, 0) -> 0
A87: 석재바닥 | B87: 화강석,버너구이 | C87: M2 | D87: 6 | F87: =TRUNC(E87*D87, 0) -> 0 | H87: =TRUNC(G87*D87, 0) -> 0 | J87: =TRUNC(I87*D87, 0) -> 0 | K87: =TRUNC(E87+G87+I87, 0) -> 0 | L87: =TRUNC(F87+H87+J87, 0) -> 0
A88: 보도블럭 철거 | C88: M2 | D88: 24 | F88: =TRUNC(E88*D88, 0) -> 0 | H88: =TRUNC(G88*D88, 0) -> 0 | J88: =TRUNC(I88*D88, 0) -> 0 | K88: =TRUNC(E88+G88+I88, 0) -> 0 | L88: =TRUNC(F88+H88+J88, 0) -> 0
A89: 보도블럭 신설 | B89: 점토바닥벽돌(230*114*60T) | C89: M2 | D89: 24 | F89: =TRUNC(E89*D89, 0) -> 0 | H89: =TRUNC(G89*D89, 0) -> 0 | J89: =TRUNC(I89*D89, 0) -> 0 | K89: =TRUNC(E89+G89+I89, 0) -> 0 | L89: =TRUNC(F89+H89+J89, 0) -> 0
A90: 화장실칸막이(장애인용,미서기) | C90: EA | D90: 2 | F90: =TRUNC(E90*D90, 0) -> 0 | H90: =TRUNC(G90*D90, 0) -> 0 | J90: =TRUNC(I90*D90, 0) -> 0 | K90: =TRUNC(E90+G90+I90, 0) -> 0 | L90: =TRUNC(F90+H90+J90, 0) -> 0
A91: 대변기센서 | B91: 광감지자동 | C91: EA | D91: 2 | F91: =TRUNC(E91*D91, 0) -> 0 | H91: =TRUNC(G91*D91, 0) -> 0 | J91: =TRUNC(I91*D91, 0) -> 0 | K91: =TRUNC(E91+G91+I91, 0) -> 0 | L91: =TRUNC(F91+H91+J91, 0) -> 0
A92: 각도거울 | C92: EA | D92: 2 | F92: =TRUNC(E92*D92, 0) -> 0 | H92: =TRUNC(G92*D92, 0) -> 0 | J92: =TRUNC(I92*D92, 0) -> 0 | K92: =TRUNC(E92+G92+I92, 0) -> 0 | L92: =TRUNC(F92+H92+J92, 0) -> 0
A93: 장애인손잡이 | B93: 소변기용 | C93: EA | D93: 2 | F93: =TRUNC(E93*D93, 0) -> 0 | H93: =TRUNC(G93*D93, 0) -> 0 | J93: =TRUNC(I93*D93, 0) -> 0 | K93: =TRUNC(E93+G93+I93, 0) -> 0 | L93: =TRUNC(F93+H93+J93, 0) -> 0
A94: 장애인손잡이 | B94: 세면대용 | C94: EA | D94: 2 | F94: =TRUNC(E94*D94, 0) -> 0 | H94: =TRUNC(G94*D94, 0) -> 0 | J94: =TRUNC(I94*D94, 0) -> 0 | K94: =TRUNC(E94+G94+I94, 0) -> 0 | L94: =TRUNC(F94+H94+J94, 0) -> 0
A95: 장애인손잡이 | B95: L형 | C95: EA | D95: 2 | F95: =TRUNC(E95*D95, 0) -> 0 | H95: =TRUNC(G95*D95, 0) -> 0 | J95: =TRUNC(I95*D95, 0) -> 0 | K95: =TRUNC(E95+G95+I95, 0) -> 0 | L95: =TRUNC(F95+H95+J95, 0) -> 0
A96: 종합안내촉지도 | B96: 스탠드형 | C96: EA | D96: 1 | F96: =TRUNC(E96*D96, 0) -> 0 | H96: =TRUNC(G96*D96, 0) -> 0 | J96: =TRUNC(I96*D96, 0) -> 0 | K96: =TRUNC(E96+G96+I96, 0) -> 0 | L96: =TRUNC(F96+H96+J96, 0) -> 0
A97: 핸드레일촉지판 | B97: 렉산(점자각인) | C97: EA | D97: 8 | F97: =TRUNC(E97*D97, 0) -> 0 | H97: =TRUNC(G97*D97, 0) -> 0 | J97: =TRUNC(I97*D97, 0) -> 0 | K97: =TRUNC(E97+G97+I97, 0) -> 0 | L97: =TRUNC(F97+H97+J97, 0) -> 0
A98: 장애자용핸드레일 | B98: Φ 38.1, SST, H=800 | C98: M | D98: 22 | F98: =TRUNC(E98*D98, 0) -> 0 | H98: =TRUNC(G98*D98, 0) -> 0 | J98: =TRUNC(I98*D98, 0) -> 0 | K98: =TRUNC(E98+G98+I98, 0) -> 0 | L98: =TRUNC(F98+H98+J98, 0) -> 0
A99: 장애인가운터 | B99: 상판철거후 마감 | C99: EA | D99: 1 | F99: =TRUNC(E99*D99, 0) -> 0 | H99: =TRUNC(G99*D99, 0) -> 0 | J99: =TRUNC(I99*D99, 0) -> 0 | K99: =TRUNC(E99+G99+I99, 0) -> 0 | L99: =TRUNC(F99+H99+J99, 0) -> 0
F100: =TRUNC(E100*D100, 0) -> 0 | H100: =TRUNC(G100*D100, 0) -> 0 | J100: =TRUNC(I100*D100, 0) -> 0 | K100: =TRUNC(E100+G100+I100, 0) -> 0 | L100: =TRUNC(F100+H100+J100, 0) -> 0
A101: [ 소 계 ] | F101: =SUM(F82:F100) -> 0 | H101: =SUM(H82:H100) -> 0 | J101: =SUM(J82:J100) -> 0 | L101: =TRUNC(F101+H101+J101, 0) -> 0
A103: [ 합 계 ] | F103: =F28+F57+F79+F101 -> 0 | H103: =H28+H57+H79+H101 -> 0 | J103: =J28+J57+J79+J101 -> 0 | L103: =TRUNC(F103+H103+J103, 0) -> 0
A105: 00 폐 기 물 공 사
...
