Workbook

Sheet 원가계산서 (관악)
A1: 공 사 원 가 계 산 서
A3: 공 사 명 : 서울관악우체국 임대공간 조성공사
A4: 구 분 비 목 | D4: 구 성 비 | E4: 금 액 | F4: 비 고
A6: 순 공 사 원 가 | B6: 재료비 | C6: 직 접 재 료 비 | E6: ='집계표(관악임대)'!F5 -> 0
C7: 간 접 재 료 비
C8: 소 계 | E8: =SUM(E6:E7) -> 0
B9: 노무비 | C9: 직 접 노 무 비 | E9: ='집계표(관악임대)'!H5 -> 0
C10: 간 접 노 무 비 | D10: 직.노*9.6% | E10: =E9*9.6% -> 0 | F10: 최대 9.6%
C11: 소 계 | E11: =SUM(E9:E10) -> 0
B12: 경 비 | C12: 기 계 경 비 | E12: ='집계표(관악임대)'!J5 -> 0
C13: 산 재 보 험 료 | D13: (노)*3.8% | E13: =E11*3.8% -> 0 | F13: 3.8% (법정)
C14: 고 용 보 험 료 | D14: (노)*0.87% | E14: =E11*0.87% -> 0 | F14: 0.87% (법정)
C15: 안 전 관 리 비 | D15: (재+직.노)*2.93% | E15: =SUM(E8,E9)*2.93% -> 0 | F15: 2.93% (법정)
C16: 기 타 경 비 | D16: (재+노)*3.03% | E16: =SUM(E8,E11)*3.03% -> 0 | F16: 최대 3.03%
C17: 환 경 보 전 비 | D17: (재+직.노+기.경)*0.3% | E17: =SUM(E8,E9,E12)*0.3% -> 0 | F17: 0.3% (법정)
C18: 소 계 | E18: =SUM(E12:E17) -> 0
B19: 계 | E19: =SUM(E18,E11,E8) -> 0
A20: 일 반 관 리 비 | D20: (재+노+경)*6% | E20: =E19*6% -> 0 | F20: 최대 6%
A21: 이 윤 | D21: (노+경+일)*10.51% | E21: =SUM(E11,E18,E20)*10.51% -> 0 | F21: 최대 10.51%
A22: 폐 기 물 처 리 비 | E22: ='집계표(관악임대)'!F11 -> 0
A23: 총 원 가 | E23: =E19+E20+E21+E22 -> 0
A24: 부 가 가 치 세 | D24: (총원가)*10% | E24: =E23*0.1 -> 0
A25: 도 급 금 액 | E25: =SUM(E23:E24) -> 0

Sheet 집계표(관악임대)
A1: 공 종 별 집 계 표
A3: 품 명 | B3: 규 격 | C3: 단위 | D3: 수량 | E3: 재 료 비 | G3: 노 무 비 | I3: 경 비 | K3: 합 계 | M3: 비 고 | N3: 공종코드 | O3: 변수 | P3: 상위공종 | Q3: 공종구분 | R3: 공종레벨 | S3: 공종소계 | T3: 원가계산서 연결금액
E4: 단 가 | F4: 금 액 | G4: 단 가 | H4: 금 액 | I4: 단 가 | J4: 금 액 | K4: 단 가 | L4: 금 액
A5: ='내역서(관악임대)'!A4 -> < 서울관악우체국> | F5: =SUM(F6:F9) -> 0 | H5: =SUM(H6:H9) -> 0 | J5: =SUM(J6:J9) -> 0 | L5: =F5+H5+J5 -> 0
A6: ='내역서(관악임대)'!A5 -> 01 가설, 철거공사 | C6: 식 | D6: 1 | F6: ='내역서(관악임대)'!F28 -> 0 | H6: ='내역서(관악임대)'!H28 -> 0 | J6: ='내역서(관악임대)'!J28 -> 0 | K6: =E6+G6+I6 -> 0 | L6: =F6+H6+J6 -> 0 | N6: 010101 | P6: 0101 | R6: 3
A7: ='내역서(관악임대)'!A30 -> 02 본건물공사 | C7: 식 | D7: 1 | F7: ='내역서(관악임대)'!F57 -> 0 | H7: ='내역서(관악임대)'!H57 -> 0 | J7: ='내역서(관악임대)'!J57 -> 0 | K7: =E7+G7+I7 -> 0 | L7: =F7+H7+J7 -> 0 | N7: 010111 | P7: 0101 | R7: 3
A8: ='내역서(관악임대)'!A59 -> 03 외 부 공 사 | C8: 식 | D8: 1 | F8: ='내역서(관악임대)'!F79 -> 0 | H8: ='내역서(관악임대)'!H79 -> 0 | J8: ='내역서(관악임대)'!J79 -> 0 | K8: =E8+G8+I8 -> 0 | L8: =F8+H8+J8 -> 0 | N8: 010117 | P8: 0101 | R8: 3
A9: ='내역서(관악임대)'!A81 -> 04 장애인시설공사 | C9: 식 | D9: 1 | F9: ='내역서(관악임대)'!F101 -> 0 | H9: ='내역서(관악임대)'!H101 -> 0 | J9: ='내역서(관악임대)'!J101 -> 0 | L9: =F9+H9+J9 -> 0
A11: ='내역서(관악임대)'!A105 -> 00 폐 기 물 공 사 | C11: 식 | D11: 1 | F11: ='내역서(관악임대)'!L110 -> 0

Sheet 내역서(관악임대)
A1: 공 종 별 내 역 서
A2: 품 명 | B2: 규 격 | C2: 단위 | D2: 수량 | E2: 재 료 비 | G2: 노 무 비 | I2: 경 비 | K2: 합 계 | M2: 비 고
E3: 단 가 | F3: 금 액 | G3: 단 가 | H3: 금 액 | I3: 단 가 | J3: 금 액 | K3: 단 가 | L3: 금 액
A4: < 서울관악우체국>
A5: 01 가설, 철거공사
A6: 건축물현장정리 | B6: 준공청소포함 | C6: M2 | D6: 24 | F6: =TRUNC(E6*D6, 0) -> 0 | H6: =TRUNC(G6*D6, 0) -> 0 | I6: =[1]일위대가!J12 -> 0 | J6: =TRUNC(I6*D6, 0) -> 0 | K6: =TRUNC(E6+G6+I6, 0) -> 0 | L6: =TRUNC(F6+H6+J6, 0) -> 0
A7: 가설칸막이 | C7: M2 | D7: 24 | F7: =TRUNC(E7*D7, 0) -> 0 | H7: =TRUNC(G7*D7, 0) -> 0 | J7: =TRUNC(I7*D7, 0) -> 0 | K7: =TRUNC(E7+G7+I7, 0) -> 0 | L7: =TRUNC(F7+H7+J7, 0) -> 0
A8: 부스칸막이철거 | C8: M2 | D8: 35 | F8: =TRUNC(E8*D8, 0) -> 0 | H8: =TRUNC(G8*D8, 0) -> 0 | J8: =TRUNC(I8*D8, 0) -> 0 | K8: =TRUNC(E8+G8+I8, 0) -> 0 | L8: =TRUNC(F8+H8+J8, 0) -> 0
A9: 휀코일철거 | C9: M2 | D9: 2 | F9: =TRUNC(E9*D9, 0) -> 0 | H9: =TRUNC(G9*D9, 0) -> 0 | J9: =TRUNC(I9*D9, 0) -> 0 | K9: =TRUNC(E9+G9+I9, 0) -> 0 | L9: =TRUNC(F9+H9+J9, 0) -> 0
A10: 자판기 이전설치 | C10: EA | D10: 1 | F10: =TRUNC(E10*D10, 0) -> 0 | H10: =TRUNC(G10*D10, 0) -> 0 | J10: =TRUNC(I10*D10, 0) -> 0 | K10: =TRUNC(E10+G10+I10, 0) -> 0 | L10: =TRUNC(F10+H10+J10, 0) -> 0
A11: 정수기 이전설치 | C11: EA | D11: 1 | F11: =TRUNC(E11*D11, 0) -> 0 | H11: =TRUNC(G11*D11, 0) -> 0 | J11: =TRUNC(I11*D11, 0) -> 0 | K11: =TRUNC(E11+G11+I11, 0) -> 0 | L11: =TRUNC(F11+H11+J11, 0) -> 0
A12: 휀코일 이전설치 | C12: EA | D12: 3 | F12: =TRUNC(E12*D12, 0) -> 0 | H12: =TRUNC(G12*D12, 0) -> 0 | J12: =TRUNC(I12*D12, 0) -> 0 | K12: =TRUNC(E12+G12+I12, 0) -> 0 | L12: =TRUNC(F12+H12+J12, 0) -> 0
A13: 안내대 이전설치 | C13: EA | D13: 2 | F13: =TRUNC(E13*D13, 0) -> 0 | H13: =TRUNC(G13*D13, 0) -> 0 | J13: =TRUNC(I13*D13, 0) -> 0 | K13: =TRUNC(E13+G13+I13, 0) -> 0 | L13: =TRUNC(F13+H13+J13, 0) -> 0
A14: 무근콘크리트철거 | B14: 인력,소형기계 | C14: M3 | D14: 1 | F14: =TRUNC(E14*D14, 0) -> 0 | H14: =TRUNC(G14*D14, 0) -> 0 | J14: =TRUNC(I14*D14, 0) -> 0 | K14: =TRUNC(E14+G14+I14, 0) -> 0 | L14: =TRUNC(F14+H14+J14, 0) -> 0
A15: 철근콘크리트철거 | B15: 인력,소형기계 | C15: M3 | D15: 6.2 | F15: =TRUNC(E15*D15, 0) -> 0 | H15: =TRUNC(G15*D15, 0) -> 0 | J15: =TRUNC(I15*D15, 0) -> 0 | K15: =TRUNC(E15+G15+I15, 0) -> 0 | L15: =TRUNC(F15+H15+J15, 0) -> 0
A16: 알미튬시트 철거 | C16: M2 | D16: 5 | F16: =TRUNC(E16*D16, 0) -> 0 | H16: =TRUNC(G16*D16, 0) -> 0 | J16: =TRUNC(I16*D16, 0) -> 0 | K16: =TRUNC(E16+G16+I16, 0) -> 0 | L16: =TRUNC(F16+H16+J16, 0) -> 0
A17: 복층유리철거 | C17: M2 | D17: 8.5 | F17: =TRUNC(E17*D17, 0) -> 0 | H17: =TRUNC(G17*D17, 0) -> 0 | J17: =TRUNC(I17*D17, 0) -> 0 | K17: =TRUNC(E17+G17+I17, 0) -> 0 | L17: =TRUNC(F17+H17+J17, 0) -> 0
A18: 알미늄창호철거 | C18: M2 | D18: 8.5 | F18: =TRUNC(E18*D18, 0) -> 0 | H18: =TRUNC(G18*D18, 0) -> 0 | J18: =TRUNC(I18*D18, 0) -> 0 | K18: =TRUNC(E18+G18+I18, 0) -> 0 | L18: =TRUNC(F18+H18+J18, 0) -> 0
A19: 화강석 바닥철거 | C19: M2 | D19: 3.7 | F19: =TRUNC(E19*D19, 0) -> 0 | H19: =TRUNC(G19*D19, 0) -> 0 | J19: =TRUNC(I19*D19, 0) -> 0 | K19: =TRUNC(E19+G19+I19, 0) -> 0 | L19: =TRUNC(F19+H19+J19, 0) -> 0
A20: 화강석 벽체철거 | C20: M2 | D20: 10.9 | F20: =TRUNC(E20*D20, 0) -> 0 | H20: =TRUNC(G20*D20, 0) -> 0 | J20: =TRUNC(I20*D20, 0) -> 0 | K20: =TRUNC(E20+G20+I20, 0) -> 0 | L20: =TRUNC(F20+H20+J20, 0) -> 0
A21: 화강석 통석철거 | C21: M | D21: 19.3 | F21: =TRUNC(E21*D21, 0) -> 0 | H21: =TRUNC(G21*D21, 0) -> 0 | J21: =TRUNC(I21*D21, 0) -> 0 | K21: =TRUNC(E21+G21+I21, 0) -> 0 | L21: =TRUNC(F21+H21+J21, 0) -> 0
A22: 석재타일철거 | C22: M2 | D22: 7.8 | F22: =TRUNC(E22*D22, 0) -> 0 | H22: =TRUNC(G22*D22, 0) -> 0 | J22: =TRUNC(I22*D22, 0) -> 0 | K22: =TRUNC(E22+G22+I22, 0) -> 0 | L22: =TRUNC(F22+H22+J22, 0) -> 0
A23: 고압블럭철거 | C23: M2 | D23: 4.7 | F23: =TRUNC(E23*D23, 0) -> 0 | H23: =TRUNC(G23*D23, 0) -> 0 | J23: =TRUNC(I23*D23, 0) -> 0 | K23: =TRUNC(E23+G23+I23, 0) -> 0 | L23: =TRUNC(F23+H23+J23, 0) -> 0
A24: 게시판철거 | C24: EA | D24: 1 | F24: =TRUNC(E24*D24, 0) -> 0 | H24: =TRUNC(G24*D24, 0) -> 0 | J24: =TRUNC(I24*D24, 0) -> 0 | K24: =TRUNC(E24+G24+I24, 0) -> 0 | L24: =TRUNC(F24+H24+J24, 0) -> 0
A25: 현수막철거 | C25: EA | D25: 1 | F25: =TRUNC(E25*D25, 0) -> 0 | H25: =TRUNC(G25*D25, 0) -> 0 | J25: =TRUNC(I25*D25, 0) -> 0 | K25: =TRUNC(E25+G25+I25, 0) -> 0 | L25: =TRUNC(F25+H25+J25, 0) -> 0
F26: =TRUNC(E26*D26, 0) -> 0 | H26: =TRUNC(G26*D26, 0) -> 0 | J26: =TRUNC(I26*D26, 0) -> 0 | K26: =TRUNC(E26+G26+I26, 0) -> 0 | L26: =TRUNC(F26+H26+J26, 0) -> 0
F27: =TRUNC(E27*D27, 0) -> 0 | H27: =TRUNC(G27*D27, 0) -> 0 | J27: =TRUNC(I27*D27, 0) -> 0 | K27: =TRUNC(E27+G27+I27, 0) -> 0 | L27: =TRUNC(F27+H27+J27, 0) -> 0
A28: [ 소 계 ] | F28: =SUM(F6:F27) -> 0 | H28: =SUM(H6:H27) -> 0 | J28: =SUM(J6:J27) -> 0 | L28: =SUM(L6:L27) -> 0
A30: 02 본건물공사
A31: 1/SSD(스텐레스스틸창호, 150*50*1.5T) | B31: 틀보강 SST 150*100*3.0T 포함 | C31: EA | D31: 1 | F31: =TRUNC(E31*D31, 0) -> 0 | H31: =TRUNC(G31*D31, 0) -> 0 | J31: =TRUNC(I31*D31, 0) -> 0 | K31: =TRUNC(E31+G31+I31, 0) -> 0 | L31: =TRUNC(F31+H31+J31, 0) -> 0
A32: 1/AWD | B32: 2.74*3.57, 50*120AL | C32: EA | D32: 1 | F32: =TRUNC(E32*D32, 0) -> 0 | H32: =TRUNC(G32*D32, 0) -> 0 | J32: =TRUNC(I32*D32, 0) -> 0 | K32: =TRUNC(E32+G32+I32, 0) -> 0 | L32: =TRUNC(F32+H32+J32, 0) -> 0
A33: 방범셧타 | B33: 2.74*3.57,폐쇄형, 1.6t | C33: EA | D33: 1 | F33: =TRUNC(E33*D33, 0) -> 0 | H33: =TRUNC(G33*D33, 0) -> 0 | J33: =TRUNC(I33*D33, 0) -> 0 | K33: =TRUNC(E33+G33+I33, 0) -> 0 | L33: =TRUNC(F33+H33+J33, 0) -> 0
A34: 방범접합유리 | B34: 12.8mm | C34: M2 | D34: 38 | F34: =TRUNC(E34*D34, 0) -> 0 | H34: =TRUNC(G34*D34, 0) -> 0 | J34: =TRUNC(I34*D34, 0) -> 0 | K34: =TRUNC(E34+G34+I34, 0) -> 0 | L34: =TRUNC(F34+H34+J34, 0) -> 0
A35: 강화유리 | B35: 10MM | C35: M2 | D35: 5.9 | F35: =TRUNC(E35*D35, 0) -> 0 | H35: =TRUNC(G35*D35, 0) -> 0 | J35: =TRUNC(I35*D35, 0) -> 0 | K35: =TRUNC(E35+G35+I35, 0) -> 0 | L35: =TRUNC(F35+H35+J35, 0) -> 0
A36: 유리끼우고닦기 | B36: 강제 10MM | C36: M2 | D36: 43.9 | F36: =TRUNC(E36*D36, 0) -> 0 | H36: =TRUNC(G36*D36, 0) -> 0 | J36: =TRUNC(I36*D36, 0) -> 0 | K36: =TRUNC(E36+G36+I36, 0) -> 0 | L36: =TRUNC(F36+H36+J36, 0) -> 0
A37: 유리주위코킹 | C37: M | D37: 180 | F37: =TRUNC(E37*D37, 0) -> 0 | H37: =TRUNC(G37*D37, 0) -> 0 | J37: =TRUNC(I37*D37, 0) -> 0 | K37: =TRUNC(E37+G37+I37, 0) -> 0 | L37: =TRUNC(F37+H37+J37, 0) -> 0
A38: 창호주위 코킹 | C38: M | D38: 20 | F38: =TRUNC(E38*D38, 0) -> 0 | H38: =TRUNC(G38*D38, 0) -> 0 | J38: =TRUNC(I38*D38, 0) -> 0 | K38: =TRUNC(E38+G38+I38, 0) -> 0 | L38: =TRUNC(F38+H38+J38, 0) -> 0
A39: 강화유리도어 | B39: 0.9*2.1, 12MM강화 | C39: EA | D39: 1 | F39: =TRUNC(E39*D39, 0) -> 0 | H39: =TRUNC(G39*D39, 0) -> 0 | J39: =TRUNC(I39*D39, 0) -> 0 | K39: =TRUNC(E39+G39+I39, 0) -> 0 | L39: =TRUNC(F39+H39+J39, 0) -> 0
A40: 강화유리도어 | B40: 0.9*2.4, 12MM강화 | C40: EA | D40: 2 | F40: =TRUNC(E40*D40, 0) -> 0 | H40: =TRUNC(G40*D40, 0) -> 0 | J40: =TRUNC(I40*D40, 0) -> 0 | K40: =TRUNC(E40+G40+I40, 0) -> 0 | L40: =TRUNC(F40+H40+J40, 0) -> 0
A41: 후로아힌지 | C41: EA | D41: 3 | F41: =TRUNC(E41*D41, 0) -> 0 | H41: =TRUNC(G41*D41, 0) -> 0 | J41: =TRUNC(I41*D41, 0) -> 0 | K41: =TRUNC(E41+G41+I41, 0) -> 0 | L41: =TRUNC(F41+H41+J41, 0) -> 0
...
