Workbook

Sheet 원가계산서
B1: 공 사 원 가 계 산 서
B2: 공사명 : 서울중계3동우체국 임대시설 주차장 개선 공사
B3: 비 목 | E3: 금 액 | F3: 구 성 비 | G3: 비 고
A4: A1 | B4: 순 공 사 원 가 | C4: 재 료 비 | D4: 직 접 재 료 비 | E4: =TRUNC(공종별집계표!F5,0) -> 0
A5: A2 | D5: 간 접 재 료 비
A6: A3 | D6: 작업설, 부산물(△)
A7: AS | D7: [ 소 계 ] | E7: =TRUNC(E4+E5-E6,0) -> 0
A8: B1 | C8: 노 무 비 | D8: 직 접 노 무 비 | E8: =TRUNC(공종별집계표!H5,0) -> 0
A9: B2 | D9: 간 접 노 무 비 | E9: =TRUNC(E8*0.096,0) -> 0 | F9: (직접노무비) * 9.6% | G9: 최대 9.6% 적용가능
A10: BS | D10: [ 소 계 ] | E10: =TRUNC(E8+E9,0) -> 0
A11: C2 | C11: 경 비 | D11: 기 계 경 비 | E11: =TRUNC(공종별집계표!J5,0) -> 0
A12: C4 | D12: 산 재 보 험 료 | E12: =TRUNC(E10*0.038,0) -> 0 | F12: (노무비) * 3.8% | G12: 필수항목/비율변경불가
A13: C5 | D13: 고 용 보 험 료 | E13: =TRUNC(E10*0.0087,0) -> 0 | F13: (노무비) * 0.87% | G13: 필수항목/비율변경불가
A14: C6 | D14: 국민 건강 보험료 | G14: 적용안함
A15: C7 | D15: 국민 연금 보험료 | G15: 적용안함
A16: CB | D16: 노인장기요양보험료 | E16: =TRUNC(E14*0.0655,0) -> 0 | G16: 적용안함
A17: C8 | D17: 퇴직 공제 부금비 | G17: 적용안함
A18: CA | D18: 산업안전보건관리비 | G18: 적용안함
A19: CH | D19: 환 경 보 전 비 | E19: =TRUNC((E7+E8+E11)*0.003,0) -> 0 | F19: (재료비+직노+기계경비) * 0.3% | G19: 필수항목/비율변경불가
A20: CG | D20: 기 타 경 비 | E20: =TRUNC((E7+E10)*0.0303,0) -> 0 | F20: (재료비+노무비) * 3.03% | G20: 최대 3.03% 적용가능
A21: CK | D21: 하도급지급보증수수료
A22: CL | D22: 건설기계대여금지급보증서발급수수료
A23: CS | D23: [ 소 계 ] | E23: =TRUNC(E11+E12+E13+E14+E15+E17+E18+E16+E20+E19+E21+E22,0) -> 0
A24: S1 | B24: 계 | E24: =TRUNC(E7+E10+E23,0) -> 0
A25: D1 | B25: 일 반 관 리 비 | E25: =TRUNC(E24*0.06,0) -> 0 | F25: (재료비+노무비+경비) * 6% | G25: 최대 6% 적용가능
A26: D2 | B26: 이 윤 | E26: =TRUNC((E10+E23+E25)*0.1051,0) -> 0 | F26: (노무비+경비+일반관리비) * 10.51% | G26: 최대 10.51% 적용가능
B27: 폐 기 물 처 리 비 | E27: =공종별집계표!L6 -> 0
A28: D9 | B28: 공 급 가 액 | E28: =TRUNC(E24+E25+E26+E27,0) -> 0
A29: DB | B29: 부 가 가 치 세 | E29: =TRUNC(E28*0.1,0) -> 0 | F29: 공급가액 * 10%
A30: DH | B30: 도 급 액 | E30: =TRUNC(E28+E29,0) -> 0
A31: S2 | B31: 총 공 사 비 | E31: =TRUNC(E30,0) -> 0

Sheet 공종별집계표
A1: 공 종 별 집 계 표
A2: [ 서울중계3동우체국 임대시설 주차장 개선 공사 ]
A3: 품 명 | B3: 규 격 | C3: 단위 | D3: 수량 | E3: 재 료 비 | G3: 노 무 비 | I3: 경 비 | K3: 합 계 | M3: 비 고 | N3: 공종코드 | O3: 변수 | P3: 상위공종 | Q3: 공종구분 | R3: 공종레벨 | S3: 공종소계 | T3: 원가계산서 연결금액
E4: 단 가 | F4: 금 액 | G4: 단 가 | H4: 금 액 | I4: 단 가 | J4: 금 액 | K4: 단 가 | L4: 금 액
A5: =공종별내역서!A4 -> 01. 서울중계3동우체국 | D5: 1 | F5: =공종별내역서!F4 -> 0 | H5: =공종별내역서!H4 -> 0 | J5: =공종별내역서!J4 -> 0 | K5: =E5+G5+I5 -> 0 | L5: =공종별내역서!L4 -> 0 | N5: 01 | R5: 1
A6: =공종별내역서!A22 -> 02. 폐기물처리 | D6: 1 | F6: =공종별내역서!F25 -> 0 | H6: =공종별내역서!H25 -> 0 | J6: =공종별내역서!J25 -> 0 | L6: =공종별내역서!L25 -> 0
A14: [ 합 계 ] | F14: =F5 -> 0 | H14: =H5 -> 0 | J14: =J5 -> 0 | L14: =L5 -> 0

Sheet 공종별내역서
A1: [ 서울중계3동우체국 임대시설 주차장 개선 공사 ]
A2: 품 명 | B2: 규 격 | C2: 단위 | D2: 수량 | E2: 재 료 비 | G2: 노 무 비 | I2: 경 비 | K2: 합 계 | M2: 비 고 | N2: 품목코드 | O2: 변수 | P2: 설정 | Q2: 공종코드 | R2: 일위 | S2: 단산 | T2: 자재 | U2: 손료적용 | V2: 손료저장 | W2: 적용율 | X2: JUK1 | Y2: JUK2 | Z2: JUK3 | AA2: JUK4 | AB2: JUK5 | AC2: JUK6 | AD2: JUK7 | AE2: JUK8 | AF2: JUK9 | AG2: JUK10 | AH2: JUK11 | AI2: JUK12 | AJ2: JUK13 | AK2: JUK14 | AL2: JUK15 | AM2: JUK16 | AN2: JUK17 | AO2: JUK18 | AP2: JUK19 | AQ2: JUK20 | AR2: 자재구분 | AS2: 공종구분 | AT2: 공종레벨 | AU2: 공종+자재 | AV2: 고유번호
E3: 단 가 | F3: 금 액 | G3: 단 가 | H3: 금 액 | I3: 단 가 | J3: 금 액 | K3: 단 가 | L3: 금 액
A4: 01. 서울중계3동우체국 | F4: =F7+F14+F21 -> 0 | H4: =H7+H14+H21 -> 0 | J4: =J7+J14+J21 -> 0 | L4: =L7+L14+L21 -> 0
A5: 0101 가 설 공 사
A6: 건축물현장정리 | B6: 준공청소 | C6: M2 | D6: 50 | F6: =D6*E6 -> 0 | H6: =D6*G6 -> 0 | I6: 0 | J6: =D6*I6 -> 0 | K6: =E6+G6+I6 -> 0 | L6: =F6+H6+J6 -> 0
A7: [ 소 계 ] | F7: =SUM(F6:F6) -> 0 | H7: =SUM(H6:H6) -> 0 | J7: =SUM(J6:J6) -> 0 | K7: =E7+G7+I7 -> 0 | L7: =SUM(L6:L6) -> 0
A8: 0102 토 공 사 | F8: =D8*E8 -> 0 | H8: =D8*G8 -> 0 | J8: =D8*I8 -> 0 | K8: =E8+G8+I8 -> 0 | L8: =F8+H8+J8 -> 0
A9: 헐기 부수기(벽돌) | B9: 담장, 기초 포함 | C9: M3 | D9: 10 | F9: =D9*E9 -> 0 | H9: =D9*G9 -> 0 | I9: 0 | J9: =D9*I9 -> 0 | K9: =E9+G9+I9 -> 0 | L9: =F9+H9+J9 -> 0
A10: 원형 | B10: 포장면까지 인상 | C10: EA | D10: 5 | F10: =D10*E10 -> 0 | H10: =D10*G10 -> 0 | J10: =D10*I10 -> 0 | K10: =E10+G10+I10 -> 0 | L10: =F10+H10+J10 -> 0
A11: 사각 | B11: 포장면까지 인상 | C11: EA | D11: 5 | F11: =D11*E11 -> 0 | H11: =D11*G11 -> 0 | J11: =D11*I11 -> 0 | K11: =E11+G11+I11 -> 0 | L11: =F11+H11+J11 -> 0
A12: 아스팔트콘크리트 | B12: 표층 #78 | C12: ton | D12: 45 | F12: =D12*E12 -> 0 | H12: =D12*G12 -> 0 | K12: =E12+G12+I12 -> 0 | L12: =F12+H12+J12 -> 0
A13: 아스팔트포장 | B13: 표면절삭, 인력+소규모장비 | C13: M2 | D13: 280 | F13: =D13*E13 -> 0 | H13: =D13*G13 -> 0 | J13: =D13*I13 -> 0 | K13: =E13+G13+I13 -> 0 | L13: =F13+H13+J13 -> 0
A14: [ 소 계 ] | F14: =SUM(F9:F13) -> 0 | H14: =SUM(H9:H13) -> 0 | J14: =SUM(J9:J13) -> 0 | K14: =E14+G14+I14 -> 0 | L14: =SUM(L9:L13) -> 0
A15: 0103 금 속 공 사 | F15: =D15*E15 -> 0 | H15: =D15*G15 -> 0 | J15: =D15*I15 -> 0 | K15: =E15+G15+I15 -> 0 | L15: =F15+H15+J15 -> 0
A16: STS 자바라대문 | B16: W:500*H:1000~1300,레일포함 양개 | C16: M | D16: 18 | F16: =D16*E16 -> 0 | G16: 0 | H16: =D16*G16 -> 0 | I16: 0 | J16: =D16*I16 -> 0 | K16: =E16+G16+I16 -> 0 | L16: =F16+H16+J16 -> 0 | N16: 5F3D24FB699062C8191692C2A056F388DD1254 | Q16: 010201 | R16: F | S16: F | T16: T | AU16: 0102015F3D24FB699062C8191692C2A056F388DD1254 | AV16: 30
A17: STS 자바라대문 바닥레일 | B17: 설치구간 철거 및 콘크리트 작업 철근보강 등 토목공사 포함 | C17: M | D17: 18 | F17: =D17*E17 -> 0 | G17: 0 | H17: =D17*G17 -> 0 | I17: 0 | J17: =D17*I17 -> 0 | K17: =E17+G17+I17 -> 0 | L17: =F17+H17+J17 -> 0 | N17: 5F3D24FB699062C8191692C2A056F388DD1254 | Q17: 010201 | R17: F | S17: F | T17: T | AU17: 0102015F3D24FB699062C8191692C2A056F388DD1254 | AV17: 30
A18: 자바라 대문 수납함 | C18: EA | D18: 2 | F18: =D18*E18 -> 0 | G18: 0 | H18: =D18*G18 -> 0 | I18: 0 | K18: =E18+G18+I18 -> 0 | L18: =F18+H18+J18 -> 0
A19: 잡철물 제작 설치 | B19: 계단실 파이프 대문 제작 설치 측면 가림, 부속 포함 | C19: ton | D19: 0.25 | F19: =D19*E19 -> 0 | H19: =D19*G19 -> 0 | I19: 0 | K19: =E19+G19+I19 -> 0 | L19: =F19+H19+J19 -> 0
A20: 주차방지대 | C20: EA | D20: 3 | F20: =D20*E20 -> 0 | G20: 0 | H20: =D20*G20 -> 0 | I20: 0 | J20: =D20*I20 -> 0 | K20: =E20+G20+I20 -> 0 | L20: =F20+H20+J20 -> 0 | N20: 5F3D24FB699062C8191692C2A056F388DD1254 | Q20: 010201 | R20: F | S20: F | T20: T | AU20: 0102015F3D24FB699062C8191692C2A056F388DD1254 | AV20: 30
A21: [ 소 계 ] | F21: =SUM(F16:F20) -> 0 | H21: =SUM(H16:H20) -> 0 | J21: =SUM(J16:J20) -> 0 | K21: =E21+G21+I21 -> 0 | L21: =SUM(L16:L20) -> 0
A22: 02. 폐기물처리 | F22: =F25 -> 0 | H22: =H25 -> 0 | J22: =J25 -> 0 | L22: =L25 -> 0
A23: 건설폐기물 -중간처리 | B23: 건설(건축)폐자재 | C23: TON | D23: 4.5 | E23: 0 | F23: 0 | G23: 0 | H23: 0 | J23: =D23*I23 -> 0 | K23: =E23+G23+I23 -> 0 | L23: =F23+H23+J23 -> 0
A24: 건설폐기물 -수집,운반비 | B24: 15톤, 30km | C24: TON | D24: 4.5 | J24: =D24*I24 -> 0 | K24: =E24+G24+I24 -> 0 | L24: =F24+H24+J24 -> 0
A25: [ 소 계] | F25: =SUM(F23:F24) -> 0 | H25: =SUM(H23:H24) -> 0 | J25: =SUM(J23:J24) -> 0 | L25: =SUM(L23:L24) -> 0 | N25: TOTAL
