Workbook

Sheet 원가계산서
B1: 공 사 원 가 계 산 서
B2: 공사명 : 서울마포우체국 임시청사 조성공사(건축)
B3: 비 목 | E3: 금 액 | F3: 구 성 비 | G3: 비 고
A4: A1 | B4: 순 공 사 원 가 | C4: 재 료 비 | D4: 직 접 재 료 비 | E4: =TRUNC(공종별집계표!F5, 0) -> 0
A5: A2 | D5: 간 접 재 료 비
A6: A3 | D6: 작업설, 부산물(△)
A7: AS | D7: [ 소 계 ] | E7: =TRUNC(E4+E5-E6, 0) -> 0
A8: B1 | C8: 노 무 비 | D8: 직 접 노 무 비 | E8: =TRUNC(공종별집계표!H5, 0) -> 0
A9: B2 | D9: 간 접 노 무 비 | E9: =TRUNC(E8*0.096, 0) -> 0 | F9: 직접노무비 * 9.6% | G9: 최대 9.6%
A10: BS | D10: [ 소 계 ] | E10: =TRUNC(E8+E9, 0) -> 0
A11: C2 | C11: 경 비 | D11: 기 계 경 비 | E11: =TRUNC(공종별집계표!J5, 0) -> 0
A12: C4 | D12: 산 재 보 험 료 | E12: =TRUNC(E10*0.038, 0) -> 0 | F12: 노무비 * 3.8% | G12: 3.8% (법정)
A13: C5 | D13: 고 용 보 험 료 | E13: =TRUNC(E10*0.0087, 0) -> 0 | F13: 노무비 * 0.87% | G13: 0.87% (법정)
A14: CA | D14: 산업안전보건관리비 | E14: =TRUNC((E7+E8)*0.0293, 0) -> 0 | F14: (재료비+직노) * 2.93% | G14: 2.93% (법정)
A15: CH | D15: 환 경 보 전 비 | E15: =TRUNC((E7+E8+E11)*0.003, 0) -> 0 | F15: (재료비+직노+기계경비) * 0.3% | G15: 0.3% (법정)
A16: CG | D16: 기 타 경 비 | E16: =TRUNC((E7+E10)*0.0303, 0) -> 0 | F16: (재료비+노무비) * 3.03% | G16: 최대 3.03%
A17: CS | D17: [ 소 계 ] | E17: =TRUNC(E11+E12+E13+E14+E16+E15, 0) -> 0
A18: S1 | B18: 계 | E18: =TRUNC(E7+E10+E17, 0) -> 0
A19: D1 | B19: 일 반 관 리 비 | E19: =TRUNC(E18*0.06, 0) -> 0 | F19: 계 * 6% | G19: 최대 6%
A20: D2 | B20: 이 윤 | E20: =TRUNC((E10+E17+E19)*0.1051, 0) -> 0 | F20: (노무비+경비+일반관리비) * 10.51% | G20: 최대 10.51%
A21: D4 | B21: 폐기물 처리비 | E21: =TRUNC(공종별집계표!T15, 0) -> 0
A22: D9 | B22: 공 급 가 액 | E22: =TRUNC(E18+E19+E20+E21, 0) -> 0
A23: DB | B23: 부 가 가 치 세 | E23: =TRUNC(E22*0.1, 0) -> 0 | F23: 공급가액 * 10%
A24: DH | B24: 도 급 액 | E24: =TRUNC(E22+E23, 0) -> 0
A25: S2 | B25: 총 공 사 비 | E25: =ROUNDDOWN(TRUNC(E24, 0),-3) -> 0 | G25: 천원 미만 절사

Sheet 공종별집계표
A1: 공 종 별 집 계 표
A2: =원가계산서!B2 -> 공사명 : 서울마포우체국 임시청사 조성공사(건축)
A3: 품 명 | B3: 규 격 | C3: 단위 | D3: 수량 | E3: 재 료 비 | G3: 노 무 비 | I3: 경 비 | K3: 합 계 | M3: 비 고 | N3: 공종코드 | O3: 변수 | P3: 상위공종 | Q3: 공종구분 | R3: 공종레벨 | S3: 공종소계 | T3: 원가계산서 연결금액
E4: 단 가 | F4: 금 액 | G4: 단 가 | H4: 금 액 | I4: 단 가 | J4: 금 액 | K4: 단 가 | L4: 금 액
A5: 01 서울마포 분산배치 | D5: 1 | E5: =F6 -> 0 | F5: =E5*D5 -> 0 | G5: =H6 -> 0 | H5: =G5*D5 -> 0 | I5: =J6 -> 0 | J5: =I5*D5 -> 0 | K5: =E5+G5+I5 -> 0 | L5: =F5+H5+J5 -> 0 | N5: 01 | R5: 1
A6: 0101 ▶ 건 축 공 사 | D6: 1 | E6: =F7+F8+F9+F10+F11++F12+F13+F14 -> 0 | F6: =E6*D6 -> 0 | G6: =H7+H8+H9+H10+H11++H12+H13+H14 -> 0 | H6: =G6*D6 -> 0 | I6: =J7+J8+J9+J10+J11++J12+J13+J14 -> 0 | J6: =I6*D6 -> 0 | K6: =E6+G6+I6 -> 0 | L6: =F6+H6+J6 -> 0 | N6: 0101 | P6: 01 | R6: 2
A7: 010101 가 설 공 사 | D7: 1 | E7: =공종별내역서!F7 -> 0 | F7: =E7*D7 -> 0 | G7: =공종별내역서!H7 -> 0 | H7: =G7*D7 -> 0 | I7: =공종별내역서!J7 -> 0 | J7: =I7*D7 -> 0 | K7: =E7+G7+I7 -> 0 | L7: =F7+H7+J7 -> 0 | N7: 010101 | P7: 0101 | R7: 3
A8: 010102 목 공 사 | D8: 1 | E8: =공종별내역서!F12 -> 0 | F8: =E8*D8 -> 0 | G8: =공종별내역서!H12 -> 0 | H8: =G8*D8 -> 0 | I8: =공종별내역서!J12 -> 0 | J8: =I8*D8 -> 0 | K8: =E8+G8+I8 -> 0 | L8: =F8+H8+J8 -> 0 | N8: 010107 | P8: 0101 | R8: 3
A9: 010103 방 수 공 사 | D9: 1 | E9: =공종별내역서!F16 -> 0 | F9: =E9*D9 -> 0 | G9: =공종별내역서!H16 -> 0 | H9: =G9*D9 -> 0 | I9: =공종별내역서!J16 -> 0 | J9: =I9*D9 -> 0 | K9: =E9+G9+I9 -> 0 | L9: =F9+H9+J9 -> 0 | N9: 010108 | P9: 0101 | R9: 3
A10: 010104 금 속 공 사 | D10: 1 | E10: =공종별내역서!F20 -> 0 | F10: =E10*D10 -> 0 | G10: =공종별내역서!H20 -> 0 | H10: =G10*D10 -> 0 | I10: =공종별내역서!J20 -> 0 | J10: =I10*D10 -> 0 | K10: =E10+G10+I10 -> 0 | L10: =F10+H10+J10 -> 0 | N10: 010110 | P10: 0101 | R10: 3
A11: 010105 창호 및 유리공사 | D11: 1 | E11: =공종별내역서!F38 -> 0 | F11: =E11*D11 -> 0 | G11: =공종별내역서!H38 -> 0 | H11: =G11*D11 -> 0 | I11: =공종별내역서!J38 -> 0 | J11: =I11*D11 -> 0 | K11: =E11+G11+I11 -> 0 | L11: =F11+H11+J11 -> 0 | N11: 010112 | P11: 0101 | R11: 3
A12: 010106 수 장 공 사 | D12: 1 | E12: =공종별내역서!F47 -> 0 | F12: =E12*D12 -> 0 | G12: =공종별내역서!H47 -> 0 | H12: =G12*D12 -> 0 | I12: =공종별내역서!J47 -> 0 | J12: =I12*D12 -> 0 | K12: =E12+G12+I12 -> 0 | L12: =F12+H12+J12 -> 0 | N12: 010114 | P12: 0101 | R12: 3
A13: 010107 기 타 공 사 | D13: 1 | E13: =공종별내역서!F62 -> 0 | F13: =E13*D13 -> 0 | G13: =공종별내역서!H62 -> 0 | H13: =G13*D13 -> 0 | I13: =공종별내역서!J62 -> 0 | J13: =I13*D13 -> 0 | K13: =E13+G13+I13 -> 0 | L13: =F13+H13+J13 -> 0 | N13: 010115 | P13: 0101 | R13: 3
A14: 010108 철 거 공 사 | D14: 1 | E14: =공종별내역서!F68 -> 0 | F14: =E14*D14 -> 0 | G14: =공종별내역서!H68 -> 0 | H14: =G14*D14 -> 0 | I14: =공종별내역서!J68 -> 0 | J14: =I14*D14 -> 0 | K14: =E14+G14+I14 -> 0 | L14: =F14+H14+J14 -> 0 | N14: 010117 | P14: 0101 | R14: 3
A15: 010109 폐기물 처리비 | D15: 1 | E15: =공종별내역서!F73 -> 0 | F15: =E15*D15 -> 0 | G15: =공종별내역서!H73 -> 0 | H15: =G15*D15 -> 0 | I15: =공종별내역서!J73 -> 0 | J15: =I15*D15 -> 0 | K15: =E15+G15+I15 -> 0 | L15: =F15+H15+J15 -> 0 | N15: 010121 | Q15: 6 | R15: 3 | T15: =L15*1 -> 0
A26: [ 합 계 ] | F26: =F5 -> 0 | H26: =H5 -> 0 | J26: =J5 -> 0 | L26: =L5 -> 0

Sheet 공종별내역서
A1: =공종별집계표!A2 -> 공사명 : 서울마포우체국 임시청사 조성공사(건축)
A2: 품 명 | B2: 규 격 | C2: 단위 | D2: 수량 | E2: 재 료 비 | G2: 노 무 비 | I2: 경 비 | K2: 합 계 | M2: 비 고
E3: 단 가 | F3: 금 액 | G3: 단 가 | H3: 금 액 | I3: 단 가 | J3: 금 액 | K3: 단 가 | L3: 금 액
A4: 010101 가 설 공 사
A5: 건축물현장정리 | B5: 준공청소포함 | C5: M2 | D5: =860/3 -> 286.66667 | F5: =TRUNC(E5*D5, 0) -> 0 | H5: =TRUNC(G5*D5, 0) -> 0 | J5: =TRUNC(I5*D5, 0) -> 0 | K5: =TRUNC(E5+G5+I5, 0) -> 0 | L5: =TRUNC(F5+H5+J5, 0) -> 0
A6: 건축물 보양 - 석재면, 테라조면 | B6: 하드롱지, 승강기 및 복도 등 | C6: M2 | D6: =D5 -> 286.66667 | F6: =TRUNC(E6*D6, 0) -> 0 | H6: =TRUNC(G6*D6, 0) -> 0 | J6: =TRUNC(I6*D6, 0) -> 0 | K6: =TRUNC(E6+G6+I6, 0) -> 0 | L6: =TRUNC(F6+H6+J6, 0) -> 0
A7: [ 합 계 ] | F7: =SUM(F5:F6) -> 0 | H7: =SUM(H5:H6) -> 0 | J7: =SUM(J5:J6) -> 0 | L7: =SUM(L5:L6) -> 0
A9: 010102 목 공 사
A10: 마루틀 설치 | B10: 60*60*@450*450,앵커포함,GW70 | C10: M2 | D10: 15 | F10: =TRUNC(E10*D10, 0) -> 0 | H10: =TRUNC(G10*D10, 0) -> 0 | J10: =TRUNC(I10*D10, 0) -> 0 | K10: =TRUNC(E10+G10+I10, 0) -> 0 | L10: =TRUNC(F10+H10+J10, 0) -> 0
A11: 합판바닥깔기 | B11: T12,내수합판 | C11: M2 | D11: 15 | F11: =TRUNC(E11*D11, 0) -> 0 | H11: =TRUNC(G11*D11, 0) -> 0 | J11: =TRUNC(I11*D11, 0) -> 0 | K11: =TRUNC(E11+G11+I11, 0) -> 0 | L11: =TRUNC(F11+H11+J11, 0) -> 0
A12: [ 합 계 ] | F12: =SUM(F10:F11) -> 0 | H12: =SUM(H10:H11) -> 0 | J12: =SUM(J10:J11) -> 0 | L12: =SUM(L10:L11) -> 0
A14: 010103 방 수 공 사
A15: 수밀코킹(실리콘) | B15: 삼각, 10mm, 창호주위 | C15: M | D15: =ROUNDUP((1.8*2+2.1*2)*2*2,0) -> 32 | F15: =TRUNC(E15*D15, 0) -> 0 | H15: =TRUNC(G15*D15, 0) -> 0 | J15: =TRUNC(I15*D15, 0) -> 0 | K15: =TRUNC(E15+G15+I15, 0) -> 0 | L15: =TRUNC(F15+H15+J15, 0) -> 0
A16: [ 합 계 ] | F16: =SUM(F15:F15) -> 0 | H16: =SUM(H15:H15) -> 0 | J16: =SUM(J15:J15) -> 0 | L16: =SUM(L15:L15) -> 0
A18: 010104 금 속 공 사
A19: 충돌방지턱 | B19: 50*50*5T, 도장포함 | C19: M | D19: 20 | F19: =TRUNC(E19*D19, 0) -> 0 | H19: =TRUNC(G19*D19, 0) -> 0 | J19: =TRUNC(I19*D19, 0) -> 0 | K19: =TRUNC(E19+G19+I19, 0) -> 0 | L19: =TRUNC(F19+H19+J19, 0) -> 0
A20: [ 합 계 ] | F20: =SUM(F19:F19) -> 0 | H20: =SUM(H19:H19) -> 0 | J20: =SUM(J19:J19) -> 0 | L20: =SUM(L19:L19) -> 0
A22: 010105 창호 및 유리공사
A23: SSD01 | B23: 1.800 x 2.400 = 4.32 | C23: EA | D23: 2 | F23: =TRUNC(E23*D23, 0) -> 0 | H23: =TRUNC(G23*D23, 0) -> 0 | J23: =TRUNC(I23*D23, 0) -> 0 | K23: =TRUNC(E23+G23+I23, 0) -> 0 | L23: =TRUNC(F23+H23+J23, 0) -> 0
A24: 도어클로저 | B24: 도어클로저, K-630, KS3호, 표준형, 40∼60kg | C24: 조 | D24: 9 | F24: =TRUNC(E24*D24, 0) -> 0 | H24: =TRUNC(G24*D24, 0) -> 0 | J24: =TRUNC(I24*D24, 0) -> 0 | K24: =TRUNC(E24+G24+I24, 0) -> 0 | L24: =TRUNC(F24+H24+J24, 0) -> 0
A25: 도아체크달기 | B25: 재료비 별도 | C25: 개소 | D25: 9 | F25: =TRUNC(E25*D25, 0) -> 0 | H25: =TRUNC(G25*D25, 0) -> 0 | J25: =TRUNC(I25*D25, 0) -> 0 | K25: =TRUNC(E25+G25+I25, 0) -> 0 | L25: =TRUNC(F25+H25+J25, 0) -> 0
A26: 도어핸들 | B26: 도어핸들, 9000PB, 레바형 | C26: 조 | D26: 5 | F26: =TRUNC(E26*D26, 0) -> 0 | H26: =TRUNC(G26*D26, 0) -> 0 | J26: =TRUNC(I26*D26, 0) -> 0 | K26: =TRUNC(E26+G26+I26, 0) -> 0 | L26: =TRUNC(F26+H26+J26, 0) -> 0
A27: 도어핸들 | B27: 도어핸들, 공정, 데드볼트, K380 | C27: 조 | D27: 5 | F27: =TRUNC(E27*D27, 0) -> 0 | H27: =TRUNC(G27*D27, 0) -> 0 | J27: =TRUNC(I27*D27, 0) -> 0 | K27: =TRUNC(E27+G27+I27, 0) -> 0 | L27: =TRUNC(F27+H27+J27, 0) -> 0
A28: 플로어힌지 | B28: 플로어힌지, KS2호, 85kg, 강화유리문(K-6200) | C28: 조 | D28: 4 | F28: =TRUNC(E28*D28, 0) -> 0 | H28: =TRUNC(G28*D28, 0) -> 0 | J28: =TRUNC(I28*D28, 0) -> 0 | K28: =TRUNC(E28+G28+I28, 0) -> 0 | L28: =TRUNC(F28+H28+J28, 0) -> 0
A29: 플로어힌지설치 | B29: 재료비 별도 | C29: 개소 | D29: 4 | F29: =TRUNC(E29*D29, 0) -> 0 | H29: =TRUNC(G29*D29, 0) -> 0 | J29: =TRUNC(I29*D29, 0) -> 0 | K29: =TRUNC(E29+G29+I29, 0) -> 0 | L29: =TRUNC(F29+H29+J29, 0) -> 0
A30: 유리문 | B30: 유리문, 12*850*2100mm, 손보호, 투명, 강화유리문 | C30: 개 | D30: 4 | F30: =TRUNC(E30*D30, 0) -> 0 | H30: =TRUNC(G30*D30, 0) -> 0 | J30: =TRUNC(I30*D30, 0) -> 0 | K30: =TRUNC(E30+G30+I30, 0) -> 0 | L30: =TRUNC(F30+H30+J30, 0) -> 0
A31: 강화유리 | B31: 강화유리, 투명, 10mm | C31: M2 | D31: 2 | F31: =TRUNC(E31*D31, 0) -> 0 | H31: =TRUNC(G31*D31, 0) -> 0 | J31: =TRUNC(I31*D31, 0) -> 0 | K31: =TRUNC(E31+G31+I31, 0) -> 0 | L31: =TRUNC(F31+H31+J31, 0) -> 0
A32: 판유리 | B32: 단판, 투명, 5mm | C32: M2 | D32: 21 | F32: =TRUNC(E32*D32, 0) -> 0 | H32: =TRUNC(G32*D32, 0) -> 0 | J32: =TRUNC(I32*D32, 0) -> 0 | K32: =TRUNC(E32+G32+I32, 0) -> 0 | L32: =TRUNC(F32+H32+J32, 0) -> 0
A33: 유리끼우기 - 판유리 | B33: 10mm 미만 | C33: M2 | D33: 21 | F33: =TRUNC(E33*D33, 0) -> 0 | H33: =TRUNC(G33*D33, 0) -> 0 | J33: =TRUNC(I33*D33, 0) -> 0 | K33: =TRUNC(E33+G33+I33, 0) -> 0 | L33: =TRUNC(F33+H33+J33, 0) -> 0
A34: 유리주위코킹 | B34: 5*5, 실리콘 | C34: M | D34: 515.2 | F34: =TRUNC(E34*D34, 0) -> 0 | H34: =TRUNC(G34*D34, 0) -> 0 | J34: =TRUNC(I34*D34, 0) -> 0 | K34: =TRUNC(E34+G34+I34, 0) -> 0 | L34: =TRUNC(F34+H34+J34, 0) -> 0
... A37: 문짝및문틀 | B37: SGP용,양개,1800*2100 | C37: EA | D37: 5 | F37: =TRUNC(E37*D37, 0) -> 0 | H37: =TRUNC(G37*D37, 0) -> 0 | J37: =TRUNC(I37*D37, 0) -> 0 | K37: =TRUNC(E37+G37+I37, 0) -> 0 | L37: =TRUNC(F37+H37+J37, 0) -> 0
A38: [ 합 계 ] | F38: =SUM(F23:F37) -> 0 | H38: =SUM(H23:H37) -> 0 | J38: =SUM(J23:J37) -> 0 | L38: =SUM(L23:L37) -> 0
A40: 010106 수 장 공 사
A41: 장판지깔기 | B41: 휴게실바닥 | C41: M2 | D41: 15 | F41: =TRUNC(E41*D41, 0) -> 0 | H41: =TRUNC(G41*D41, 0) -> 0 | J41: =TRUNC(I41*D41, 0) -> 0 | K41: =TRUNC(E41+G41+I41, 0) -> 0 | L41: =TRUNC(F41+H41+J41, 0) -> 0
A42: 인테리어필름지부착 | B42: 벽 | C42: M2 | D42: 24 | F42: =TRUNC(E42*D42, 0) -> 0 | H42: =TRUNC(G42*D42, 0) -> 0 | J42: =TRUNC(I42*D42, 0) -> 0 | K42: =TRUNC(E42+G42+I42, 0) -> 0 | L42: =TRUNC(F42+H42+J42, 0) -> 0
A43: 석고판붙임 | B43: 벽, 일반 9.5*2PLY | C43: M2 | D43: 24 | F43: =TRUNC(E43*D43, 0) -> 0 | H43: =TRUNC(G43*D43, 0) -> 0 | J43: =TRUNC(I43*D43, 0) -> 0 | K43: =TRUNC(E43+G43+I43, 0) -> 0 | L43: =TRUNC(F43+H43+J43, 0) -> 0
A44: SGP | B44: A-TYPE,0.5MM칼라철판,12.5MM석고보드,W-65MM | C44: M2 | D44: 30 | F44: =TRUNC(E44*D44, 0) -> 0 | H44: =TRUNC(G44*D44, 0) -> 0 | J44: =TRUNC(I44*D44, 0) -> 0 | K44: =TRUNC(E44+G44+I44, 0) -> 0 | L44: =TRUNC(F44+H44+J44, 0) -> 0
A45: SGP | B45: B-TYPE,0.5MM칼라철판,12.5MM석고보드,W-65MM | C45: M2 | D45: 160 | F45: =TRUNC(E45*D45, 0) -> 0 | H45: =TRUNC(G45*D45, 0) -> 0 | J45: =TRUNC(I45*D45, 0) -> 0 | K45: =TRUNC(E45+G45+I45, 0) -> 0 | L45: =TRUNC(F45+H45+J45, 0) -> 0
A46: SGP 이설 | C46: M2 | D46: 48 | F46: =TRUNC(E46*D46, 0) -> 0 | H46: =TRUNC(G46*D46, 0) -> 0 | J46: =TRUNC(I46*D46, 0) -> 0 | K46: =TRUNC(E46+G46+I46, 0) -> 0 | L46: =TRUNC(F46+H46+J46, 0) -> 0
A47: [ 합 계 ] | F47: =SUM(F41:F46) -> 0 | H47: =SUM(H41:H46) -> 0 | J47: =SUM(J41:J46) -> 0 | L47: =SUM(L41:L46) -> 0
A49: 010107 기 타 공 사
A50: 외부 점두간판(비조명) | B50: 7500*315*140,입체형 | C50: EA | D50: 1 | F50: =TRUNC(E50*D50, 0) -> 0 | H50: =TRUNC(G50*D50, 0) -> 0 | J50: =TRUNC(I50*D50, 0) -> 0 | K50: =TRUNC(E50+G50+I50, 0) -> 0 | L50: =TRUNC(F50+H50+J50, 0) -> 0
A51: 실내 점두간판 | B51: 2250*600*90,판류형 | C51: EA | D51: 2 | F51: =TRUNC(E51*D51, 0) -> 0 | H51: =TRUNC(G51*D51, 0) -> 0 | J51: =TRUNC(I51*D51, 0) -> 0 | K51: =TRUNC(E51+G51+I51, 0) -> 0 | L51: =TRUNC(F51+H51+J51, 0) -> 0
A52: 우체국로고부착 | B52: 강화유리면 | C52: EA | D52: 2 | F52: =TRUNC(E52*D52, 0) -> 0 | H52: =TRUNC(G52*D52, 0) -> 0 | J52: =TRUNC(I52*D52, 0) -> 0 | K52: =TRUNC(E52+G52+I52, 0) -> 0 | L52: =TRUNC(F52+H52+J52, 0) -> 0
A53: 필연대 | B53: 680*880,12T강화유리,금융용 | C53: SET | D53: 1 | F53: =TRUNC(E53*D53, 0) -> 0 | H53: =TRUNC(G53*D53, 0) -> 0 | J53: =TRUNC(I53*D53, 0) -> 0 | K53: =TRUNC(E53+G53+I53, 0) -> 0 | L53: =TRUNC(F53+H53+J53, 0) -> 0
A54: 금융카운터 | B54: 1400*1150*950,인조대리석12mm상판 | C54: SET | D54: 4 | F54: =TRUNC(E54*D54, 0) -> 0 | H54: =TRUNC(G54*D54, 0) -> 0 | J54: =TRUNC(I54*D54, 0) -> 0 | K54: =TRUNC(E54+G54+I54, 0) -> 0 | L54: =TRUNC(F54+H54+J54, 0) -> 0
A55: 우편카운터 | B55: 1600*1150*850,인조대리석12mm상판 | C55: SET | D55: 4 | F55: =TRUNC(E55*D55, 0) -> 0 | H55: =TRUNC(G55*D55, 0) -> 0 | J55: =TRUNC(I55*D55, 0) -> 0 | K55: =TRUNC(E55+G55+I55, 0) -> 0 | L55: =TRUNC(F55+H55+J55, 0) -> 0
A56: 우편카운터 | B56: 1500*1150*850,인조대리석12mm상판 | C56: SET | D56: 3 | F56: =TRUNC(E56*D56, 0) -> 0 | H56: =TRUNC(G56*D56, 0) -> 0 | J56: =TRUNC(I56*D56, 0) -> 0 | K56: =TRUNC(E56+G56+I56, 0) -> 0 | L56: =TRUNC(F56+H56+J56, 0) -> 0
A57: 카운터마감바 | B57: 1200*870*20,문짝포함 | C57: 개소 | D57: 6 | F57: =TRUNC(E57*D57, 0) -> 0 | H57: =TRUNC(G57*D57, 0) -> 0 | J57: =TRUNC(I57*D57, 0) -> 0 | K57: =TRUNC(E57+G57+I57, 0) -> 0 | L57: =TRUNC(F57+H57+J57, 0) -> 0
A58: 분류작업대 | B58: 2400*1200,h:850,토탈마케팅실 | C58: SET | D58: 1 | F58: =TRUNC(E58*D58, 0) -> 0 | H58: =TRUNC(G58*D58, 0) -> 0 | J58: =TRUNC(I58*D58, 0) -> 0 | K58: =TRUNC(E58+G58+I58, 0) -> 0 | L58: =TRUNC(F58+H58+J58, 0) -> 0
A59: 미디어라인 | B59: 포맥스,1500*300*8t | C59: EA | D59: 4 | F59: =TRUNC(E59*D59, 0) -> 0 | H59: =TRUNC(G59*D59, 0) -> 0 | J59: =TRUNC(I59*D59, 0) -> 0 | K59: =TRUNC(E59+G59+I59, 0) -> 0 | L59: =TRUNC(F59+H59+J59, 0) -> 0 | M59: 설치비 포함
A60: 미디어라인 | B60: 포맥스,800*300*8t | C60: EA | D60: 3 | F60: =TRUNC(E60*D60, 0) -> 0 | H60: =TRUNC(G60*D60, 0) -> 0 | J60: =TRUNC(I60*D60, 0) -> 0 | K60: =TRUNC(E60+G60+I60, 0) -> 0 | L60: =TRUNC(F60+H60+J60, 0) -> 0 | M60: 설치비 포함
A61: 금융자동화기기 커버 | B61: 석고보드(2p)+인테리어필름, 홍보문구 부착 포함 | C61: 개소 | D61: 2 | F61: =TRUNC(E61*D61, 0) -> 0 | H61: =TRUNC(G61*D61, 0) -> 0 | J61: =TRUNC(I61*D61, 0) -> 0 | K61: =TRUNC(E61+G61+I61, 0) -> 0 | L61: =TRUNC(F61+H61+J61, 0) -> 0
A62: [ 합 계 ] | F62: =SUM(F50:F61) -> 0 | H62: =SUM(H50:H61) -> 0 | J62: =SUM(J50:J61) -> 0 | L62: =SUM(L50:L61) -> 0
A64: 010108 철 거 공 사
A65: 칸막이벽 철거 | C65: ㎡ | D65: =(2.5+12.2+2.5+2)*2.5+(7.7*2.7+2*2.7+(6+5.1)*2.7) -> 104.16 | F65: =TRUNC(E65*D65, 0) -> 0 | H65: =TRUNC(G65*D65, 0) -> 0 | J65: =TRUNC(I65*D65, 0) -> 0 | K65: =TRUNC(E65+G65+I65, 0) -> 0 | L65: =TRUNC(F65+H65+J65, 0) -> 0
A66: 텍스, 합판 철거(천장) | C66: M2 | D66: 17 | F66: =TRUNC(E66*D66, 0) -> 0 | H66: =TRUNC(G66*D66, 0) -> 0 | J66: =TRUNC(I66*D66, 0) -> 0 | K66: =TRUNC(E66+G66+I66, 0) -> 0 | L66: =TRUNC(F66+H66+J66, 0) -> 0
A67: 팬코일박스 철거 | C67: M2 | D67: =(8.35+7.9+8.4)*1 -> 24.65 | F67: =TRUNC(E67*D67, 0) -> 0 | H67: =TRUNC(G67*D67, 0) -> 0 | J67: =TRUNC(I67*D67, 0) -> 0 | K67: =TRUNC(E67+G67+I67, 0) -> 0 | L67: =TRUNC(F67+H67+J67, 0) -> 0
A68: [ 합 계 ] | F68: =SUM(F65:F67) -> 0 | H68: =SUM(H65:H67) -> 0 | J68: =SUM(J65:J67) -> 0 | L68: =SUM(L65:L67) -> 0
A70: 010109 폐기물 처리비
A71: 건설폐기물처리비 | B71: 건설폐자재 | C71: 톤 | D71: 3 | F71: =TRUNC(E71*D71, 0) -> 0 | H71: =TRUNC(G71*D71, 0) -> 0 | J71: =TRUNC(I71*D71, 0) -> 0 | K71: =TRUNC(E71+G71+I71, 0) -> 0 | L71: =TRUNC(F71+H71+J71, 0) -> 0
A72: 건설폐기물운반비 - 중간처리 | B72: 15톤트럭 - 30km | C72: 톤 | D72: 3 | F72: =TRUNC(E72*D72, 0) -> 0 | H72: =TRUNC(G72*D72, 0) -> 0 | J72: =TRUNC(I72*D72, 0) -> 0 | K72: =TRUNC(E72+G72+I72, 0) -> 0 | L72: =TRUNC(F72+H72+J72, 0) -> 0
A73: [ 합 계 ] | F73: =SUM(F71:F72) -> 0 | H73: =SUM(H71:H72) -> 0 | J73: =SUM(J71:J72) -> 0 | L73: =SUM(L71:L72) -> 0
