Workbook

Sheet 공사비내역서
B1: 공 사 비 내 역 서
B2: 공사명 : 충정로우체국 임대공간 조성공사(건축)
B3: 비 목 | E3: 금 액 | F3: 구 성 비 | G3: 비 고
A4: A1 | B4: 순 공 사 원 가 | C4: 재 료 비 | D4: 직 접 재 료 비 | E4: =공종별집계표!F5 -> 0
A5: A2 | D5: 간 접 재 료 비
A6: A3 | D6: 작업설, 부산물(△) | E6: =공종별집계표!F26 -> 0
A7: AS | D7: [ 소 계 ] | E7: =SUM(E4:E6) -> 0
A8: B1 | C8: 노 무 비 | D8: 직 접 노 무 비 | E8: =공종별집계표!H5 -> 0
A9: B2 | D9: 간 접 노 무 비 | E9: =E8*9.6% -> 0 | F9: 직접노무비 * 9.6% | G9: 최대 9.6% 적용가능
A10: BS | D10: [ 소 계 ] | E10: =SUM(E8:E9) -> 0
A11: C2 | C11: 경 비 | D11: 기 계 경 비 | E11: =공종별집계표!J5 -> 0
A12: C4 | D12: 산 재 보 험 료 | E12: =E10*3.8% -> 0 | F12: 노무비 * 3.8% | G12: 필수항목/고정비율
A13: C5 | D13: 고 용 보 험 료 | E13: =E10*0.87% -> 0 | F13: 노무비 * 0.87% | G13: 필수항목/고정비율
A14: CA | D14: 산업안전보건관리비 | E14: =(E7+E8)*2.93% -> 0 | F14: (재료비+직노) * 2.93% | G14: 필수항목/고정비율(4천만원이상공사)
A15: CH | D15: 환 경 보 전 비 | E15: =(E7+E8+E11)*0.3% -> 0 | F15: (재료비+직노+기계경비) * 0.3% | G15: 필수항목/고정비율
A16: CG | D16: 기 타 경 비 | E16: =(E7+E10)*3.03% -> 0 | F16: (재료비+노무비) * 3.03% | G16: 최대 3.03% 적용가능
A17: CS | D17: [ 소 계 ] | E17: =TRUNC(E11+E12+E13+E14+E16+E15, 0) -> 0
A18: S1 | B18: 계 | E18: =E7+E10+E17 -> 0
A19: D1 | B19: 일 반 관 리 비 | E19: =E18*6% -> 0 | F19: 계 * 6% | G19: 최대 6% 적용가능
A20: D2 | B20: 이 윤 | E20: =(E10+E17+E19)*10.51% -> 0 | F20: (노무비+경비+일반관리비) * 10.51% | G20: 최대 10.51% 적용가능
A21: D4 | B21: 폐기물 처리비 | E21: =TRUNC(공종별집계표!T27, 0) -> 0
A22: D9 | B22: 공 급 가 액 | E22: =SUM(E18:E21) -> 0
A23: DB | B23: 부 가 가 치 세 | E23: =TRUNC(E22*0.1, 0) -> 0 | F23: 공급가액 * 10% | G23: 필수항목/고정비율
A24: DH | B24: 도 급 액 | E24: =TRUNC(E22+E23, 0) -> 0
A25: S2 | B25: 총 공 사 비 | E25: =ROUNDDOWN(TRUNC(E24, 0),-3) -> 0

Sheet 공종별집계표
A1: 공 종 별 집 계 표
A2: [ 충정로우체국대수선공사 ]
A3: 품 명 | B3: 규 격 | C3: 단위 | D3: 수량 | E3: 재 료 비 | G3: 노 무 비 | I3: 경 비 | K3: 합 계 | M3: 비 고 | N3: 공종코드 | O3: 변수 | P3: 상위공종 | Q3: 공종구분 | R3: 공종레벨 | S3: 공종소계 | T3: 원가계산서 연결금액
E4: 단 가 | F4: 금 액 | G4: 단 가 | H4: 금 액 | I4: 단 가 | J4: 금 액 | K4: 단 가 | L4: 금 액
A5: 01 충정로우체국대수선공사 | D5: 1 | E5: =F6 -> 0 | F5: =E5*D5 -> 0 | G5: =H6 -> 0 | H5: =G5*D5 -> 0 | I5: =J6 -> 0 | J5: =I5*D5 -> 0 | K5: =E5+G5+I5 -> 0 | L5: =F5+H5+J5 -> 0 | N5: 01 | R5: 1
A6: 0101 ▶ 건 축 공 사 | D6: 1 | E6: =F7+F8+F9+F10+F11+F12+F13+F14+F15+F16+F17+F18+F19+F20+F21+F22+F23+F24+F25 -> 0 | F6: =E6*D6 -> 0 | G6: =H7+H8+H9+H10+H11+H12+H13+H14+H15+H16+H17+H18+H19+H20+H21+H22+H23+H24+H25 -> 0 | H6: =G6*D6 -> 0 | I6: =SUM(J7:K25) -> 0 | J6: =I6*D6 -> 0 | K6: =E6+G6+I6 -> 0 | L6: =F6+H6+J6 -> 0 | N6: 0101 | P6: 01 | R6: 2
A7: 010101 가 설 공 사 | D7: 1 | E7: =공종별내역서!F27 -> 0 | F7: =E7*D7 -> 0 | G7: =공종별내역서!H27 -> 0 | H7: =G7*D7 -> 0 | I7: =공종별내역서!J27 -> 0 | J7: =I7*D7 -> 0 | K7: =E7+G7+I7 -> 0 | L7: =F7+H7+J7 -> 0 | N7: 010101 | P7: 0101 | R7: 3
A8: 010102 토 및 지정공사 | D8: 1 | E8: =공종별내역서!F51 -> 0 | F8: =E8*D8 -> 0 | G8: =공종별내역서!H51 -> 0 | H8: =G8*D8 -> 0 | I8: =공종별내역서!J51 -> 0 | J8: =I8*D8 -> 0 | K8: =E8+G8+I8 -> 0 | L8: =F8+H8+J8 -> 0 | N8: 010102 | P8: 0101 | R8: 3
A9: 010103 철근콘크리트공사 | D9: 1 | E9: =공종별내역서!F74 -> 0 | F9: =E9*D9 -> 0 | G9: =공종별내역서!H74 -> 0 | H9: =G9*D9 -> 0 | I9: =공종별내역서!J74 -> 0 | J9: =I9*D9 -> 0 | K9: =E9+G9+I9 -> 0 | L9: =F9+H9+J9 -> 0 | N9: 010103 | P9: 0101 | R9: 3
A10: 010104 철 골 공 사 | D10: 1 | E10: =공종별내역서!F97 -> 0 | F10: =E10*D10 -> 0 | G10: =공종별내역서!H97 -> 0 | H10: =G10*D10 -> 0 | I10: =공종별내역서!J97 -> 0 | J10: =I10*D10 -> 0 | K10: =E10+G10+I10 -> 0 | L10: =F10+H10+J10 -> 0 | N10: 010104 | P10: 0101 | R10: 3
A11: 010105 조 적 공 사 | D11: 1 | E11: =공종별내역서!F121 -> 0 | F11: =E11*D11 -> 0 | G11: =공종별내역서!H121 -> 0 | H11: =G11*D11 -> 0 | I11: =공종별내역서!J121 -> 0 | J11: =I11*D11 -> 0 | K11: =E11+G11+I11 -> 0 | L11: =F11+H11+J11 -> 0 | N11: 010105 | P11: 0101 | R11: 3
A12: 010106 석 공 사 | D12: 1 | E12: =공종별내역서!F145 -> 0 | F12: =E12*D12 -> 0 | G12: =공종별내역서!H145 -> 0 | H12: =G12*D12 -> 0 | I12: =공종별내역서!J145 -> 0 | J12: =I12*D12 -> 0 | K12: =E12+G12+I12 -> 0 | L12: =F12+H12+J12 -> 0 | N12: 010106 | P12: 0101 | R12: 3
A13: 010107 목 공 사 | D13: 1 | E13: =공종별내역서!F169 -> 0 | F13: =E13*D13 -> 0 | G13: =공종별내역서!H169 -> 0 | H13: =G13*D13 -> 0 | I13: =공종별내역서!J169 -> 0 | J13: =I13*D13 -> 0 | K13: =E13+G13+I13 -> 0 | L13: =F13+H13+J13 -> 0 | N13: 010107 | P13: 0101 | R13: 3
A14: 010108 방 수 공 사 | D14: 1 | E14: =공종별내역서!F193 -> 0 | F14: =E14*D14 -> 0 | G14: =공종별내역서!H193 -> 0 | H14: =G14*D14 -> 0 | I14: =공종별내역서!J193 -> 0 | J14: =I14*D14 -> 0 | K14: =E14+G14+I14 -> 0 | L14: =F14+H14+J14 -> 0 | N14: 010108 | P14: 0101 | R14: 3
A15: 010109 지붕및홈통공사 | D15: 1 | E15: =공종별내역서!F217 -> 0 | F15: =E15*D15 -> 0 | G15: =공종별내역서!H217 -> 0 | H15: =G15*D15 -> 0 | I15: =공종별내역서!J217 -> 0 | J15: =I15*D15 -> 0 | K15: =E15+G15+I15 -> 0 | L15: =F15+H15+J15 -> 0 | N15: 010109 | P15: 0101 | R15: 3
A16: 010110 금 속 공 사 | D16: 1 | E16: =공종별내역서!F241 -> 0 | F16: =E16*D16 -> 0 | G16: =공종별내역서!H241 -> 0 | H16: =G16*D16 -> 0 | I16: =공종별내역서!J241 -> 0 | J16: =I16*D16 -> 0 | K16: =E16+G16+I16 -> 0 | L16: =F16+H16+J16 -> 0 | N16: 010110 | P16: 0101 | R16: 3
A17: 010111 미 장 공 사 | D17: 1 | E17: =공종별내역서!F265 -> 0 | F17: =E17*D17 -> 0 | G17: =공종별내역서!H265 -> 0 | H17: =G17*D17 -> 0 | I17: =공종별내역서!J265 -> 0 | J17: =I17*D17 -> 0 | K17: =E17+G17+I17 -> 0 | L17: =F17+H17+J17 -> 0 | N17: 010111 | P17: 0101 | R17: 3
A18: 010112 창호 및 유리공사 | D18: 1 | E18: =공종별내역서!F313 -> 0 | F18: =E18*D18 -> 0 | G18: =공종별내역서!H313 -> 0 | H18: =G18*D18 -> 0 | I18: =공종별내역서!J313 -> 0 | J18: =I18*D18 -> 0 | K18: =E18+G18+I18 -> 0 | L18: =F18+H18+J18 -> 0 | N18: 010112 | P18: 0101 | R18: 3
A19: 010113 도 장 공 사 | D19: 1 | E19: =공종별내역서!F337 -> 0 | F19: =E19*D19 -> 0 | G19: =공종별내역서!H337 -> 0 | H19: =G19*D19 -> 0 | I19: =공종별내역서!J337 -> 0 | J19: =I19*D19 -> 0 | K19: =E19+G19+I19 -> 0 | L19: =F19+H19+J19 -> 0 | N19: 010113 | P19: 0101 | R19: 3
A20: 010114 수 장 공 사 | D20: 1 | E20: =공종별내역서!F361 -> 0 | F20: =E20*D20 -> 0 | G20: =공종별내역서!H361 -> 0 | H20: =G20*D20 -> 0 | I20: =공종별내역서!J361 -> 0 | J20: =I20*D20 -> 0 | K20: =E20+G20+I20 -> 0 | L20: =F20+H20+J20 -> 0 | N20: 010114 | P20: 0101 | R20: 3
A21: 010115 기 타 공 사 | D21: 1 | E21: =공종별내역서!F385 -> 0 | F21: =E21*D21 -> 0 | G21: =공종별내역서!H385 -> 0 | H21: =G21*D21 -> 0 | I21: =공종별내역서!J385 -> 0 | J21: =I21*D21 -> 0 | K21: =E21+G21+I21 -> 0 | L21: =F21+H21+J21 -> 0 | N21: 010115 | P21: 0101 | R21: 3
A22: 010116 부 대 공 사 | D22: 1 | E22: =공종별내역서!F409 -> 0 | F22: =E22*D22 -> 0 | G22: =공종별내역서!H409 -> 0 | H22: =G22*D22 -> 0 | I22: =공종별내역서!J409 -> 0 | J22: =I22*D22 -> 0 | K22: =E22+G22+I22 -> 0 | L22: =F22+H22+J22 -> 0 | N22: 010116 | P22: 0101 | R22: 3
A23: 010117 철 거 공 사 | D23: 1 | E23: =공종별내역서!F433 -> 0 | F23: =E23*D23 -> 0 | G23: =공종별내역서!H433 -> 0 | H23: =G23*D23 -> 0 | I23: =공종별내역서!J433 -> 0 | J23: =I23*D23 -> 0 | K23: =E23+G23+I23 -> 0 | L23: =F23+H23+J23 -> 0 | N23: 010117 | P23: 0101 | R23: 3
A24: 010118 실내외계단철거 | D24: 1 | E24: =공종별내역서!F453 -> 0 | F24: =E24*D24 -> 0 | G24: =공종별내역서!H453 -> 0 | H24: =G24*D24 -> 0 | I24: =공종별내역서!J453 -> 0 | J24: =I24*D24 -> 0 | K24: =E24+G24+I24 -> 0 | L24: 3707000 | N24: 010118 | P24: 0101 | R24: 3
A25: 010119 골재비및운반비 | D25: 1 | E25: =공종별내역서!F477 -> 0 | F25: =E25*D25 -> 0 | G25: =공종별내역서!H477 -> 0 | H25: =G25*D25 -> 0 | I25: =공종별내역서!J477 -> 0 | J25: =I25*D25 -> 0 | K25: =E25+G25+I25 -> 0 | L25: =F25+H25+J25 -> 0 | N25: 010119 | P25: 0101 | R25: 3
A26: 010120 작 업 부 산 물 | D26: 1 | E26: =공종별내역서!F501 -> 0 | F26: =E26*D26 -> 0 | G26: =공종별내역서!H501 -> 0 | H26: =G26*D26 -> 0 | I26: =공종별내역서!J501 -> 0 | J26: =I26*D26 -> 0 | K26: =E26+G26+I26 -> 0 | L26: =F26+H26+J26 -> 0 | N26: 010120 | P26: 0101 | R26: 3
A27: 010121 폐기물 처리비 | D27: 1 | E27: =공종별내역서!F525 -> 0 | F27: =E27*D27 -> 0 | G27: =공종별내역서!H525 -> 0 | H27: =G27*D27 -> 0 | I27: =공종별내역서!J525 -> 0 | J27: =I27*D27 -> 0 | K27: =E27+G27+I27 -> 0 | L27: =F27+H27+J27 -> 0 | N27: 010121 | Q27: 6 | R27: 3 | T27: =L27*1 -> 0
A48: [ 합 계 ] | F48: =F5 -> 0 | H48: =H5 -> 0 | J48: =J5 -> 0 | L48: =L5 -> 0

Sheet 공종별내역서
A1: [ 충정로우체국 대수선공사(건축) ]
A2: 품 명 | B2: 규 격 | C2: 단위 | D2: 수량 | E2: 재 료 비 | G2: 노 무 비 | I2: 경 비 | K2: 합 계 | M2: 비 고 | N2: 품목코드 | O2: 변수 | P2: 설정 | Q2: 공종코드 | R2: 일위 | S2: 단산 | T2: 자재 | U2: 손료적용 | V2: 손료저장 | W2: 적용율 | X2: JUK1 | Y2: JUK2 | Z2: JUK3 | AA2: JUK4 | AB2: JUK5 | AC2: JUK6 | AD2: JUK7 | AE2: JUK8 | AF2: JUK9 | AG2: JUK10 | AH2: JUK11 | AI2: JUK12 | AJ2: JUK13 | AK2: JUK14 | AL2: JUK15 | AM2: JUK16 | AN2: JUK17 | AO2: JUK18 | AP2: JUK19 | AQ2: JUK20 | AR2: 자재구분 | AS2: 공종구분 | AT2: 공종레벨 | AU2: 공종+자재 | AV2: 고유번호
E3: 단 가 | F3: 금 액 | G3: 단 가 | H3: 금 액 | I3: 단 가 | J3: 금 액 | K3: 단 가 | L3: 금 액
A4: 010101 가 설 공 사 | Q4: 010101
A5: 이동식강관말비계(내부용) | B5: 1단(2m) | C5: 대 | D5: 2 | N5: 46489C8935A9F64876E664D4D8E2F | Q5: 010101 | R5: T | S5: F | T5: F | AU5: 01010146489C8935A9F64876E664D4D8E2F | AV5: 149
A6: 이동식강관말비계(외부용) | B6: 2단(4m) | C6: 대 | D6: 2 | N6: 46489C8935A9F64876E667A8B8C25 | Q6: 010101 | R6: T | S6: F | T6: F | AU6: 01010146489C8935A9F64876E667A8B8C25 | AV6: 4
A7: 건축물현장정리 | B7: 준공청소포함 | C7: M2 | D7: 475 | N7: 46489C8C8B5286E536E62C6A882A7 | Q7: 010101 | R7: T | S7: F | T7: F | AU7: 01010146489C8C8B5286E536E62C6A882A7 | AV7: 222
A8: 건축물 보양 - 석재면, 테라조면 | B8: 하드롱지 | C8: M2 | D8: 438 | N8: 46489C8C8880D6E59316F56178F62 | Q8: 010101 | R8: T | S8: F | T8: F | AU8: 01010146489C8C8880D6E59316F56178F62 | AV8: 223
A9: 가설칸막이설치및철거 | B9: 샌드위치판넬 | C9: M2 | D9: 66 | N9: 46489C89348916AD6906D175F8F4E | Q9: 010101 | R9: T | S9: F | T9: F | AU9: 01010146489C89348916AD6906D175F8F4E | AV9: 267
A27: [ 합 계 ] | N27: TOTAL
A28: 010102 토 및 지정공사 | Q28: 010102
A29: 터파기 | B29: 보통토사, 백호0.7m3 | C29: M3 | D29: 13 | N29: 46489F3E8221F62F4386CB9418B23 | Q29: 010102 | R29: T | S29: F | T29: F | AU29: 01010246489F3E8221F62F4386CB9418B23 | AV29: 147
A30: 되메우고다지기(토사) | B30: 백호0.7M3*래머80kg, 다짐15cm | C30: M3 | D30: 7 | N30: 46489F387A7CA6B1A976A83CD8B0A | Q30: 010102 | R30: F | S30: T | T30: F | AU30: 01010246489F387A7CA6B1A976A83CD8B0A | AV30: 148
A31: 잔토처리 | B31: 토사10km 백호0.7M3+덤프15톤 | C31: M3 | D31: 6 | N31: 46489F3FABF9A6E3A8B6F0FF780FA | Q31: 010102 | R31: F | S31: T | T31: F | AU31: 01010246489F3FABF9A6E3A8B6F0FF780FA | AV31: 7
A32: 굴삭기(타이어) | C32: HR | D32: 4 | N32: 415A98CF2537D652E996B158B8092E3DA5E4A18 | Q32: 010102 | R32: T | S32: F | T32: F | AU32: 010102415A98CF2537D652E996B158B8092E3DA5E4A18 | AV32: 268
A51: [ 합 계 ] | N51: TOTAL
A52: 010103 철근콘크리트공사 | Q52: 010103
A53: 레미콘 | B53: 25-18-08 | C53: ㎥ | D53: 1 | N53: 41649FB88E4CA6BFFD76EFA798237730944BD | Q53: 010103 | R53: F | S53: F | T53: T | AU53: 01010341649FB88E4CA6BFFD76EFA798237730944BD | AV53: 13
A54: 무근콘크리트 타설 | C54: M3 | D54: 1 | N54: 464899521A5C96361F16F0887871F | Q54: 010103 | R54: T | S54: F | T54: F | AU54: 010103464899521A5C96361F16F0887871F | AV54: 19
A55: 레미콘 | B55: 25-24-15 | C55: M3 | D55: 13 | N55: 41649FB88E4CA6BFFD76EFA7982377308A62F | Q55: 010103 | R55: F | S55: F | T55: T | AU55: 01010341649FB88E4CA6BFFD76EFA7982377308A62F | AV55: 180
A56: 철근콘크리트 타설 | C56: M3 | D56: 13 | N56: 4648995219B5265F45062E8698599 | Q56: 010103 | R56: T | S56: F | T56: F | AU56: 0101034648995219B5265F45062E8698599 | AV56: 20
A57: 철근콘크리트용봉강 | B57: 철근콘크리트용봉강, 이형봉강(SD350/400), HD-10, 지정장소도 | C57: TON | D57: 0.145 | N57: 41649FB88F5546B131C605F5B8A94E92C97E6 | Q57: 010103 | R57: F | S57: F | T57: T | AU57: 01010341649FB88F5546B131C605F5B8A94E92C97E6 | AV57: 11
A58: 철근콘크리트용봉강 | B58: 철근콘크리트용봉강, 이형봉강(SD350/400), HD-13, 지정장소도 | C58: TON | D58: 1.462 | N58: 41649FB88F5546B131C605F5B8A94E92F6B45 | Q58: 010103 | R58: F | S58: F | T58: T | AU58: 01010341649FB88F5546B131C605F5B8A94E92F6B45 | AV58: 12
A59: 현장 철근 가공 및 조립 | B59: 보통(미할증) | C59: TON | D59: 1.561 | N59: 46489956F6F236DB773698A858C93 | Q59: 010103 | R59: T | S59: F | T59: F | AU59: 01010346489956F6F236DB773698A858C93 | AV59: 18
A60: 합판 거푸집 | B60: 4회 | C60: M2 | D60: 53 | N60: 46489955D1940634386685EF08310 | Q60: 010103 | R60: T | S60: F | T60: F | AU60: 01010346489955D1940634386685EF08310 | AV60: 16
A61: HILTI HIT-HY150 | B61: M13*L120 | C61: 개 | D61: 287 | N61: 4648986FBD6CA6B746C62BAE8815E | Q61: 010103 | R61: T | S61: F | T61: F | AU61: 0101034648986FBD6CA6B746C62BAE8815E | AV61: 21
A62: STUD ANCHOR 설치 | B62: M20,HILTI HSA | C62: 개 | D62: 106 | N62: 4648986FBD6CA6B746C62BAE8815D | Q62: 010103 | R62: T | S62: F | T62: F | AU62: 0101034648986FBD6CA6B746C62BAE8815D | AV62: 22
A74: [ 합 계 ] | N74: TOTAL
A75: 010104 철 골 공 사 | Q75: 010104
A76: H빔 | B76: H빔, SS400, 200*200*8.0*12.0mm | C76: TON | D76: 2.903 | N76: 41649FB88F5546A0B1965A04E80FD5C67C772 | Q76: 010104 | R76: F | S76: F | T76: T | AU76: 01010441649FB88F5546A0B1965A04E80FD5C67C772 | AV76: 25
A77: H빔 | B77: H빔, SS400, 294*200*8.0*12.0mm | C77: TON | D77: 3.538 | N77: 41649FB88F5546A0B1965A04E80FD5C647AA3 | Q77: 010104 | R77: F | S77: F | T77: T | AU77: 01010441649FB88F5546A0B1965A04E80FD5C647AA3 | AV77: 226
A78: 일반구조용압연강판 | B78: 일반구조용압연강판, 12mm | C78: TON | D78: 0.231 | N78: 41649FB88F56566FF09668E44850D6BF9DDF2 | Q78: 010104 | R78: F | S78: F | T78: T | AU78: 01010441649FB88F56566FF09668E44850D6BF9DDF2 | AV78: 27
A79: 일반구조용압연강판 | B79: 일반구조용압연강판, 15mm | C79: 톤 | D79: 0.284 | N79: 41649FB88F56566FF09668E44850D6BF9DD8D | Q79: 010104 | R79: F | S79: F | T79: T | AU79: 01010441649FB88F56566FF09668E44850D6BF9DD8D | AV79: 156
A80: 철골 가공 조립(표준 라멘구조) | B80: Rolled shape, 60ton미만 | C80: TON | D80: 6.49 | N80: 4648986E976826C6C4A69DB9C874C | Q80: 010104 | R80: T | S80: F | T80: F | AU80: 0101044648986E976826C6C4A69DB9C874C | AV80: 33
A81: 철골세우기 - 6층 미만 | B81: 기준 - 볼트 별도 - | C81: TON | D81: 6.49 | N81: 464898680F054622A2A6F37E48993 | Q81: 010104 | R81: T | S81: F | T81: F | AU81: 010104464898680F054622A2A6F37E48993 | AV81: 34
A82: 고장력볼트 본조임 | B82: 300ton미만, 30본미만/톤 | C82: TON | D82: 6.49 | N82: 46489868047AB6D9EAE670C33849A | Q82: 010104 | R82: T | S82: F | T82: F | AU82: 01010446489868047AB6D9EAE670C33849A | AV82: 36
A83: 강판용접(Rolled shape) | B83: 20m미만(m/t), 30ton미만 | C83: TON | D83: 6.49 | N83: 46489868047AB6F4D2B69B6F08B5B | Q83: 010104 | R83: T | S83: F | T83: F | AU83: 01010446489868047AB6F4D2B69B6F08B5B | AV83: 37
A84: 고장력볼트 | B84: 고장력볼트, F10T, M20*55mm | C84: 조 | D84: 139 | N84: 41649E93959AE6AAF996E979B88166DC75E28 | Q84: 010104 | R84: F | S84: F | T84: T | AU84: 01010441649E93959AE6AAF996E979B88166DC75E28 | AV84: 30
A85: 고장력볼트 | B85: 고장력볼트, F10T, M20*75mm | C85: 조 | D85: 33 | N85: 41649E93959AE6AAF996E979B88166DC75E2C | Q85: 010104 | R85: F | S85: F | T85: T | AU85: 01010441649E93959AE6AAF996E979B88166DC75E2C | AV85: 31
A86: 기둥밑무수축고름모르타르 | B86: 아이엠(650kgf/cm2) | C86: ㎥ | D86: 0.28 | N86: 46489868047B4634C316370DD8FC8 | Q86: 010104 | R86: T | S86: F | T86: F | AU86: 01010446489868047B4634C316370DD8FC8 | AV86: 167
A87: 건설용거푸집 | B87: 건설용거푸집, 덱플레이트(트러스), DW3형(상부D13/하부D8*2) | C87: M2 | D87: 9 | N87: 41649FB8867EA62B7E66C6F518738148F39FF | Q87: 010104 | R87: F | S87: F | T87: T | AU87: 01010441649FB8867EA62B7E66C6F518738148F39FF | AV87: 161
... A92: 철골운반 | B92: 40km | C92: 톤 | D92: 6.956 | N92: 464898680F054622A2A6F7D9B89F9 | Q92: 010104 | R92: T | S92: F | T92: F | AU92: 010104464898680F054622A2A6F7D9B89F9 | AV92: 35
A97: [ 합 계 ] | N97: TOTAL
A98: 010105 조 적 공 사 | Q98: 010105
A99: 콘크리트벽돌 | B99: 190*57*90mm | C99: 매 | D99: 4532 | N99: 41649FB88C9E364E17367FE638C7E32CC07E6 | Q99: 010105 | R99: F | S99: F | T99: T | AU99: 01010541649FB88C9E364E17367FE638C7E32CC07E6 | AV99: 44
A100: 1.0B 벽돌쌓기 | C100: 천매 | D100: 4.316 | N100: 46489BA0CEC7968DD446492BD8B7F | Q100: 010105 | R100: T | S100: F | T100: F | AU100: 01010546489BA0CEC7968DD446492BD8B7F | AV100: 45
A101: 벽돌 운반 | B101: 인력, 1층 | C101: 천매 | D101: 3.753 | N101: 46489BA0CC19660068265D25F8D93 | Q101: 010105 | R101: T | S101: F | T101: F | AU101: 01010546489BA0CC19660068265D25F8D93 | AV101: 46
A102: 벽돌 운반 | B102: 인력, 2층 | C102: 천매 | D102: 0.563 | N102: 46489BA0CC19660068265C1E88BBC | Q102: 010105 | R102: T | S102: F | T102: F | AU102: 01010546489BA0CC19660068265C1E88BBC | AV102: 227
A103: 철근콘크리트인방 | B103: 200*200 | C103: M | D103: 2 | N103: 46489BB32E1FC6D351665E8398AA1 | Q103: 010105 | R103: T | S103: F | T103: F | AU103: 01010546489BB32E1FC6D351665E8398AA1 | AV103: 229
A121: [ 합 계 ] | N121: TOTAL
A122: 010106 석 공 사 | Q122: 010106
A123: 화강석붙임(건식/앵커, 버너) | B123: 벽, 포천석 30mm | C123: M2 | D123: 35 | N123: 464890B5A071265903F6C5AFF8E6C | Q123: 010106 | R123: T | S123: F | T123: F | AU123: 010106464890B5A071265903F6C5AFF8E6C | AV123: 231
A124: 화강석붙임(습식, 버너) | B124: 바닥, 포천석 30mm, 모르타르 30mm | C124: M2 | D124: 12 | N124: 464890B5A222565D78C620DA28FFB | Q124: 010106 | R124: T | S124: F | T124: F | AU124: 010106464890B5A222565D78C620DA28FFB | AV124: 232
A125: 화강석붙임(습식, 버너) | B125: 디딤판, 포천석 300*30mm, 모르타르 30mm | C125: M | D125: 30 | N125: 464890B5A4D1967509663F51F8AE6 | Q125: 010106 | R125: T | S125: F | T125: F | AU125: 010106464890B5A4D1967509663F51F8AE6 | AV125: 50
A126: 화강석붙임(습식, 버너) | B126: 챌판, 포천석 30mm, 모르타르 20mm | C126: M2 | D126: 5 | N126: 464890B5A4D196750976C32EB8E11 | Q126: 010106 | R126: T | S126: F | T126: F | AU126: 010106464890B5A4D196750976C32EB8E11 | AV126: 51
A127: 화강석 두겁돌(습식, 버너) | B127: 포천석 160*50mm, 모르타르 30mm | C127: M | D127: 10 | N127: 464890B5A69F26B25B965A472869F | Q127: 010106 | R127: T | S127: F | T127: F | AU127: 010106464890B5A69F26B25B965A472869F | AV127: 52
A128: 화강석 두겁돌(습식, 버너) | B128: 포천석 330*100mm, 모르타르 30mm | C128: M | D128: 2 | N128: 464890B5A69F26B25B965A472869C | Q128: 010106 | R128: T | S128: F | T128: F | AU128: 010106464890B5A69F26B25B965A472869C | AV128: 53
A129: 화강석붙임(습식, 물갈기) | B129: 창대, 포천석 279*30mm, 모르타르 30mm | C129: M | D129: 10 | N129: 464890B5A69D76D4971681E6F881B | Q129: 010106 | R129: T | S129: F | T129: F | AU129: 010106464890B5A69D76D4971681E6F881B | AV129: 274
A130: 점자블럭 | B130: 300*300 | C130: EA | D130: 49 | N130: 41649E939599C6D8847622F518B82DA7B18C8 | Q130: 010106 | R130: F | S130: F | T130: T | AU130: 01010641649E939599C6D8847622F518B82DA7B18C8 | AV130: 217
A145: [ 합 계 ] | N145: TOTAL
A146: 010107 목 공 사 | Q146: 010107
A147: 마루틀 설치 | B147: 60*60*@450*450,앵커포함,GW70 | C147: M2 | D147: 27 | N147: 464894D3962E96C5F206782F68586 | Q147: 010107 | R147: T | S147: F | T147: F | AU147: 010107464894D3962E96C5F206782F68586 | AV147: 277
A148: 합판바닥깔기 | B148: T12,내수 | C148: M2 | D148: 27 | N148: 464894D391AF166A3E66369FD82F2 | Q148: 010107 | R148: T | S148: F | T148: F | AU148: 010107464894D391AF166A3E66369FD82F2 | AV148: 278
A169: [ 합 계 ] | N169: TOTAL
A170: 010108 방 수 공 사 | Q170: 010108
A171: 수밀코킹(실리콘) | B171: 삼각, 10mm, 창호주위 | C171: M | D171: 233 | N171: 4648953F32BF86730876A9B318FF6 | Q171: 010108 | R171: T | S171: F | T171: F | AU171: 0101084648953F32BF86730876A9B318FF6 | AV171: 55
A193: [ 합 계 ] | N193: TOTAL
A194: 010109 지붕및홈통공사 | Q194: 010109
A195: 루프드레인/ 주철제 | B195: D100mm(강관배관용,수직형) | C195: 개소 | D195: 1 | N195: 4648961C0937168D39B6798DC8AB7 | Q195: 010109 | R195: F | S195: F | T195: T | AU195: 0101094648961C0937168D39B6798DC8AB7 | AV195: 215
A196: 스테인레스 선홈통 설치 | B196: D-100,T:1.5mm | C196: m | D196: 5 | N196: 4648961D2F3CB6E84FB6DE1B8872B | Q196: 010109 | R196: F | S196: F | T196: T | AU196: 0101094648961D2F3CB6E84FB6DE1B8872B | AV196: 216
A217: [ 합 계 ] | N217: TOTAL
A218: 010110 금 속 공 사 | Q218: 010110
A219: 경량철골천정틀 | B219: M-BAR | C219: M2 | D219: 88 | N219: 4648970F73849674CD260DF2F8694 | Q219: 010110 | R219: T | S219: F | T219: F | AU219: 0101104648970F73849674CD260DF2F8694 | AV219: 269
A220: AL몰딩설(W형) | B220: 칼라, 15*15*15*15*1.0mm | C220: M | D220: 11 | N220: 4648928D3AC9F68C0516F038B8F29 | Q220: 010110 | R220: T | S220: F | T220: F | AU220: 0101104648928D3AC9F68C0516F038B8F29 | AV220: 270
A221: 스테인리스난간대/장애인리프트 | B221: D38.1+12, H:1200 | C221: m | D221: 7 | N221: 464897050E21B67F18C64F0218174 | Q221: 010110 | R221: T | S221: F | T221: F | AU221: 010110464897050E21B67F18C64F0218174 | AV221: 57
A222: 스테인리스유리난간대 | B222: D38.1+24.4+12t강화유리,H:1100 | C222: m | D222: 4 | N222: 464897050E21B67F18C64F0218177 | Q222: 010110 | R222: T | S222: F | T222: F | AU222: 010110464897050E21B67F18C64F0218177 | AV222: 58
A223: 케노피징크 | B223: 4.0T,Blue-Grey | C223: m2 | D223: 58 | N223: 41649FB88AD3766B2666CFF3D8F1FE0ECD798 | Q223: 010110 | R223: F | S223: F | T223: T | AU223: 01011041649FB88AD3766B2666CFF3D8F1FE0ECD798 | AV223: 163
A224: 케노피지붕마감 | B224: 10T,글라스울+2T방수지+12T합판 | C224: M2 | D224: 20 | N224: 4648970B93B0B6F5E6364DC1B8E09 | Q224: 010110 | R224: T | S224: F | T224: F | AU224: 0101104648970B93B0B6F5E6364DC1B8E09 | AV224: 60
A225: 케노피코킹 | B225: WEATHER SEALANT | C225: M | D225: 62 | N225: 4648970B93B0B6F5E6364DC1B8E08 | Q225: 010110 | R225: T | S225: F | T225: F | AU225: 0101104648970B93B0B6F5E6364DC1B8E08 | AV225: 61
A226: 케노피각파이프설치 | B226: ㅁ40*40*2.3T | C226: m | D226: 199 | N226: 4648970B93B0B6F5E6364DC1B8E0F | Q226: 010110 | R226: T | S226: F | T226: F | AU226: 0101104648970B93B0B6F5E6364DC1B8E0F | AV226: 62
A227: U형충돌방지대 | B227: (600+1200+600),BASE포함 | C227: EA | D227: 8 | N227: 41649FB88AD3766B2666CFF3D8F1FE0ECD79B | Q227: 010110 | R227: F | S227: F | T227: T | AU227: 01011041649FB88AD3766B2666CFF3D8F1FE0ECD79B | AV227: 272
A228: 천정재료분리대 | B228: 2층 X4열SST(10*10)*1.5T | C228: M | D228: 7 | N228: 4648970D44E2963CFB862AF2C89AC | Q228: 010110 | R228: T | S228: F | T228: F | AU228: 0101104648970D44E2963CFB862AF2C89AC | AV228: 235
A229: 스테인리스재료분리대 | B229: 바닥, W30*H20*1.5t | C229: M | D229: 3 | N229: 4648928335EC66D4FE56091CD826F | Q229: 010110 | R229: T | S229: F | T229: F | AU229: 0101104648928335EC66D4FE56091CD826F | AV229: 239
A230: 철재커텐박스(ㄷ자형) | B230: 100*150*1.2t, STL(도장 유) | C230: M | D230: 11 | N230: 4648928C106EE650B276C7A2181D4 | Q230: 010110 | R230: T | S230: F | T230: F | AU230: 0101104648928C106EE650B276C7A2181D4 | AV230: 220
... A232: 손잡이 | B232: 손잡이, 장애자용손잡이, 소변기용, STS304 Ø38,1.5t | C232: 조 | D232: 1 | N232: 41649E939599C6D8847622F518B82DA7DD5EF | Q232: 010110 | R232: F | S232: F | T232: T | AU232: 01011041649E939599C6D8847622F518B82DA7DD5EF | AV232: 234
A241: [ 합 계 ] | N241: TOTAL
A242: 010111 미 장 공 사 | Q242: 010111
A243: 모르타르 바름 | B243: 바닥, 27mm | C243: M2 | D243: 41 | N243: 46489ABBA38096D9FD362511588D8 | Q243: 010111 | R243: T | S243: F | T243: F | AU243: 01011146489ABBA38096D9FD362511588D8 | AV243: 66
A244: 모르타르 바름 | B244: 내벽, 18mm | C244: M2 | D244: 35 | N244: 46489ABBA3824694A4B621D298C80 | Q244: 010111 | R244: T | S244: F | T244: F | AU244: 01011146489ABBA3824694A4B621D298C80 | AV244: 240
A245: 창문틀 주위 충전 | B245: 발포우레탄 충전 | C245: M | D245: 117 | N245: 464891980494564BF2C667E268EBC | Q245: 010111 | R245: T | S245: F | T245: F | AU245: 010111464891980494564BF2C667E268EBC | AV245: 90
A265: [ 합 계 ] | N265: TOTAL
A266: 010112 창호 및 유리공사 | Q266: 010112
A267: SD01[45*240*1.6T,정전분체] | B267: 1.800 x 2.100 = 3.780 | C267: EA | D267: 2 | N267: 4648919F4FA076F2145646FDF88B0 | Q267: 010112 | R267: T | S267: F | T267: F | AU267: 0101124648919F4FA076F2145646FDF88B0 | AV267: 79
A268: SD02[45*240*1.6T,정전분체] | B268: 0.900 x 2.100 = 1.890 | C268: EA | D268: 2 | N268: 4648919F4FA076F2145646FDF88B2 | Q268: 010112 | R268: T | S268: F | T268: F | AU268: 0101124648919F4FA076F2145646FDF88B2 | AV268: 80
A269: SH01[AL,방화셔터] | B269: 1.900 x 3.050 = 5.795 | C269: EA | D269: 1 | N269: 4648919F4FA076F2145646FDF88B4 | Q269: 010112 | R269: T | S269: F | T269: F | AU269: 0101124648919F4FA076F2145646FDF88B4 | AV269: 81
A270: SSD01[50*120*1.5T] | B270: 1.950 x 2.960 = 5.772 | C270: EA | D270: 1 | N270: 4648919F4FA076F2145646FDF88B6 | Q270: 010112 | R270: T | S270: F | T270: F | AU270: 0101124648919F4FA076F2145646FDF88B6 | AV270: 82
A271: SSD02[50*120*1.5T] | B271: 0.850 x 2.960 = 2.516 | C271: EA | D271: 2 | N271: 4648919F4FA076F2145646FDF88B8 | Q271: 010112 | R271: T | S271: F | T271: F | AU271: 0101124648919F4FA076F2145646FDF88B8 | AV271: 83
A272: SSD03[50*120*1.5T] | B272: 3.954 x 3.040 = 12.020 | C272: EA | D272: 1 | N272: 4648919F4FA076F2145646FDF8958 | Q272: 010112 | R272: T | S272: F | T272: F | AU272: 0101124648919F4FA076F2145646FDF8958 | AV272: 242
A273: SSW01[50*120*1.5T] | B273: 5.150 x 3.000 = 15.450 | C273: EA | D273: 2 | N273: 4648919F4FA076F2145646FDF8959 | Q273: 010112 | R273: T | S273: F | T273: F | AU273: 0101124648919F4FA076F2145646FDF8959 | AV273: 84
A274: WD01[목재여닫이문] | B274: 0.900 x 2.100 = 1.890 | C274: EA | D274: 4 | N274: 4648919F4FA076F2145646FDF895B | Q274: 010112 | R274: T | S274: F | T274: F | AU274: 0101124648919F4FA076F2145646FDF895B | AV274: 85
...

Sheet Sheet1
