Workbook

Sheet 공사비내역서
B1: 공 사 비 내 역 서
B2: 공사명 : 충정로우체국 임대공간 조성공사(건축)
B3: 비 목 | E3: 금 액 | F3: 구 성 비 | G3: 비 고
A4: A1 | B4: 순 공 사 원 가 | C4: 재 료 비 | D4: 직 접 재 료 비 | E4: =공종별집계표!F5 -> 0
A5: A2 | D5: 간 접 재 료 비
A6: A3 | D6: 작업설, 부산물(△) | E6: =공종별집계표!F26 -> 0
A7: AS | D7: [ 소 계 ] | E7: =SUM(E4:E6) -> 0
A8: B1 | C8: 노 무 비 | D8: 직 접 노 무 비 | E8: =공종별집계표!H5 -> 0
A9: B2 | D9: 간 접 노 무 비 | E9: =E8*9.6% -> 0 | F9: 직접노무비 * 9.6% | G9: 최대 9.6% 적용가능
A10: BS | D10: [ 소 계 ] | E10: =SUM(E8:E9) -> 0
A11: C2 | C11: 경 비 | D11: 기 계 경 비 | E11: =공종별집계표!J5 -> 0
A12: C4 | D12: 산 재 보 험 료 | E12: =E10*3.8% -> 0 | F12: 노무비 * 3.8% | G12: 필수항목/고정비율
A13: C5 | D13: 고 용 보 험 료 | E13: =E10*0.87% -> 0 | F13: 노무비 * 0.87% | G13: 필수항목/고정비율
A14: CA | D14: 산업안전보건관리비 | E14: =(E7+E8)*2.93% -> 0 | F14: (재료비+직노) * 2.93% | G14: 필수항목/고정비율(4천만원이상공사)
A15: CH | D15: 환 경 보 전 비 | E15: =(E7+E8+E11)*0.3% -> 0 | F15: (재료비+직노+기계경비) * 0.3% | G15: 필수항목/고정비율
A16: CG | D16: 기 타 경 비 | E16: =(E7+E10)*3.03% -> 0 | F16: (재료비+노무비) * 3.03% | G16: 최대 3.03% 적용가능
A17: CS | D17: [ 소 계 ] | E17: =TRUNC(E11+E12+E13+E14+E16+E15, 0) -> 0
A18: S1 | B18: 계 | E18: =E7+E10+E17 -> 0
A19: D1 | B19: 일 반 관 리 비 | E19: =E18*6% -> 0 | F19: 계 * 6% | G19: 최대 6% 적용가능
A20: D2 | B20: 이 윤 | E20: =(E10+E17+E19)*10.51% -> 0 | F20: (노무비+경비+일반관리비) * 10.51% | G20: 최대 10.51% 적용가능
A21: D4 | B21: 폐기물 처리비 | E21: =TRUNC(공종별집계표!T27, 0) -> 0
A22: D9 | B22: 공 급 가 액 | E22: =SUM(E18:E21) -> 0
A23: DB | B23: 부 가 가 치 세 | E23: =TRUNC(E22*0.1, 0) -> 0 | F23: 공급가액 * 10% | G23: 필수항목/고정비율
A24: DH | B24: 도 급 액 | E24: =TRUNC(E22+E23, 0) -> 0
A25: S2 | B25: 총 공 사 비 | E25: =ROUNDDOWN(TRUNC(E24, 0),-3) -> 0

Sheet 공종별집계표
A1: 공 종 별 집 계 표
A2: [ 충정로우체국대수선공사 ]
A3: 품 명 | B3: 규 격 | C3: 단위 | D3: 수량 | E3: 재 료 비 | G3: 노 무 비 | I3: 경 비 | K3: 합 계 | M3: 비 고 | N3: 공종코드 | O3: 변수 | P3: 상위공종 | Q3: 공종구분 | R3: 공종레벨 | S3: 공종소계 | T3: 원가계산서 연결금액
E4: 단 가 | F4: 금 액 | G4: 단 가 | H4: 금 액 | I4: 단 가 | J4: 금 액 | K4: 단 가 | L4: 금 액
A5: 01 충정로우체국대수선공사 | D5: 1 | E5: =F6 -> 0 | F5: =E5*D5 -> 0 | G5: =H6 -> 0 | H5: =G5*D5 -> 0 | I5: =J6 -> 0 | J5: =I5*D5 -> 0 | K5: =E5+G5+I5 -> 0 | L5: =F5+H5+J5 -> 0 | N5: 01 | R5: 1
A6: 0101 ▶ 건 축 공 사 | D6: 1 | E6: =F7+F8+F9+F10+F11+F12+F13+F14+F15+F16+F17+F18+F19+F20+F21+F22+F23+F24+F25 -> 0 | F6: =E6*D6 -> 0 | G6: =H7+H8+H9+H10+H11+H12+H13+H14+H15+H16+H17+H18+H19+H20+H21+H22+H23+H24+H25 -> 0 | H6: =G6*D6 -> 0 | I6: =SUM(J7:K25) -> 0 | J6: =I6*D6 -> 0 | K6: =E6+G6+I6 -> 0 | L6: =F6+H6+J6 -> 0 | N6: 0101 | P6: 01 | R6: 2
A7: 010101 가 설 공 사 | D7: 1 | E7: =공종별내역서!F27 -> 0 | F7: =E7*D7 -> 0 | G7: =공종별내역서!H27 -> 0 | H7: =G7*D7 -> 0 | I7: =공종별내역서!J27 -> 0 | J7: =I7*D7 -> 0 | K7: =E7+G7+I7 -> 0 | L7: =F7+H7+J7 -> 0 | N7: 010101 | P7: 0101 | R7: 3
A8: 010102 토 및 지정공사 | D8: 1 | E8: =공종별내역서!F51 -> 0 | F8: =E8*D8 -> 0 | G8: =공종별내역서!H51 -> 0 | H8: =G8*D8 -> 0 | I8: =공종별내역서!J51 -> 0 | J8: =I8*D8 -> 0 | K8: =E8+G8+I8 -> 0 | L8: =F8+H8+J8 -> 0 | N8: 010102 | P8: 0101 | R8: 3
A9: 010103 철근콘크리트공사 | D9: 1 | E9: =공종별내역서!F74 -> 0 | F9: =E9*D9 -> 0 | G9: =공종별내역서!H74 -> 0 | H9: =G9*D9 -> 0 | I9: =공종별내역서!J74 -> 0 | J9: =I9*D9 -> 0 | K9: =E9+G9+I9 -> 0 | L9: =F9+H9+J9 -> 0 | N9: 010103 | P9: 0101 | R9: 3
A10: 010104 철 골 공 사 | D10: 1 | E10: =공종별내역서!F97 -> 0 | F10: =E10*D10 -> 0 | G10: =공종별내역서!H97 -> 0 | H10: =G10*D10 -> 0 | I10: =공종별내역서!J97 -> 0 | J10: =I10*D10 -> 0 | K10: =E10+G10+I10 -> 0 | L10: =F10+H10+J10 -> 0 | N10: 010104 | P10: 0101 | R10: 3
A11: 010105 조 적 공 사 | D11: 1 | E11: =공종별내역서!F121 -> 0 | F11: =E11*D11 -> 0 | G11: =공종별내역서!H121 -> 0 | H11: =G11*D11 -> 0 | I11: =공종별내역서!J121 -> 0 | J11: =I11*D11 -> 0 | K11: =E11+G11+I11 -> 0 | L11: =F11+H11+J11 -> 0 | N11: 010105 | P11: 0101 | R11: 3
A12: 010106 석 공 사 | D12: 1 | E12: =공종별내역서!F145 -> 0 | F12: =E12*D12 -> 0 | G12: =공종별내역서!H145 -> 0 | H12: =G12*D12 -> 0 | I12: =공종별내역서!J145 -> 0 | J12: =I12*D12 -> 0 | K12: =E12+G12+I12 -> 0 | L12: =F12+H12+J12 -> 0 | N12: 010106 | P12: 0101 | R12: 3
A13: 010107 목 공 사 | D13: 1 | E13: =공종별내역서!F169 -> 0 | F13: =E13*D13 -> 0 | G13: =공종별내역서!H169 -> 0 | H13: =G13*D13 -> 0 | I13: =공종별내역서!J169 -> 0 | J13: =I13*D13 -> 0 | K13: =E13+G13+I13 -> 0 | L13: =F13+H13+J13 -> 0 | N13: 010107 | P13: 0101 | R13: 3
A14: 010108 방 수 공 사 | D14: 1 | E14: =공종별내역서!F193 -> 0 | F14: =E14*D14 -> 0 | G14: =공종별내역서!H193 -> 0 | H14: =G14*D14 -> 0 | I14: =공종별내역서!J193 -> 0 | J14: =I14*D14 -> 0 | K14: =E14+G14+I14 -> 0 | L14: =F14+H14+J14 -> 0 | N14: 010108 | P14: 0101 | R14: 3
A15: 010109 지붕및홈통공사 | D15: 1 | E15: =공종별내역서!F217 -> 0 | F15: =E15*D15 -> 0 | G15: =공종별내역서!H217 -> 0 | H15: =G15*D15 -> 0 | I15: =공종별내역서!J217 -> 0 | J15: =I15*D15 -> 0 | K15: =E15+G15+I15 -> 0 | L15: =F15+H15+J15 -> 0 | N15: 010109 | P15: 0101 | R15: 3
A16: 010110 금 속 공 사 | D16: 1 | E16: =공종별내역서!F241 -> 0 | F16: =E16*D16 -> 0 | G16: =공종별내역서!H241 -> 0 | H16: =G16*D16 -> 0 | I16: =공종별내역서!J241 -> 0 | J16: =I16*D16 -> 0 | K16: =E16+G16+I16 -> 0 | L16: =F16+H16+J16 -> 0 | N16: 010110 | P16: 0101 | R16: 3
A17: 010111 미 장 공 사 | D17: 1 | E17: =공종별내역서!F265 -> 0 | F17: =E17*D17 -> 0 | G17: =공종별내역서!H265 -> 0 | H17: =G17*D17 -> 0 | I17: =공종별내역서!J265 -> 0 | J17: =I17*D17 -> 0 | K17: =E17+G17+I17 -> 0 | L17: =F17+H17+J17 -> 0 | N17: 010111 | P17: 0101 | R17: 3
A18: 010112 창호 및 유리공사 | D18: 1 | E18: =공종별내역서!F313 -> 0 | F18: =E18*D18 -> 0 | G18: =공종별내역서!H313 -> 0 | H18: =G18*D18 -> 0 | I18: =공종별내역서!J313 -> 0 | J18: =I18*D18 -> 0 | K18: =E18+G18+I18 -> 0 | L18: =F18+H18+J18 -> 0 | N18: 010112 | P18: 0101 | R18: 3
A19: 010113 도 장 공 사 | D19: 1 | E19: =공종별내역서!F337 -> 0 | F19: =E19*D19 -> 0 | G19: =공종별내역서!H337 -> 0 | H19: =G19*D19 -> 0 | I19: =공종별내역서!J337 -> 0 | J19: =I19*D19 -> 0 | K19: =E19+G19+I19 -> 0 | L19: =F19+H19+J19 -> 0 | N19: 010113 | P19: 0101 | R19: 3
A20: 010114 수 장 공 사 | D20: 1 | E20: =공종별내역서!F361 -> 0 | F20: =E20*D20 -> 0 | G20: =공종별내역서!H361 -> 0 | H20: =G20*D20 -> 0 | I20: =공종별내역서!J361 -> 0 | J20: =I20*D20 -> 0 | K20: =E20+G20+I20 -> 0 | L20: =F20+H20+J20 -> 0 | N20: 010114 | P20: 0101 | R20: 3
A21: 010115 기 타 공 사 | D21: 1 | E21: =공종별내역서!F385 -> 0 | F21: =E21*D21 -> 0 | G21: =공종별내역서!H385 -> 0 | H21: =G21*D21 -> 0 | I21: =공종별내역서!J385 -> 0 | J21: =I21*D21 -> 0 | K21: =E21+G21+I21 -> 0 | L21: =F21+H21+J21 -> 0 | N21: 010115 | P21: 0101 | R21: 3
A22: 010116 부 대 공 사 | D22: 1 | E22: =공종별내역서!F409 -> 0 | F22: =E22*D22 -> 0 | G22: =공종별내역서!H409 -> 0 | H22: =G22*D22 -> 0 | I22: =공종별내역서!J409 -> 0 | J22: =I22*D22 -> 0 | K22: =E22+G22+I22 -> 0 | L22: =F22+H22+J22 -> 0 | N22: 010116 | P22: 0101 | R22: 3
A23: 010117 철 거 공 사 | D23: 1 | E23: =공종별내역서!F433 -> 0 | F23: =E23*D23 -> 0 | G23: =공종별내역서!H433 -> 0 | H23: =G23*D23 -> 0 | I23: =공종별내역서!J433 -> 0 | J23: =I23*D23 -> 0 | K23: =E23+G23+I23 -> 0 | L23: =F23+H23+J23 -> 0 | N23: 010117 | P23: 0101 | R23: 3
A24: 010118 실내외계단철거 | D24: 1 | E24: =공종별내역서!F453 -> 0 | F24: =E24*D24 -> 0 | G24: =공종별내역서!H453 -> 0 | H24: =G24*D24 -> 0 | I24: =공종별내역서!J453 -> 0 | J24: =I24*D24 -> 0 | K24: =E24+G24+I24 -> 0 | L24: 3707000 | N24: 010118 | P24: 0101 | R24: 3
A25: 010119 골재비및운반비 | D25: 1 | E25: =공종별내역서!F477 -> 0 | F25: =E25*D25 -> 0 | G25: =공종별내역서!H477 -> 0 | H25: =G25*D25 -> 0 | I25: =공종별내역서!J477 -> 0 | J25: =I25*D25 -> 0 | K25: =E25+G25+I25 -> 0 | L25: =F25+H25+J25 -> 0 | N25: 010119 | P25: 0101 | R25: 3
A26: 010120 작 업 부 산 물 | D26: 1 | E26: =공종별내역서!F501 -> 0 | F26: =E26*D26 -> 0 | G26: =공종별내역서!H501 -> 0 | H26: =G26*D26 -> 0 | I26: =공종별내역서!J501 -> 0 | J26: =I26*D26 -> 0 | K26: =E26+G26+I26 -> 0 | L26: =F26+H26+J26 -> 0 | N26: 010120 | P26: 0101 | R26: 3
A27: 010121 폐기물 처리비 | D27: 1 | E27: =공종별내역서!F525 -> 0 | F27: =E27*D27 -> 0 | G27: =공종별내역서!H525 -> 0 | H27: =G27*D27 -> 0 | I27: =공종별내역서!J525 -> 0 | J27: =I27*D27 -> 0 | K27: =E27+G27+I27 -> 0 | L27: =F27+H27+J27 -> 0 | N27: 010121 | Q27: 6 | R27: 3 | T27: =L27*1 -> 0
A48: [ 합 계 ] | F48: =F5 -> 0 | H48: =H5 -> 0 | J48: =J5 -> 0 | L48: =L5 -> 0

Sheet 공종별내역서
A1: [ 충정로우체국 대수선공사(건축) ]
A2: 품 명 | B2: 규 격 | C2: 단위 | D2: 수량 | E2: 재 료 비 | G2: 노 무 비 | I2: 경 비 | K2: 합 계 | M2: 비 고 | N2: 품목코드 | O2: 변수 | P2: 설정 | Q2: 공종코드 | R2: 일위 | S2: 단산 | T2: 자재 | U2: 손료적용 | V2: 손료저장 | W2: 적용율 | X2: JUK1 | Y2: JUK2 | Z2: JUK3 | AA2: JUK4 | AB2: JUK5 | AC2: JUK6 | AD2: JUK7 | AE2: JUK8 | AF2: JUK9 | AG2: JUK10 | AH2: JUK11 | AI2: JUK12 | AJ2: JUK13 | AK2: JUK14 | AL2: JUK15 | AM2: JUK16 | AN2: JUK17 | AO2: JUK18 | AP2: JUK19 | AQ2: JUK20 | AR2: 자재구분 | AS2: 공종구분 | AT2: 공종레벨 | AU2: 공종+자재 | AV2: 고유번호
E3: 단 가 | F3: 금 액 | G3: 단 가 | H3: 금 액 | I3: 단 가 | J3: 금 액 | K3: 단 가 | L3: 금 액
A4: 010101 가 설 공 사 | Q4: 010101
A5: 이동식강관말비계(내부용) | B5: 1단(2m) | C5: 대 | D5: 2 | N5: 46489C8935A9F64876E664D4D8E2F | Q5: 010101 | R5: T | S5: F | T5: F | AU5: 01010146489C8935A9F64876E664D4D8E2F | AV5: 149
A6: 이동식강관말비계(외부용) | B6: 2단(4m) | C6: 대 | D6: 2 | N6: 46489C8935A9F64876E667A8B8C25 | Q6: 010101 | R6: T | S6: F | T6: F | AU6: 01010146489C8935A9F64876E667A8B8C25 | AV6: 4
A7: 건축물현장정리 | B7: 준공청소포함 | C7: M2 | D7: 475 | N7: 46489C8C8B5286E536E62C6A882A7 | Q7: 010101 | R7: T | S7: F | T7: F | AU7: 01010146489C8C8B5286E536E62C6A882A7 | AV7: 222
A8: 건축물 보양 - 석재면, 테라조면 | B8: 하드롱지 | C8: M2 | D8: 438 | N8: 46489C8C8880D6E59316F56178F62 | Q8: 010101 | R8: T | S8: F | T8: F | AU8: 01010146489C8C8880D6E59316F56178F62 | AV8: 223
A9: 가설칸막이설치및철거 | B9: 샌드위치판넬 | C9: M2 | D9: 66 | N9: 46489C89348916AD6906D175F8F4E | Q9: 010101 | R9: T | S9: F | T9: F | AU9: 01010146489C89348916AD6906D175F8F4E | AV9: 267
A27: [ 합 계 ] | N27: TOTAL
A28: 010102 토 및 지정공사 | Q28: 010102
A29: 터파기 | B29: 보통토사, 백호0.7m3 | C29: M3 | D29: 13 | N29: 46489F3E8221F62F4386CB9418B23 | Q29: 010102 | R29: T | S29: F | T29: F | AU29: 01010246489F3E8221F62F4386CB9418B23 | AV29: 147
A30: 되메우고다지기(토사) | B30: 백호0.7M3*래머80kg, 다짐15cm | C30: M3 | D30: 7 | N30: 46489F387A7CA6B1A976A83CD8B0A | Q30: 010102 | R30: F | S30: T | T30: F | AU30: 01010246489F387A7CA6B1A976A83CD8B0A | AV30: 148
A31: 잔토처리 | B31: 토사10km 백호0.7M3+덤프15톤 | C31: M3 | D31: 6 | N31: 46489F3FABF9A6E3A8B6F0FF780FA | Q31: 010102 | R31: F | S31: T | T31: F | AU31: 01010246489F3FABF9A6E3A8B6F0FF780FA | AV31: 7
A32: 굴삭기(타이어) | C32: HR | D32: 4 | N32: 415A98CF2537D652E996B158B8092E3DA5E4A18 | Q32: 010102 | R32: T | S32: F | T32: F | AU32: 010102415A98CF2537D652E996B158B8092E3DA5E4A18 | AV32: 268
A51: [ 합 계 ] | N51: TOTAL
A52: 010103 철근콘크리트공사 | Q52: 010103
A53: 레미콘 | B53: 25-18-08 | C53: ㎥ | D53: 1 | N53: 41649FB88E4CA6BFFD76EFA798237730944BD | Q53: 010103 | R53: F | S53: F | T53: T | AU53: 01010341649FB88E4CA6BFFD76EFA798237730944BD | AV53: 13
A54: 무근콘크리트 타설 | C54: M3 | D54: 1 | N54: 464899521A5C96361F16F0887871F | Q54: 010103 | R54: T | S54: F | T54: F | AU54: 010103464899521A5C96361F16F0887871F | AV54: 19
A55: 레미콘 | B55: 25-24-15 | C55: M3 | D55: 13 | N55: 41649FB88E4CA6BFFD76EFA7982377308A62F | Q55: 010103 | R55: F | S55: F | T55: T | AU55: 01010341649FB88E4CA6BFFD76EFA7982377308A62F | AV55: 180
A56: 철근콘크리트 타설 | C56: M3 | D56: 13 | N56: 4648995219B5265F45062E8698599 | Q56: 010103 | R56: T | S56: F | T56: F | AU56: 0101034648995219B5265F45062E8698599 | AV56: 20
A57: 철근콘크리트용봉강 | B57: 철근콘크리트용봉강, 이형봉강(SD350/400), HD-10, 지정장소도 | C57: TON | D57: 0.145 | N57: 41649FB88F5546B131C605F5B8A94E92C97E6 | Q57: 010103 | R57: F | S57: F | T57: T | AU57: 01010341649FB88F5546B131C605F5B8A94E92C97E6 | AV57: 11
A58: 철근콘크리트용봉강 | B58: 철근콘크리트용봉강, 이형봉강(SD350/400), HD-13, 지정장소도 | C58: TON | D58: 1.462 | N58: 41649FB88F5546B131C605F5B8A94E92F6B45 | Q58: 010103 | R58: F | S58: F | T58: T | AU58: 01010341649FB88F5546B131C605F5B8A94E92F6B45 | AV58: 12
A59: 현장 철근 가공 및 조립 | B59: 보통(미할증) | C59: TON | D59: 1.561 | N59: 46489956F6F236DB773698A858C93 | Q59: 010103 | R59: T | S59: F | T59: F | AU59: 01010346489956F6F236DB773698A858C93 | AV59: 18
A60: 합판 거푸집 | B60: 4회 | C60: M2 | D60: 53 | N60: 46489955D1940634386685EF08310 | Q60: 010103 | R60: T | S60: F | T60: F | AU60: 01010346489955D1940634386685EF08310 | AV60: 16
A61: HILTI HIT-HY150 | B61: M13*L120 | C61: 개 | D61: 287 | N61: 4648986FBD6CA6B746C62BAE8815E | Q61: 010103 | R61: T | S61: F | T61: F | AU61: 0101034648986FBD6CA6B746C62BAE8815E | AV61: 21
A62: STUD ANCHOR 설치 | B62: M20,HILTI HSA | C62: 개 | D62: 106 | N62: 4648986FBD6CA6B746C62BAE8815D | Q62: 010103 | R62: T | S62: F | T62: F | AU62: 0101034648986FBD6CA6B746C62BAE8815D | AV62: 22
A74: [ 합 계 ] | N74: TOTAL
A75: 010104 철 골 공 사 | Q75: 010104
A76: H빔 | B76: H빔, SS400, 200*200*8.0*12.0mm | C76: TON | D76: 2.903 | N76: 41649FB88F5546A0B1965A04E80FD5C67C772 | Q76: 010104 | R76: F | S76: F | T76: T | AU76: 01010441649FB88F5546A0B1965A04E80FD5C67C772 | AV76: 25
A77: H빔 | B77: H빔, SS400, 294*200*8.0*12.0mm | C77: TON | D77: 3.538 | N77: 41649FB88F5546A0B1965A04E80FD5C647AA3 | Q77: 010104 | R77: F | S77: F | T77: T | AU77: 01010441649FB88F5546A0B1965A04E80FD5C647AA3 | AV77: 226
A78: 일반구조용압연강판 | B78: 일반구조용압연강판, 12mm | C78: TON | D78: 0.231 | N78: 41649FB88F56566FF09668E44850D6BF9DDF2 | Q78: 010104 | R78: F | S78: F | T78: T | AU78: 01010441649FB88F56566FF09668E44850D6BF9DDF2 | AV78: 27
A79: 일반구조용압연강판 | B79: 일반구조용압연강판, 15mm | C79: 톤 | D79: 0.284 | N79: 41649FB88F56566FF09668E44850D6BF9DD8D | Q79: 010104 | R79: F | S79: F | T79: T | AU79: 01010441649FB88F56566FF09668E44850D6BF9DD8D | AV79: 156
A80: 철골 가공 조립(표준 라멘구조) | B80: Rolled shape, 60ton미만 | C80: TON | D80: 6.49 | N80: 4648986E976826C6C4A69DB9C874C | Q80: 010104 | R80: T | S80: F | T80: F | AU80: 0101044648986E976826C6C4A69DB9C874C | AV80: 33
A81: 철골세우기 - 6층 미만 | B81: 기준 - 볼트 별도 - | C81: TON | D81: 6.49 | N81: 464898680F054622A2A6F37E48993 | Q81: 010104 | R81: T | S81: F | T81: F | AU81: 010104464898680F054622A2A6F37E48993 | AV81: 34
A82: 고장력볼트 본조임 | B82: 300ton미만, 30본미만/톤 | C82: TON | D82: 6.49 | N82: 46489868047AB6D9EAE670C33849A | Q82: 010104 | R82: T | S82: F | T82: F | AU82: 01010446489868047AB6D9EAE670C33849A | AV82: 36
A83: 강판용접(Rolled shape) | B83: 20m미만(m/t), 30ton미만 | C83: TON | D83: 6.49 | N83: 46489868047AB6F4D2B69B6F08B5B | Q83: 010104 | R83: T | S83: F | T83: F | AU83: 01010446489868047AB6F4D2B69B6F08B5B | AV83: 37
A84: 고장력볼트 | B84: 고장력볼트, F10T, M20*55mm | C84: 조 | D84: 139 | N84: 41649E93959AE6AAF996E979B88166DC75E28 | Q84: 010104 | R84: F | S84: F | T84: T | AU84: 01010441649E93959AE6AAF996E979B88166DC75E28 | AV84: 30
A85: 고장력볼트 | B85: 고장력볼트, F10T, M20*75mm | C85: 조 | D85: 33 | N85: 41649E93959AE6AAF996E979B88166DC75E2C | Q85: 010104 | R85: F | S85: F | T85: T | AU85: 01010441649E93959AE6AAF996E979B88166DC75E2C | AV85: 31
A86: 기둥밑무수축고름모르타르 | B86: 아이엠(650kgf/cm2) | C86: ㎥ | D86: 0.28 | N86: 46489868047B4634C316370DD8FC8 | Q86: 010104 | R86: T | S86: F | T86: F | AU86: 01010446489868047B4634C316370DD8FC8 | AV86: 167
...

Sheet Sheet1
