Workbook

Sheet 원가계산서(을지로6가)
A1: 공 사 비 산 출 내 역 서
A3: 공 사 명 : 서울을지로6가우체국 창구조성공사
A4: 구 분 비 목 | D4: 구 성 비 | E4: 금 액 | F4: 비 고
A6: 순 공 사 원 가 | B6: 재료비 | C6: 직 접 재 료 비 | E6: ='집계표(을지로6가)'!F6 -> 0 | G6: A1 | I6: =E6 -> 0
C7: 간 접 재 료 비 | E7: =ROUNDDOWN(SUMIF($G$6:$G$31,"A1",$E$6:$E$31)*J7,0) -> 0 | G7: A2 | I7: =E7 -> 0
C8: 작업설.부산물 등(△) | G8: A3 | I8: =E8 -> 0
C9: 소 계 | E9: =SUM(E6:E8) -> 0 | G9: A | I9: =E9 -> 0
B10: 노무비 | C10: 직 접 노 무 비 | E10: ='집계표(을지로6가)'!H6 -> 0 | G10: B1 | I10: =E10 -> 0
C11: 간 접 노 무 비 | D11: ="직.노*"&H11*100&"%" -> 직.노*9.6% | E11: =ROUNDDOWN(SUMIF($G$6:$G$31,"B1",$E$6:$E$31)*J11,0) -> 0 | G11: B2 | H11: 0.096 | I11: =ROUNDDOWN(SUMIF($G$6:$G$31,"B1",$I$6:$I$31)*H11,0) -> 0 | J11: =H11 -> 0.096
C12: 소 계 | E12: =SUM(E10:E11) -> 0 | G12: B | I12: =E12 -> 0
B13: 경 비 | C13: 기 계 경 비 | E13: ='집계표(을지로6가)'!J6 -> 0 | G13: C4 | I13: =E13 -> 0
C14: 산 재 보 험 료 | D14: ="(노)*"&H14*100&"%" -> (노)*3.8% | E14: =ROUNDDOWN((SUMIF($G$6:$G$31,"B",$E$6:$E$31))*J14,0) -> 0 | G14: C10 | H14: 0.038 | I14: =ROUNDDOWN((SUMIF($G$6:$G$31,"B",$I$6:$I$31))*H14,0) -> 0 | J14: =H14 -> 0.038
C15: 고 용 보 험 료 | D15: ="(노)*"&H15*100&"%" -> (노)*0.87% | E15: =ROUNDDOWN((SUMIF($G$6:$G$31,"B",$E$6:$E$31))*J15,0) -> 0 | G15: C11 | H15: 0.0087 | I15: =ROUNDDOWN((SUMIF($G$6:$G$31,"B",$I$6:$I$31))*H15,0) -> 0 | J15: =H15 -> 0.0087
C16: 건 강 보 험 료 | D16: 직접노무비 * 1.7% | E16: 0 | F16: 공사기간 1개월 이상 적용 | G16: C12 | I16: =ROUNDDOWN((SUMIF($G$6:$G$31,"B1",$I$6:$I$31))*H16,0) -> 0
C17: 연 금 보 험 료 | D17: 직접노무비 * 2.49% | E17: 0 | F17: 공사기간 1개월 이상 적용 | G17: C13 | I17: =ROUNDDOWN((SUMIF($G$6:$G$31,"B1",$I$6:$I$31))*H17,0) -> 0
C18: 노인 장기 요양보험료 | D18: 건강보험료 * 6.55% | E18: 0 | F18: 공사기간 1개월 이상 적용 | G18: C16 | I18: =ROUNDDOWN((SUMIF($G$6:$G$31,"C12",$I$6:$I$31))*H18,0) -> 0
C19: 퇴 직 공 제 부 금 비 | D19: 직접노무비 * 0% | E19: =ROUNDDOWN(E10*0/100,0) -> 0 | F19: 3억이상 반영 | G19: C14 | I19: =ROUNDDOWN((SUMIF($G$6:$G$31,"B1",$I$6:$I$31))*H19,0) -> 0
C20: 안 전 관 리 비 | D20: ="(재+직.노)*"&H20*100&"%" -> (재+직.노)*2.93% | E20: =ROUNDDOWN((SUMIF($G$6:$G$31,"A",$E$6:$E$31)+SUMIF($G$6:$G$31,"B1",$E$6:$E$31))*J20,0) -> 0 | G20: C15 | H20: 0.0293 | I20: =ROUNDDOWN((SUMIF($G$6:$G$31,"A",$I$6:$I$31)+SUMIF($G$6:$G$31,"B1",$I$6:$I$31))*H20,0) -> 0 | J20: =H20 -> 0.0293
C21: 기 타 경 비 | D21: ="(재+노)*"&H21*100&"%" -> (재+노)*3.03% | E21: =ROUNDDOWN((SUMIF($G$6:$G$31,"A",$E$6:$E$31)+SUMIF($G$6:$G$31,"B",$E$6:$E$31))*J21,0) -> 0 | G21: C26 | H21: 0.0303 | I21: =ROUNDDOWN((SUMIF($G$6:$G$31,"A",$I$6:$I$31)+SUMIF($G$6:$G$31,"B",$I$6:$I$31))*H21,0) -> 0 | J21: =H21 -> 0.0303
C22: 환 경 보 전 비 | D22: ="(재+직.노+기.경)*"&H22*100&"%" -> (재+직.노+기.경)*0.3% | E22: =ROUNDDOWN((SUMIF($G$6:$G$31,"A",$E$6:$E$31)+SUMIF($G$6:$G$31,"B1",$E$6:$E$31)+SUMIF($G$6:$G$31,"C4",$E$6:$E$31))*J22,0) -> 0 | G22: C28 | H22: 0.003 | I22: =ROUNDDOWN((SUMIF($G$6:$G$31,"A",$I$6:$I$31)+SUMIF($G$6:$G$31,"B1",$I$6:$I$31)+SUMIF($G$6:$G$31,"C4",$I$6:$I$31))*H22,0) -> 0 | J22: =H22 -> 0.003
C23: 건설하도급보증수수료 | E23: =ROUNDDOWN((SUMIF($G$6:$G$31,"A",$E$6:$E$31)+SUMIF($G$6:$G$31,"B1",$E$6:$E$31)+SUMIF($G$6:$G$31,"C4",$E$6:$E$31))*J23,0) -> 0 | G23: C29 | I23: =ROUNDDOWN((SUMIF($G$6:$G$31,"A",$I$6:$I$31)+SUMIF($G$6:$G$31,"B1",$I$6:$I$31)+SUMIF($G$6:$G$31,"C4",$I$6:$I$31))*H23,0) -> 0
C24: 소 계 | E24: =SUM(E13:E23) -> 0 | G24: C | I24: =E24 -> 0
B25: 계 | E25: =SUMIF($G$6:$G$31,"A",$E$6:$E$31)+SUMIF($G$6:$G$31,"B",$E$6:$E$31)+SUMIF($G$6:$G$31,"C",$E$6:$E$31) -> 0 | G25: X | I25: =E25 -> 0
A26: 일 반 관 리 비 | D26: ="(재+노+경)*"&H26*100&"%" -> (재+노+경)*6% | E26: =ROUNDDOWN((SUMIF($G$6:$G$31,"A",$E$6:$E$31)+SUMIF($G$6:$G$31,"B",$E$6:$E$31)+SUMIF($G$6:$G$31,"C",$E$6:$E$31))*J26,0) -> 0 | G26: D | H26: 0.06 | I26: =ROUNDDOWN((SUMIF($G$6:$G$31,"A",$I$6:$I$31)+SUMIF($G$6:$G$31,"B",$I$6:$I$31)+SUMIF($G$6:$G$31,"C",$I$6:$I$31))*H26,0) -> 0 | J26: =H26 -> 0.06
A27: 이 윤 | D27: ="(노+경+일)*"&H27*100&"%" -> (노+경+일)*10.51% | E27: =ROUNDDOWN((E12+E24+E26)*J27,0) -> 0 | G27: E | H27: 0.1051 | I27: =ROUND((SUMIF($G$6:$G$31,"B",$I$6:$I$31)+SUMIF($G$6:$G$31,"C",$I$6:$I$31)+SUMIF($G$6:$G$31,"D",$I$6:$I$31))*H27, 0)+K27 -> 0 | J27: =H27 -> 0.1051
A28: 총 원 가 | E28: =E25+E26+E27 -> 0 | G28: F | I28: =SUM(I25:I27) -> 0
A29: 부 가 가 치 세 | D29: ="(총원가)*"&H29*100&"%" -> (총원가)*10% | E29: =E28*0.1 -> 0 | G29: H | H29: 0.1 | I29: =ROUNDDOWN((SUMIF($G$6:$G$31,"F",$I$6:$I$31))*H29,0) -> 0 | J29: =H29 -> 0.1
A30: 도 급 금 액 | E30: =INT(I30/1000)*1000 -> 0 | F30: 단수정리(천원) | G30: Y | I30: =ROUNDDOWN(SUMIF($G$6:$G$31,"F",$I$6:$I$31)+SUMIF($G$6:$G$31,"H",$I$6:$I$31),0) -> 0

Sheet 집계표(을지로6가)
A1: 공 종 별 집 계 표
A3: 품 명 | B3: 규 격 | C3: 단위 | D3: 수량 | E3: 재 료 비 | G3: 노 무 비 | I3: 경 비 | K3: 합 계 | M3: 비 고 | N3: 공종코드 | O3: 변수 | P3: 상위공종 | Q3: 공종구분 | R3: 공종레벨 | S3: 공종소계 | T3: 원가계산서 연결금액
E4: 단 가 | F4: 금 액 | G4: 단 가 | H4: 금 액 | I4: 단 가 | J4: 금 액 | K4: 단 가 | L4: 금 액
L5: =F5+H5+J5 -> 0
A6: ='내역서(을지로6가)'!A5 -> < 서울을지로6가우체국> | C6: 식 | D6: 1 | F6: =SUM(F7:F10) -> 0 | H6: =SUM(H7:H10) -> 0 | J6: =SUM(J7:J10) -> 0 | K6: =E6+G6+I6 -> 0 | L6: =F6+H6+J6 -> 0 | N6: 010101 | P6: 0101 | R6: 3
A7: ='내역서(을지로6가)'!A6 -> 01 가설, 철거공사 | C7: 식 | D7: 1 | F7: ='내역서(을지로6가)'!F14 -> 0 | H7: ='내역서(을지로6가)'!H14 -> 0 | J7: ='내역서(을지로6가)'!J14 -> 0 | K7: =E7+G7+I7 -> 0 | L7: =F7+H7+J7 -> 0 | N7: 010108 | P7: 0101 | R7: 3
A8: ='내역서(을지로6가)'!A16 -> 02 수장공사 | C8: 식 | D8: 1 | F8: ='내역서(을지로6가)'!F33 -> 0 | H8: ='내역서(을지로6가)'!H33 -> 0 | J8: ='내역서(을지로6가)'!J33 -> 0 | K8: =E8+G8+I8 -> 0 | L8: =F8+H8+J8 -> 0 | N8: 010111 | P8: 0101 | R8: 3
A9: ='내역서(을지로6가)'!A35 -> 03 금속 및 마감공사 | C9: 식 | D9: 1 | F9: ='내역서(을지로6가)'!F49 -> 0 | H9: ='내역서(을지로6가)'!H49 -> 0 | J9: ='내역서(을지로6가)'!J49 -> 0 | K9: =E9+G9+I9 -> 0 | L9: =F9+H9+J9 -> 0
A10: ='내역서(을지로6가)'!A51 -> 04 기 타 공 사 | C10: 식 | D10: 1 | F10: ='내역서(을지로6가)'!F61 -> 0 | H10: ='내역서(을지로6가)'!H61 -> 0 | J10: ='내역서(을지로6가)'!J61 -> 0

Sheet 내역서(을지로6가)
A1: 공 종 별 내 역 서
A2: 품 명 | B2: 규 격 | C2: 단위 | D2: 수량 | E2: 재 료 비 | G2: 노 무 비 | I2: 경 비 | K2: 합 계 | M2: 비 고
E3: 단 가 | F3: 금 액 | G3: 단 가 | H3: 금 액 | I3: 단 가 | J3: 금 액 | K3: 단 가 | L3: 금 액
A5: < 서울을지로6가우체국>
A6: 01 가설, 철거공사
A7: 먹매김 | C7: M2 | D7: 160 | F7: =TRUNC(E7*D7, 0) -> 0 | H7: =TRUNC(G7*D7, 0) -> 0 | J7: =TRUNC(I7*D7, 0) -> 0 | K7: =TRUNC(E7+G7+I7, 0) -> 0 | L7: =TRUNC(F7+H7+J7, 0) -> 0
A8: 건축물현장정리 | B8: 준공청소 | C8: M2 | D8: 160 | F8: =TRUNC(E8*D8, 0) -> 0 | H8: =TRUNC(G8*D8, 0) -> 0 | J8: =TRUNC(I8*D8, 0) -> 0 | K8: =TRUNC(E8+G8+I8, 0) -> 0 | L8: =TRUNC(F8+H8+J8, 0) -> 0
A9: 조립식말비계 | C9: 대 | D9: 2 | F9: =TRUNC(E9*D9, 0) -> 0 | H9: =TRUNC(G9*D9, 0) -> 0 | J9: =TRUNC(I9*D9, 0) -> 0 | K9: =TRUNC(E9+G9+I9, 0) -> 0 | L9: =TRUNC(F9+H9+J9, 0) -> 0
A10: 가설칸막이 | C10: M2 | D10: 33 | F10: =TRUNC(E10*D10, 0) -> 0 | H10: =TRUNC(G10*D10, 0) -> 0 | J10: =TRUNC(I10*D10, 0) -> 0 | K10: =TRUNC(E10+G10+I10, 0) -> 0 | L10: =TRUNC(F10+H10+J10, 0) -> 0
A11: 간판설치 크레인 대여료 | C11: 일 | D11: 0.5 | F11: =TRUNC(E11*D11, 0) -> 0 | H11: =TRUNC(G11*D11, 0) -> 0 | J11: =TRUNC(I11*D11, 0) -> 0 | K11: =TRUNC(E11+G11+I11, 0) -> 0 | L11: =TRUNC(F11+H11+J11, 0) -> 0
A14: [ 소 계 ] | F14: =SUM(F7:F13) -> 0 | H14: =SUM(H7:H13) -> 0 | J14: =SUM(J7:J13) -> 0 | L14: =SUM(L8:L13) -> 0
A16: 02 수장공사
A17: 디럭스타일 붙이기 | B17: THK 3m/m | C17: M2 | D17: 160 | F17: =TRUNC(E17*D17, 0) -> 0 | H17: =TRUNC(G17*D17, 0) -> 0 | J17: =TRUNC(I17*D17, 0) -> 0 | L17: =TRUNC(F17+H17+J17, 0) -> 0
A18: 금융카운터 | B18: L=1600, 서랍장, 상부인조대리석 | C18: 개 | D18: 1 | F18: =TRUNC(E18*D18, 0) -> 0 | H18: =TRUNC(G18*D18, 0) -> 0 | J18: =TRUNC(I18*D18, 0) -> 0 | L18: =TRUNC(F18+H18+J18, 0) -> 0
A19: 우편카운터 | B19: L=1600, 서랍장, 상부인조대리석 | C19: 개 | D19: 3 | F19: =TRUNC(E19*D19, 0) -> 0 | H19: =TRUNC(G19*D19, 0) -> 0 | J19: =TRUNC(I19*D19, 0) -> 0 | L19: =TRUNC(F19+H19+J19, 0) -> 0
A20: 장애자용카운터 | B20: L=1800, 서랍장, 상부인조대리석 | C20: 개 | D20: 1 | F20: =TRUNC(E20*D20, 0) -> 0 | H20: =TRUNC(G20*D20, 0) -> 0 | J20: =TRUNC(I20*D20, 0) -> 0 | L20: =TRUNC(F20+H20+J20, 0) -> 0
A21: 라운드형카운터 | B21: L=1800, 상부인조대리석 | C21: 개 | D21: 1 | F21: =TRUNC(E21*D21, 0) -> 0 | H21: =TRUNC(G21*D21, 0) -> 0 | J21: =TRUNC(I21*D21, 0) -> 0 | L21: =TRUNC(F21+H21+J21, 0) -> 0
A22: 중간칸막이 | C22: EA | D22: 1 | F22: =TRUNC(E22*D22, 0) -> 0 | H22: =TRUNC(G22*D22, 0) -> 0 | J22: =TRUNC(I22*D22, 0) -> 0 | K22: =TRUNC(E22+G22+I22, 0) -> 0 | L22: =TRUNC(F22+H22+J22, 0) -> 0
A23: 측면마감판 | C23: EA | D23: 2 | F23: =TRUNC(E23*D23, 0) -> 0 | H23: =TRUNC(G23*D23, 0) -> 0 | J23: =TRUNC(I23*D23, 0) -> 0 | K23: =TRUNC(E23+G23+I23, 0) -> 0 | L23: =TRUNC(F23+H23+J23, 0) -> 0
A24: 점두간판 | B24: 채널식, 비조명, 4000*700*120 | C24: 개 | D24: 1 | F24: =TRUNC(E24*D24, 0) -> 0 | H24: =TRUNC(G24*D24, 0) -> 0 | J24: =TRUNC(I24*D24, 0) -> 0 | K24: =TRUNC(E24+G24+I24, 0) -> 0 | L24: =TRUNC(F24+H24+J24, 0) -> 0
A25: 부속간판 | B25: 600*600*10 | C25: EA | D25: 1 | F25: =TRUNC(E25*D25, 0) -> 0 | H25: =TRUNC(G25*D25, 0) -> 0 | J25: =TRUNC(I25*D25, 0) -> 0 | K25: =TRUNC(E25+G25+I25, 0) -> 0 | L25: =TRUNC(F25+H25+J25, 0) -> 0
A26: 카운터상부미드라인 | B26: 양각 비조명, 8200*70*450 | C26: M | D26: 8 | F26: =TRUNC(E26*D26, 0) -> 0 | H26: =TRUNC(G26*D26, 0) -> 0 | J26: =TRUNC(I26*D26, 0) -> 0 | K26: =TRUNC(E26+G26+I26, 0) -> 0 | L26: =TRUNC(F26+H26+J26, 0) -> 0
A27: 필연대 | B27: 880*420*970 | C27: 개 | D27: 1 | F27: =TRUNC(E27*D27, 0) -> 0 | H27: =TRUNC(G27*D27, 0) -> 0 | J27: =TRUNC(I27*D27, 0) -> 0 | L27: =TRUNC(F27+H27+J27, 0) -> 0
A28: 소포포장대 | B28: 1500*800*800 | C28: 개 | D28: 2 | F28: =TRUNC(E28*D28, 0) -> 0 | H28: =TRUNC(G28*D28, 0) -> 0 | J28: =TRUNC(I28*D28, 0) -> 0 | L28: =TRUNC(F28+H28+J28, 0) -> 0
A29: 불연천장재 | B29: 300*600 | C29: M2 | D29: 48 | F29: =TRUNC(E29*D29, 0) -> 0 | H29: =TRUNC(G29*D29, 0) -> 0 | J29: =TRUNC(I29*D29, 0) -> 0 | L29: =TRUNC(F29+H29+J29, 0) -> 0
A30: ATM기 실내부스 | B30: 700*1200*1600 | C30: EA | D30: 2 | F30: =TRUNC(E30*D30, 0) -> 0 | H30: =TRUNC(G30*D30, 0) -> 0 | J30: =TRUNC(I30*D30, 0) -> 0 | L30: =TRUNC(F30+H30+J30, 0) -> 0
H32: =TRUNC(G32*D32, 0) -> 0 | J32: =TRUNC(I32*D32, 0) -> 0 | L32: =TRUNC(F32+H32+J32, 0) -> 0
A33: [ 소 계 ] | F33: =SUM(F17:F32) -> 0 | H33: =SUM(H17:H32) -> 0 | J33: =SUM(J17:J32) -> 0 | L33: =SUM(L17:L32) -> 0
A35: 03 금속 및 마감공사
A36: 수성페인트 | B36: 친환경 2회, 붓칠 | C36: M2 | D36: 87 | F36: =TRUNC(E36*D36, 0) -> 0 | H36: =TRUNC(G36*D36, 0) -> 0 | J36: =TRUNC(I36*D36, 0) -> 0 | K36: =TRUNC(E36+G36+I36, 0) -> 0 | L36: =TRUNC(F36+H36+J36, 0) -> 0
A37: 도장면 바탕만들기 | C37: M2 | D37: 87 | F37: =TRUNC(E37*D37, 0) -> 0 | H37: =TRUNC(G37*D37, 0) -> 0 | J37: =TRUNC(I37*D37, 0) -> 0 | K37: =TRUNC(E37+G37+I37, 0) -> 0 | L37: =TRUNC(F37+H37+J37, 0) -> 0
A38: SGP칸막이 | B38: 0.5칼라강판, A형, W50mm | C38: M2 | D38: 50 | F38: =TRUNC(E38*D38, 0) -> 0 | H38: =TRUNC(G38*D38, 0) -> 0 | J38: =TRUNC(I38*D38, 0) -> 0 | K38: =TRUNC(E38+G38+I38, 0) -> 0 | L38: =TRUNC(F38+H38+J38, 0) -> 0 | M38: 시공도
A39: 칸막이문틀 | B39: 편개 0.9*2.1 | C39: EA | D39: 3 | F39: =TRUNC(E39*D39, 0) -> 0 | H39: =TRUNC(G39*D39, 0) -> 0 | J39: =TRUNC(I39*D39, 0) -> 0 | K39: =TRUNC(E39+G39+I39, 0) -> 0 | L39: =TRUNC(F39+H39+J39, 0) -> 0 | M39: 시공도
A40: 강화도어 | B40: 손보호용, 0.9*2.1, 헤어라인 | C40: EA | D40: 2 | F40: =TRUNC(E40*D40, 0) -> 0 | H40: =TRUNC(G40*D40, 0) -> 0 | J40: =TRUNC(I40*D40, 0) -> 0 | K40: =TRUNC(E40+G40+I40, 0) -> 0 | L40: =TRUNC(F40+H40+J40, 0) -> 0
A41: 도어록 | C41: EA | D41: 3 | F41: =TRUNC(E41*D41, 0) -> 0 | H41: =TRUNC(G41*D41, 0) -> 0 | J41: =TRUNC(I41*D41, 0) -> 0 | K41: =TRUNC(E41+G41+I41, 0) -> 0 | L41: =TRUNC(F41+H41+J41, 0) -> 0
A42: 도어체크 | C42: EA | D42: 3 | F42: =TRUNC(E42*D42, 0) -> 0 | H42: =TRUNC(G42*D42, 0) -> 0 | J42: =TRUNC(I42*D42, 0) -> 0 | K42: =TRUNC(E42+G42+I42, 0) -> 0 | L42: =TRUNC(F42+H42+J42, 0) -> 0
A43: 피보트힌지 | C43: EA | D43: 3 | F43: =TRUNC(E43*D43, 0) -> 0 | H43: =TRUNC(G43*D43, 0) -> 0 | J43: =TRUNC(I43*D43, 0) -> 0 | K43: =TRUNC(E43+G43+I43, 0) -> 0 | L43: =TRUNC(F43+H43+J43, 0) -> 0
A44: 플로어힌지 철거 | C44: EA | D44: 2 | F44: =TRUNC(E44*D44, 0) -> 0 | H44: =TRUNC(G44*D44, 0) -> 0 | J44: =TRUNC(I44*D44, 0) -> 0 | K44: =TRUNC(E44+G44+I44, 0) -> 0 | L44: =TRUNC(F44+H44+J44, 0) -> 0
A45: 플로어힌지 설치 | B45: 고급, 강화유리용, 한쪽정지형 | C45: EA | D45: 2 | F45: =TRUNC(E45*D45, 0) -> 0 | H45: =TRUNC(G45*D45, 0) -> 0 | J45: =TRUNC(I45*D45, 0) -> 0 | K45: =TRUNC(E45+G45+I45, 0) -> 0 | L45: =TRUNC(F45+H45+J45, 0) -> 0
A46: 강화도어 손잡이 | B46: 고급형 | C46: EA | D46: 2 | F46: =TRUNC(E46*D46, 0) -> 0 | H46: =TRUNC(G46*D46, 0) -> 0 | J46: =TRUNC(I46*D46, 0) -> 0 | K46: =TRUNC(E46+G46+I46, 0) -> 0 | L46: =TRUNC(F46+H46+J46, 0) -> 0
F47: =TRUNC(E47*D47, 0) -> 0 | H47: =TRUNC(G47*D47, 0) -> 0 | J47: =TRUNC(I47*D47, 0) -> 0 | K47: =TRUNC(E47+G47+I47, 0) -> 0 | L47: =TRUNC(F47+H47+J47, 0) -> 0
F48: =TRUNC(E48*D48, 0) -> 0 | H48: =TRUNC(G48*D48, 0) -> 0 | J48: =TRUNC(I48*D48, 0) -> 0 | K48: =TRUNC(E48+G48+I48, 0) -> 0 | L48: =TRUNC(F48+H48+J48, 0) -> 0
A49: [ 소 계 ] | F49: =SUM(F36:F48) -> 0 | H49: =SUM(H36:H48) -> 0 | J49: =SUM(J36:J48) -> 0 | K49: =TRUNC(E49+G49+I49, 0) -> 0 | L49: =TRUNC(F49+H49+J49, 0) -> 0
K50: =TRUNC(E50+G50+I50, 0) -> 0
A51: 04 기 타 공 사
A52: 영업시간 안내 필름 | B52: 400*300 | C52: EA | D52: 2 | F52: =TRUNC(E52*D52, 0) -> 0 | H52: =TRUNC(G52*D52, 0) -> 0 | J52: =TRUNC(I52*D52, 0) -> 0 | K52: =TRUNC(E52+G52+I52, 0) -> 0 | L52: =TRUNC(F52+H52+J52, 0) -> 0
A53: 감시용카메라 녹화중 필름 부착 | B53: 400*300 | C53: EA | D53: 2 | F53: =TRUNC(E53*D53, 0) -> 0 | H53: =TRUNC(G53*D53, 0) -> 0 | J53: =TRUNC(I53*D53, 0) -> 0 | K53: =TRUNC(E53+G53+I53, 0) -> 0 | L53: =TRUNC(F53+H53+J53, 0) -> 0
A54: 출입문 및 유리면 띠지 | B54: W80 | C54: M | D54: 12 | F54: =TRUNC(E54*D54, 0) -> 0 | H54: =TRUNC(G54*D54, 0) -> 0 | J54: =TRUNC(I54*D54, 0) -> 0 | K54: =TRUNC(E54+G54+I54, 0) -> 0 | L54: =TRUNC(F54+H54+J54, 0) -> 0
A55: 우체국명 필름 부착 | B55: 건물출입문 상부, 1500*1500 서울을지로6가우체국 | C55: EA | D55: 1 | F55: =TRUNC(E55*D55, 0) -> 0 | K55: =TRUNC(E55+G55+I55, 0) -> 0
A56: 방범필름 부착 | C56: M2 | D56: 61 | F56: =TRUNC(E56*D56, 0) -> 0 | H56: =TRUNC(G56*D56, 0) -> 0
A57: 실리콘코킹 제거 및 시공 | B57: 방범필름 시공 부위 | C57: M | D57: 146 | F57: =TRUNC(E57*D57, 0) -> 0 | H57: =TRUNC(G57*D57, 0) -> 0
A58: 다보게시판 설치 | B58: 600*900, 9MM 아크릴, 다보 | C58: EA | D58: 4 | F58: =TRUNC(E58*D58, 0) -> 0 | H58: =TRUNC(G58*D58, 0) -> 0
H59: =TRUNC(G59*D59, 0) -> 0
F60: =TRUNC(E60*D60, 0) -> 0 | H60: =TRUNC(G60*D60, 0) -> 0 | J60: =TRUNC(I60*D60, 0) -> 0 | K60: =TRUNC(E60+G60+I60, 0) -> 0 | L60: =TRUNC(F60+H60+J60, 0) -> 0
A61: [ 소 계 ] | F61: =SUM(F52:F60) -> 0 | H61: =SUM(H52:H60) -> 0 | J61: =SUM(J52:J60) -> 0 | L61: =TRUNC(F61+H61+J61, 0) -> 0
A63: [ 합 계 ] | F63: =F14+F33+F49+F61 -> 0 | H63: =H14+H33+H49+H61 -> 0 | J63: =J14+J33+J49+J61 -> 0 | L63: =TRUNC(F63+H63+J63, 0) -> 0
