Workbook

Sheet 원가계산서
B1: 공 사 원 가 계 산 서
B2: 공사명 : 서울신길5동우체국 등 3국 보수보강공사
B3: 비 목 | E3: 금 액 | F3: 구 성 비 | G3: 비 고
A4: A1 | B4: 순 공 사 원 가 | C4: 재 료 비 | D4: 직 접 재 료 비 | E4: =공종별집계표!F29 -> 0
A5: A2 | D5: 간 접 재 료 비
A6: AS | D6: [ 소 계 ] | E6: =SUM(E4:E5) -> 0
A7: B1 | C7: 노 무 비 | D7: 직 접 노 무 비 | E7: =공종별집계표!H29 -> 0
A8: B2 | D8: 간 접 노 무 비 | E8: =TRUNC(E7*0.096, 0) -> 0 | F8: 직접노무비 * 9.6% | G8: 최대 9.6%
A9: BS | D9: [ 소 계 ] | E9: =TRUNC(E7+E8, 0) -> 0
A10: C2 | C10: 경 비 | D10: 기 계 경 비 | E10: =공종별집계표!J29 -> 0
A11: C4 | D11: 산 재 보 험 료 | E11: =TRUNC(E9*0.038, 0) -> 0 | F11: 노무비 * 3.8% | G11: 3.8% 법정
A12: C5 | D12: 고 용 보 험 료 | E12: =TRUNC(E9*0.0087, 0) -> 0 | F12: 노무비 * 0.87% | G12: 0.87% 법정
A13: CH | D13: 환 경 보 전 비 | E13: =TRUNC((E6+E7+E10)*0.003, 0) -> 0 | F13: (재료비+직노+기계경비) * 0.3% | G13: 0.3% 법정
A14: CG | D14: 기 타 경 비 | E14: =TRUNC((E6+E9)*0.0303, 0) -> 0 | F14: (재료비+노무비) * 3.03% | G14: 최대 3.03%
A15: CS | D15: [ 소 계 ] | E15: =SUM(E10:E14) -> 0
A16: S1 | B16: 계 | E16: =TRUNC(E6+E9+E15, 0) -> 0
A17: D1 | B17: 일 반 관 리 비 | E17: =TRUNC(E16*0.06, 0) -> 0 | F17: 계 * 6% | G17: 최대 6%
A18: D2 | B18: 이 윤 | E18: =TRUNC((E9+E15+E17)*0.1051, 0) -> 0 | F18: (노무비+경비+일반관리비) * 10.51% | G18: 최대 10.51%
B19: 폐 기 물 처 리 비 | E19: =공종별집계표!L8 -> 0
A20: D9 | B20: 공 급 가 액 | E20: =TRUNC(E16+E17+E18+E19, 0) -> 0
A21: DB | B21: 부 가 가 치 세 | E21: =TRUNC(E20*0.1, 0) -> 0 | F21: 공급가액 * 10%
A22: DH | B22: 도 급 액 | E22: =TRUNC(E20+E21, 0) -> 0
A23: S2 | B23: 총 공 사 비 | E23: =TRUNC(E22, -3) -> 0 | G23: 천원 미만 절사

Sheet 공종별집계표
A1: 공 종 별 집 계 표
A2: =원가계산서!B2 -> 공사명 : 서울신길5동우체국 등 3국 보수보강공사
A3: 품 명 | B3: 규 격 | C3: 단위 | D3: 수량 | E3: 재 료 비 | G3: 노 무 비 | I3: 경 비 | K3: 합 계 | M3: 비 고 | N3: 공종코드 | O3: 변수 | P3: 상위공종 | Q3: 공종구분 | R3: 공종레벨 | S3: 공종소계 | T3: 원가계산서 연결금액
E4: 단 가 | F4: 금 액 | G4: 단 가 | H4: 금 액 | I4: 단 가 | J4: 금 액 | K4: 단 가 | L4: 금 액
A5: =공종별내역서!A5 -> 01 서울대림동(여의도) | D5: 1 | F5: =공종별내역서!F5 -> 0 | H5: =공종별내역서!H5 -> 0 | J5: =공종별내역서!J5 -> 0 | L5: =공종별내역서!L5 -> 0 | N5: 01 | R5: 1
A6: =공종별내역서!A21 -> 02 서울신길5동(여의도) | D6: 1 | F6: =공종별내역서!F21 -> 0 | H6: =공종별내역서!H21 -> 0 | J6: =공종별내역서!J21 -> 0 | L6: =공종별내역서!L21 -> 0 | N6: 0101 | P6: 01 | R6: 2
A7: =공종별내역서!A43 -> 03 서울양평동(여의도) | D7: 1 | F7: =공종별내역서!F43 -> 0 | H7: =공종별내역서!H43 -> 0 | J7: =공종별내역서!J43 -> 0 | L7: =공종별내역서!L43 -> 0 | N7: 0102 | P7: 01 | R7: 2
A8: 04 폐기물 처리 | D8: 1 | J8: =공종별내역서!J19+공종별내역서!J41+공종별내역서!J60 -> 0 | L8: =공종별내역서!L19+공종별내역서!L41+공종별내역서!L60 -> 0 | N8: 010201 | P8: 0102 | R8: 3
N9: 010202 | P9: 0102 | R9: 3
A29: [ 합 계 ] | F29: =F5+F6+F7 -> 0 | H29: =H5+H6+H7 -> 0 | J29: =J5+J6+J7 -> 0 | L29: =L5+L6+L7 -> 0

Sheet 공종별내역서
A1: 내 역 서
A2: =원가계산서!B2 -> 공사명 : 서울신길5동우체국 등 3국 보수보강공사
A3: 품 명 | B3: 규 격 | C3: 단위 | D3: 수량 | E3: 재 료 비 | G3: 노 무 비 | I3: 경 비 | K3: 합 계 | M3: 비 고 | N3: 품목코드 | O3: 변수 | P3: 설정 | Q3: 공종코드 | R3: 상위공종 | S3: 일위 | T3: 단산 | U3: 자재 | V3: 손료적용 | W3: 손료저장 | X3: 적용율 | Y3: JUK1 | Z3: JUK2 | AA3: JUK3 | AB3: JUK4 | AC3: JUK5 | AD3: JUK6 | AE3: JUK7 | AF3: JUK8 | AG3: JUK9 | AH3: JUK10 | AI3: JUK11 | AJ3: JUK12 | AK3: JUK13 | AL3: JUK14 | AM3: JUK15 | AN3: JUK16 | AO3: JUK17 | AP3: JUK18 | AQ3: JUK19 | AR3: JUK20 | AS3: 자재구분 | AT3: 공종레벨 | AU3: 공종구분 | AV3: 공종소계 | AW3: 공종+자재 | AX3: 고유번호 | AY3: 원가계산서 연결금액
E4: 단 가 | F4: 금 액 | G4: 단 가 | H4: 금 액 | I4: 단 가 | J4: 금 액 | K4: 단 가 | L4: 금 액
A5: 01 서울대림동(여의도) | F5: =F12+F15+F8 -> 0 | H5: =H12+H15+H8 -> 0 | J5: =J12+J15+J8 -> 0 | L5: =L12+L15+L8 -> 0 | Q5: 0101 | R5: 01 | S5: F | T5: F | U5: F | AT5: 2 | AW5: 0101 | AX5: 2
A6: 0101 가 설 공 사 | Q6: 010103 | R6: 0101 | S6: F | T6: F | U6: F | AT6: 3 | AW6: 010103 | AX6: 8
A7: 건축물현장정리 | B7: 철근콘크리트조 | C7: M2 | D7: 20 | F7: =D7*E7 -> 0 | H7: =D7*G7 -> 0 | J7: =D7*I7 -> 0 | K7: =E7+G7+I7 -> 0 | L7: =F7+H7+J7 -> 0 | N7: 45EA80ECB917057C3C1D474E77C8C | Q7: 010103 | S7: T | T7: F | U7: F | AW7: 01010345EA80ECB917057C3C1D474E77C8C | AX7: 32
A8: [소 계] | F8: =SUM(F7:F7) -> 0 | H8: =SUM(H7:H7) -> 0 | J8: =SUM(J7:J7) -> 0 | L8: =SUM(L7:L7) -> 0
A9: 0102 조 적 공 사 | Q9: 010101 | R9: 0101 | S9: F | T9: F | U9: F | AT9: 3 | AW9: 010101 | AX9: 39
A10: 1.0B 치장쌓기(양면 치장) | B10: 3.6m 이하, 줄눈, 재료, 모르터 포함 | C10: 천매 | D10: 1.85 | F10: =D10*E10 -> 0 | H10: =D10*G10 -> 0 | J10: =D10*I10 -> 0 | K10: =E10+G10+I10 -> 0 | L10: =F10+H10+J10 -> 0
A11: 잡철물 설치 | B11: 간단, 철재 휀스 재설치 | C11: ton | D11: 0.25 | F11: =D11*E11 -> 0 | H11: =D11*G11 -> 0 | J11: =D11*I11 -> 0 | K11: =E11+G11+I11 -> 0 | L11: =F11+H11+J11 -> 0
A12: [소 계] | F12: =SUM(F10:F11) -> 0 | H12: =SUM(H10:H11) -> 0 | J12: =SUM(J10:J11) -> 0 | L12: =SUM(L10:L11) -> 0
A13: 0103 철 거 공 사 | N13: 45EA8F759A38053CA2158C62B4E31 | Q13: 010102 | S13: T | T13: F | U13: F | AW13: 01010245EA8F759A38053CA2158C62B4E31 | AX13: 38
A14: 벽돌벽 철거 | B14: 인력 | C14: M3 | D14: 4 | F14: =D14*E14 -> 0 | H14: =D14*G14 -> 0 | J14: =D14*I14 -> 0 | K14: =E14+G14+I14 -> 0 | L14: =F14+H14+J14 -> 0 | N14: 42CE87807CFE05D9571F35B744437DA0EFA57 | Q14: 010102 | S14: F | T14: F | U14: T | AW14: 01010242CE87807CFE05D9571F35B744437DA0EFA57 | AX14: 37
A15: [소 계] | F15: =SUM(F14) -> 0 | H15: =SUM(H14) -> 0 | J15: =SUM(J14) -> 0 | L15: =SUM(L14) -> 0
A16: 0104 폐 기 물 공 사
A17: 건설폐기물 | B17: 혼합건설폐기물(소각 5%이하) | C17: TON | D17: 4.5 | F17: =D17*E17 -> 0 | H17: =TRUNC(G17*D17,0) -> 0 | J17: =D17*I17 -> 0 | K17: =TRUNC(E17+G17+I17,0) -> 0 | L17: =F17+H17+J17 -> 0
A18: 건설폐기물운반비 | B18: 30KM(중간처리) | C18: TON | D18: 4.5 | F18: =D18*E18 -> 0 | H18: =TRUNC(G18*D18,0) -> 0 | J18: =D18*I18 -> 0 | K18: =TRUNC(E18+G18+I18,0) -> 0 | L18: =F18+H18+J18 -> 0
A19: [소 계] | F19: =SUM(F17:F18) -> 0 | H19: =SUM(H17:H18) -> 0 | J19: =SUM(J17:J18) -> 0 | L19: =TRUNC(F19+H19+J19,0) -> 0
A21: 02 서울신길5동(여의도) | F21: =F24+F28+F33+F37 -> 0 | H21: =H24+H28+H33+H37 -> 0 | J21: =J24+J28+J33+J37 -> 0 | L21: =L24+L28+L33+L37 -> 0
A22: 0201 가 설 공 사 | Q22: 010103 | R22: 0101 | S22: F | T22: F | U22: F | AT22: 3 | AW22: 010103 | AX22: 8
A23: 건축물현장정리 | B23: 철근콘크리트조 | C23: M2 | D23: 200 | F23: =D23*E23 -> 0 | H23: =D23*G23 -> 0 | J23: =D23*I23 -> 0 | K23: =E23+G23+I23 -> 0 | L23: =F23+H23+J23 -> 0 | N23: 45EA80ECB917057C3C1D474E77C8C | Q23: 010103 | S23: T | T23: F | U23: F | AW23: 01010345EA80ECB917057C3C1D474E77C8C | AX23: 32
A24: [소 계] | F24: =SUM(F23:F23) -> 0 | H24: =SUM(H23:H23) -> 0 | J24: =SUM(J23:J23) -> 0 | L24: =SUM(L23:L23) -> 0
A25: 0201 미 장 공 사 | N25: 45EA80E9E65D05BB471E4BFE03F31 | Q25: 010103 | S25: T | T25: F | U25: F | AW25: 01010345EA80E9E65D05BB471E4BFE03F31 | AX25: 67
A26: 모르타르 바름 - 정벌 바르기 | B26: 3.6m 이하 | C26: 10M2 | D26: 1 | F26: =D26*E26 -> 0 | H26: =D26*G26 -> 0 | J26: =D26*I26 -> 0 | K26: =E26+G26+I26 -> 0 | L26: =F26+H26+J26 -> 0
A27: 드라이모르타르 | B27: 미장용, 40kg | C27: 포 | D27: 5 | F27: =D27*E27 -> 0 | H27: =D27*G27 -> 0 | J27: =D27*I27 -> 0 | K27: =E27+G27+I27 -> 0 | L27: =F27+H27+J27 -> 0 | Q27: 010104 | R27: 0101 | S27: F | T27: F | U27: F | AT27: 3 | AW27: 010104 | AX27: 12
A28: [소 계] | F28: =SUM(F26:F27) -> 0 | H28: =SUM(H26:H27) -> 0 | J28: =SUM(J26:J27) -> 0 | L28: =SUM(L26:L27) -> 0
A29: 0203 방 수 공 사
A30: 수밀코킹(실리콘) | B30: 외벽, '15㎜*15㎜ | C30: M | D30: 500 | F30: =D30*E30 -> 0 | H30: =D30*G30 -> 0 | J30: =D30*I30 -> 0 | K30: =E30+G30+I30 -> 0 | L30: =F30+H30+J30 -> 0
A31: 우레탄방수 -바탕,프라이머 포함 | B31: 바닥 3mm, 노출 | C31: M2 | D31: 220.8 | F31: =D31*E31 -> 0 | H31: =D31*G31 -> 0 | J31: =D31*I31 -> 0 | K31: =E31+G31+I31 -> 0 | L31: =F31+H31+J31 -> 0
A32: 우레탄방수 -바탕,프라이머 포함 | B32: 수직 3mm, 노출 | C32: M2 | D32: 81.56 | F32: =D32*E32 -> 0 | H32: =D32*G32 -> 0 | J32: =D32*I32 -> 0 | K32: =E32+G32+I32 -> 0 | L32: =F32+H32+J32 -> 0 | Q32: 0102 | R32: 01 | S32: F | T32: F | U32: F | AT32: 2 | AW32: 0102 | AX32: 3
A33: [소 계] | F33: =SUM(F30:F32) -> 0 | H33: =SUM(H30:H32) -> 0 | J33: =SUM(J30:J32) -> 0 | L33: =SUM(L30:L32) -> 0
A34: 0204 도 장 공 사 | Q34: 010201 | R34: 0102 | S34: F | T34: F | U34: F | AT34: 3 | AW34: 010201 | AX34: 13
A35: 바탕만들기 | B35: 콘크리트· 모르타르·플라스터면 | C35: M2 | D35: 120 | F35: =D35*E35 -> 0 | H35: =D35*G35 -> 0 | J35: =D35*I35 -> 0 | K35: =E35+G35+I35 -> 0 | L35: =F35+H35+J35 -> 0 | N35: 45EB8979E79705C4B31868689037D | Q35: 010201 | S35: T | T35: F | U35: F | AW35: 01020145EB8979E79705C4B31868689037D | AX35: 40
A36: 수성페인트(로울러칠) | B36: 외벽 2회. 2급 | C36: M2 | D36: 120 | F36: =D36*E36 -> 0 | H36: =D36*G36 -> 0 | J36: =D36*I36 -> 0 | K36: =E36+G36+I36 -> 0 | L36: =F36+H36+J36 -> 0 | Q36: 010202 | R36: 0102 | S36: F | T36: F | U36: F | AT36: 3 | AW36: 010202 | AX36: 14
A37: [소 계] | F37: =SUM(F35:F36) -> 0 | H37: =SUM(H35:H36) -> 0 | J37: =SUM(J35:J36) -> 0 | L37: =SUM(L35:L36) -> 0
A38: 0205 폐 기 물 공 사
A39: 건설폐기물 | B39: 혼합건설폐기물(소각 5%이하) | C39: TON | D39: 1 | F39: =D39*E39 -> 0 | H39: =TRUNC(G39*D39,0) -> 0 | J39: =D39*I39 -> 0 | K39: =TRUNC(E39+G39+I39,0) -> 0 | L39: =F39+H39+J39 -> 0
A40: 건설폐기물운반비 | B40: 30KM(중간처리) | C40: TON | D40: 1 | F40: =D40*E40 -> 0 | H40: =TRUNC(G40*D40,0) -> 0 | J40: =D40*I40 -> 0 | K40: =TRUNC(E40+G40+I40,0) -> 0 | L40: =F40+H40+J40 -> 0
A41: [소 계] | F41: =SUM(F39:F40) -> 0 | H41: =SUM(H39:H40) -> 0 | J41: =SUM(J39:J40) -> 0 | L41: =TRUNC(F41+H41+J41,0) -> 0
A43: 03 서울양평동(여의도) | F43: =F46+F56 -> 0 | H43: =H46+H56 -> 0 | J43: =J46+J56 -> 0 | L43: =L46+L56 -> 0 | N43: 45EA87BAF821058FB0199FC8AB8F5 | Q43: 010202 | S43: T | T43: F | U43: F | AW43: 01020245EA87BAF821058FB0199FC8AB8F5 | AX43: 41
A44: 0301 철 거 공 사 | N44: 42CE87807BD805D0571BCBD69B98AB9D46758 | Q44: 010202 | S44: F | T44: F | U44: T | AW44: 01020242CE87807BD805D0571BCBD69B98AB9D46758 | AX44: 69
A45: 반자틀 철거 | B45: 해체재 재사용 안 함 | C45: M2 | D45: 11.7 | F45: =D45*E45 -> 0 | H45: =D45*G45 -> 0 | J45: =D45*I45 -> 0 | K45: =E45+G45+I45 -> 0 | L45: =F45+H45+J45 -> 0 | N45: 45EA87BCA7A305562B13E4336F497 | Q45: 010202 | S45: T | T45: F | U45: F | AW45: 01020245EA87BCA7A305562B13E4336F497 | AX45: 42
A46: [소 계] | F46: =SUM(F45) -> 0 | H46: =SUM(H45) -> 0 | J46: =SUM(J45) -> 0 | L46: =SUM(L45) -> 0
A47: 0302 수 장 공 사 | N47: 45EA87B72482053B9E15E191FA1A4 | Q47: 010202 | S47: T | T47: F | U47: F | AW47: 01020245EA87B72482053B9E15E191FA1A4 | AX47: 68
A48: 반자틀설치 | B48: 합판. 텍스천장 | C48: M2 | D48: 11.7 | F48: =D48*E48 -> 0 | H48: =D48*G48 -> 0 | J48: =D48*I48 -> 0 | K48: =E48+G48+I48 -> 0 | L48: =F48+H48+J48 -> 0 | N48: 45EA87BCA7A105AB031BCB0CDD4B8 | Q48: 010202 | S48: T | T48: F | U48: F | AW48: 01020245EA87BCA7A105AB031BCB0CDD4B8 | AX48: 43
A49: 석고판 붙임 | B49: 바탕용 1p, 재료 포함 | C49: M2 | D49: 12 | F49: =D49*E49 -> 0 | H49: =D49*G49 -> 0 | J49: =D49*I49 -> 0 | K49: =E49+G49+I49 -> 0 | L49: =F49+H49+J49 -> 0
A50: 커텐박스 | B50: 100*100 | C50: M | D50: 8 | F50: =D50*E50 -> 0 | H50: =D50*G50 -> 0 | J50: =D50*I50 -> 0 | K50: =E50+G50+I50 -> 0 | L50: =F50+H50+J50 -> 0
A51: 이보드 붙임 | B51: 벽, 33mm | C51: M2 | D51: 50 | F51: =D51*E51 -> 0 | H51: =D51*G51 -> 0 | J51: =D51*I51 -> 0 | K51: =E51+G51+I51 -> 0 | L51: =F51+H51+J51 -> 0
A52: 천장몰딩설치 | B52: 재료비 별도 | C52: M | D52: 65 | F52: =D52*E52 -> 0 | H52: =D52*G52 -> 0 | J52: =D52*I52 -> 0 | K52: =E52+G52+I52 -> 0 | L52: =F52+H52+J52 -> 0
A53: 우물천정몰딩 | B53: 15*36, MDF | C53: M | D53: 10 | F53: =D53*E53 -> 0 | H53: =D53*G53 -> 0 | J53: =D53*I53 -> 0 | K53: =E53+G53+I53 -> 0 | L53: =F53+H53+J53 -> 0
A54: 반자지바름 | C54: M2 | D54: 52.2 | F54: =D54*E54 -> 0 | H54: =D54*G54 -> 0 | J54: =D54*I54 -> 0 | K54: =E54+G54+I54 -> 0 | L54: =F54+H54+J54 -> 0
A55: 벽지바름 | C55: M2 | D55: 120 | F55: =D55*E55 -> 0 | H55: =D55*G55 -> 0 | J55: =D55*I55 -> 0 | K55: =E55+G55+I55 -> 0 | L55: =F55+H55+J55 -> 0
A56: [소 계] | F56: =SUM(F48:F55) -> 0 | H56: =SUM(H48:H55) -> 0 | J56: =SUM(J48:J55) -> 0 | L56: =SUM(L48:L55) -> 0
A57: 0303 폐 기 물 공 사
A58: 건설폐기물 | B58: 혼합건설폐기물(소각 5%이하) | C58: TON | D58: 1 | F58: =D58*E58 -> 0 | H58: =TRUNC(G58*D58,0) -> 0 | J58: =D58*I58 -> 0 | K58: =TRUNC(E58+G58+I58,0) -> 0 | L58: =F58+H58+J58 -> 0
A59: 건설폐기물운반비 | B59: 30KM(중간처리) | C59: TON | D59: 1 | F59: =D59*E59 -> 0 | H59: =TRUNC(G59*D59,0) -> 0 | J59: =D59*I59 -> 0 | K59: =TRUNC(E59+G59+I59,0) -> 0 | L59: =F59+H59+J59 -> 0
A60: [소 계] | F60: =SUM(F58:F59) -> 0 | H60: =SUM(H58:H59) -> 0 | J60: =SUM(J58:J59) -> 0 | L60: =TRUNC(F60+H60+J60,0) -> 0
