Workbook

Sheet 원가계산서
A1: 공 사 원 가 계 산 서
A3: 공 사 명 : 서울송파우체국 등 2국 대수선공사
A4: 구 분 비 목 | D4: 구 성 비 | E4: 금 액 | F4: 비 고
A6: 순 공 사 원 가 | B6: 재료비 | C6: 직 접 재 료 비 | E6: =집계표!F15 -> 0 | G6: A1 | I6: =E6 -> 0
C7: 간 접 재 료 비 | E7: =ROUNDDOWN(SUMIF($G$6:$G$32,"A1",$E$6:$E$32)*J7,0) -> 0 | G7: A2 | I7: =E7 -> 0
C8: 작업설.부산물 등(△) | G8: A3 | I8: =E8 -> 0
C9: 소 계 | E9: =SUM(E6:E8) -> 0 | G9: A | I9: =E9 -> 0
B10: 노무비 | C10: 직 접 노 무 비 | E10: =집계표!H15 -> 0 | G10: B1 | I10: =E10 -> 0
C11: 간 접 노 무 비 | D11: ="직.노*"&H11*100&"%" -> 직.노*9.6% | E11: =ROUNDDOWN(SUMIF($G$6:$G$32,"B1",$E$6:$E$32)*J11,0) -> 0 | G11: B2 | H11: 0.096 | I11: =ROUNDDOWN(SUMIF($G$6:$G$32,"B1",$I$6:$I$32)*H11,0) -> 0 | J11: =H11 -> 0.096
C12: 소 계 | E12: =SUM(E10:E11) -> 0 | G12: B | I12: =E12 -> 0
B13: 경 비 | C13: 기 계 경 비 | E13: =집계표!J15 -> 0 | G13: C4 | I13: =E13 -> 0
C14: 산 재 보 험 료 | D14: ="(노)*"&H14*100&"%" -> (노)*3.8% | E14: =ROUNDDOWN((SUMIF($G$6:$G$32,"B",$E$6:$E$32))*J14,0) -> 0 | G14: C10 | H14: 0.038 | I14: =ROUNDDOWN((SUMIF($G$6:$G$32,"B",$I$6:$I$32))*H14,0) -> 0 | J14: =H14 -> 0.038
C15: 고 용 보 험 료 | D15: ="(노)*"&H15*100&"%" -> (노)*0.87% | E15: =ROUNDDOWN((SUMIF($G$6:$G$32,"B",$E$6:$E$32))*J15,0) -> 0 | G15: C11 | H15: 0.0087 | I15: =ROUNDDOWN((SUMIF($G$6:$G$32,"B",$I$6:$I$32))*H15,0) -> 0 | J15: =H15 -> 0.0087
C16: 건 강 보 험 료 | D16: 직접노무비 * 1.7% | E16: 0 | F16: 공사기간 1개월 이상 적용 | G16: C12 | I16: =ROUNDDOWN((SUMIF($G$6:$G$32,"B1",$I$6:$I$32))*H16,0) -> 0
C17: 연 금 보 험 료 | D17: 직접노무비 * 2.49% | E17: 0 | F17: 공사기간 1개월 이상 적용 | G17: C13 | I17: =ROUNDDOWN((SUMIF($G$6:$G$32,"B1",$I$6:$I$32))*H17,0) -> 0
C18: 노인 장기 요양보험료 | D18: 건강보험료 * 6.55% | E18: =ROUNDDOWN(E16*6.55/100,0) -> 0 | F18: 공사기간 1개월 이상 적용 | G18: C16 | I18: =ROUNDDOWN((SUMIF($G$6:$G$32,"C12",$I$6:$I$32))*H18,0) -> 0
C19: 퇴 직 공 제 부 금 비 | D19: 직접노무비 * % | E19: =ROUNDDOWN(E10*0/100,0) -> 0 | F19: 3억이상 반영 | G19: C14 | I19: =ROUNDDOWN((SUMIF($G$6:$G$32,"B1",$I$6:$I$32))*H19,0) -> 0
C20: 안 전 관 리 비 | D20: ="(재+직.노)*"&H20*100&"%" -> (재+직.노)*2.93% | E20: =ROUNDDOWN((SUMIF($G$6:$G$32,"A",$E$6:$E$32)+SUMIF($G$6:$G$32,"B1",$E$6:$E$32))*J20,0) -> 0 | G20: C15 | H20: 0.0293 | I20: =ROUNDDOWN((SUMIF($G$6:$G$32,"A",$I$6:$I$32)+SUMIF($G$6:$G$32,"B1",$I$6:$I$32))*H20,0) -> 0 | J20: =H20 -> 0.0293
C21: 기 타 경 비 | D21: ="(재+노)*"&H21*100&"%" -> (재+노)*3.03% | E21: =ROUNDDOWN((SUMIF($G$6:$G$32,"A",$E$6:$E$32)+SUMIF($G$6:$G$32,"B",$E$6:$E$32))*J21,0) -> 0 | G21: C26 | H21: 0.0303 | I21: =ROUNDDOWN((SUMIF($G$6:$G$32,"A",$I$6:$I$32)+SUMIF($G$6:$G$32,"B",$I$6:$I$32))*H21,0) -> 0 | J21: =H21 -> 0.0303
C22: 환 경 보 전 비 | D22: ="(재+직.노+기.경)*"&H22*100&"%" -> (재+직.노+기.경)*0.3% | E22: =ROUNDDOWN((SUMIF($G$6:$G$32,"A",$E$6:$E$32)+SUMIF($G$6:$G$32,"B1",$E$6:$E$32)+SUMIF($G$6:$G$32,"C4",$E$6:$E$32))*J22,0) -> 0 | G22: C28 | H22: 0.003 | I22: =ROUNDDOWN((SUMIF($G$6:$G$32,"A",$I$6:$I$32)+SUMIF($G$6:$G$32,"B1",$I$6:$I$32)+SUMIF($G$6:$G$32,"C4",$I$6:$I$32))*H22,0) -> 0 | J22: =H22 -> 0.003
C23: 건설하도급보증수수료 | E23: =ROUNDDOWN((SUMIF($G$6:$G$32,"A",$E$6:$E$32)+SUMIF($G$6:$G$32,"B1",$E$6:$E$32)+SUMIF($G$6:$G$32,"C4",$E$6:$E$32))*J23,0) -> 0 | G23: C29 | I23: =ROUNDDOWN((SUMIF($G$6:$G$32,"A",$I$6:$I$32)+SUMIF($G$6:$G$32,"B1",$I$6:$I$32)+SUMIF($G$6:$G$32,"C4",$I$6:$I$32))*H23,0) -> 0
C24: 소 계 | E24: =SUM(E13:E23) -> 0 | G24: C | I24: =E24 -> 0
B25: 계 | E25: =SUMIF($G$6:$G$32,"A",$E$6:$E$32)+SUMIF($G$6:$G$32,"B",$E$6:$E$32)+SUMIF($G$6:$G$32,"C",$E$6:$E$32) -> 0 | G25: X | I25: =E25 -> 0
A26: 일 반 관 리 비 | D26: ="(재+노+경)*"&H26*100&"%" -> (재+노+경)*6% | E26: =ROUNDDOWN((SUMIF($G$6:$G$32,"A",$E$6:$E$32)+SUMIF($G$6:$G$32,"B",$E$6:$E$32)+SUMIF($G$6:$G$32,"C",$E$6:$E$32))*J26,0) -> 0 | G26: D | H26: 0.06 | I26: =ROUNDDOWN((SUMIF($G$6:$G$32,"A",$I$6:$I$32)+SUMIF($G$6:$G$32,"B",$I$6:$I$32)+SUMIF($G$6:$G$32,"C",$I$6:$I$32))*H26,0) -> 0 | J26: =H26 -> 0.06
A27: 이 윤 | D27: ="(노+경+일)*"&H27*100&"%" -> (노+경+일)*10.51% | E27: =ROUNDDOWN((E12+E24+E26)*J27,0) -> 0 | G27: E | H27: 0.1051 | I27: =ROUND((SUMIF($G$6:$G$32,"B",$I$6:$I$32)+SUMIF($G$6:$G$32,"C",$I$6:$I$32)+SUMIF($G$6:$G$32,"D",$I$6:$I$32))*H27, 0)+K27 -> 0 | J27: =H27 -> 0.1051
A28: 폐 기 물 처 리 비 | E28: =집계표!L17 -> 0 | G28: L | I28: =E28 -> 0
A29: 총 원 가 | E29: =E25+E26+E27+E28 -> 0 | G29: F | I29: =SUM(I25:I28) -> 0
A30: 부 가 가 치 세 | D30: ="(총원가)*"&H30*100&"%" -> (총원가)*10% | E30: =E29*0.1 -> 0 | G30: H | H30: 0.1 | I30: =ROUNDDOWN((SUMIF($G$6:$G$32,"F",$I$6:$I$32))*H30,0) -> 0 | J30: =H30 -> 0.1
A31: 도 급 금 액 | E31: =INT(I31/1000)*1000 -> 0 | F31: 단수정리(천원) | G31: Y | I31: =ROUNDDOWN(SUMIF($G$6:$G$32,"F",$I$6:$I$32)+SUMIF($G$6:$G$32,"H",$I$6:$I$32),0) -> 0

Sheet 집계표
A1: 공 종 별 집 계 표
A3: 품 명 | B3: 규 격 | C3: 단위 | D3: 수량 | E3: 재 료 비 | G3: 노 무 비 | I3: 경 비 | K3: 합 계 | M3: 비 고 | N3: 공종코드 | O3: 변수 | P3: 상위공종 | Q3: 공종구분 | R3: 공종레벨 | S3: 공종소계 | T3: 원가계산서 연결금액
E4: 단 가 | F4: 금 액 | G4: 단 가 | H4: 금 액 | I4: 단 가 | J4: 금 액 | K4: 단 가 | L4: 금 액
A5: =물량내역서!A4 -> 1. 서울송파우체국 | F5: =SUM(F6:F8) -> 0 | H5: =SUM(H6:H8) -> 0 | J5: =SUM(J6:J8) -> 0 | L5: =F5+H5+J5 -> 0
A6: =물량내역서!A5 -> 01 가 설 공 사 | C6: 식 | D6: 1 | F6: =물량내역서!F8 -> 0 | H6: =물량내역서!H8 -> 0 | J6: =물량내역서!J8 -> 0 | K6: =E6+G6+I6 -> 0 | L6: =F6+H6+J6 -> 0 | N6: 010101 | P6: 0101 | R6: 3
A7: =물량내역서!A10 -> 02 외부화단 공사 | C7: 식 | D7: 1 | F7: =물량내역서!F25 -> 0 | H7: =물량내역서!H25 -> 0 | J7: =물량내역서!J25 -> 0 | K7: =E7+G7+I7 -> 0 | L7: =F7+H7+J7 -> 0 | N7: 010111 | P7: 0101 | R7: 3
A8: =물량내역서!A27 -> 03 본건물공사 | C8: 식 | D8: 1 | F8: =물량내역서!F34 -> 0 | H8: =물량내역서!H34 -> 0 | J8: =물량내역서!J34 -> 0 | K8: =E8+G8+I8 -> 0 | L8: =F8+H8+J8 -> 0 | N8: 010117 | P8: 0101 | R8: 3
A10: =물량내역서!A38 -> 2. 잠실2동우체국 | F10: =SUM(F11:F13) -> 0 | H10: =SUM(H11:H13) -> 0 | J10: =SUM(J11:J13) -> 0 | L10: =F10+H10+J10 -> 0
A11: =물량내역서!A40 -> 01 내부공사 | C11: 식 | D11: 1 | F11: =물량내역서!F58 -> 0 | H11: =물량내역서!H58 -> 0 | J11: =물량내역서!J58 -> 0 | K11: =E11+G11+I11 -> 0 | L11: =F11+H11+J11 -> 0 | N11: 010101 | P11: 0101 | R11: 3
A12: =물량내역서!A59 -> 02 365부스 설치공사 | C12: 식 | D12: 1 | F12: =물량내역서!F88 -> 0 | H12: =물량내역서!H88 -> 0 | J12: =물량내역서!J88 -> 0 | K12: =E12+G12+I12 -> 0 | L12: =F12+H12+J12 -> 0 | N12: 010111 | P12: 0101 | R12: 3
A13: =물량내역서!A90 -> 03 기 타 공 사 | C13: 식 | D13: 1 | F13: =물량내역서!F100 -> 0 | H13: =물량내역서!H100 -> 0 | J13: =물량내역서!J100 -> 0 | K13: =E13+G13+I13 -> 0 | L13: =F13+H13+J13 -> 0 | N13: 010117 | P13: 0101 | R13: 3
A15: <합 계> | F15: =F5+F10 -> 0 | H15: =H5+H10 -> 0 | J15: =J5+J10 -> 0 | L15: =F15+H15+J15 -> 0
A17: =물량내역서!A104 -> 3 폐 기 물 공 사 | C17: 식 | D17: 1 | F17: =물량내역서!F109 -> 0 | H17: =물량내역서!H109 -> 0 | J17: =물량내역서!J109 -> 0 | K17: =E17+G17+I17 -> 0 | L17: =물량내역서!L109 -> 0 | N17: 010117 | P17: 0101 | R17: 3

Sheet 물량내역서
A1: 서울송파우체국 등 2국 대수선공사 물량내역서
A2: 품 명 | B2: 규 격 | C2: 단위 | D2: 수량 | E2: 재 료 비 | G2: 노 무 비 | I2: 경 비 | K2: 합 계 | M2: 비 고
E3: 단 가 | F3: 금 액 | G3: 단 가 | H3: 금 액 | I3: 단 가 | J3: 금 액 | K3: 단 가 | L3: 금 액
A4: 1. 서울송파우체국
A5: 01 가 설 공 사
A6: 현장정리 | C6: M2 | D6: 60 | F6: 0 | H6: 0 | J6: 0 | K6: 0 | L6: 0
A7: 조립식말비계 | C7: EA | D7: 2 | F7: 0 | H7: 0 | J7: 0 | K7: 0 | L7: 0
A8: [ 소 계 ] | F8: 0 | H8: 0 | J8: 0 | L8: #REF!
A10: 02 외부화단 공사
A11: 터파기 | B11: 인력 | C11: M3 | D11: 33.4 | F11: 0 | H11: 0 | J11: 0 | K11: 0 | L11: 0
A12: 잔토터리(덤프) | B12: 10톤 | C12: 대 | D12: 3 | F12: 0 | H12: 0 | J12: 0 | K12: 0 | L12: 0
A13: 되메우기 | B13: 인력 | C13: M3 | D13: 3.4 | F13: 0 | H13: 0 | J13: 0 | K13: 0 | L13: 0
A14: 잡석깔기 | B14: 백호0.7M3＋콤펙트1.5톤 | C14: M3 | D14: 0.7 | F14: 0 | H14: 0 | J14: 0 | K14: 0 | L14: 0
A15: 자갈채우기 | B15: 40mm, #467 | C15: M3 | D15: 26.4 | F15: 0 | H15: 0 | J15: 0 | K15: 0 | L15: 0
A16: 토사소운반 | B16: 장내 , 인력 | C16: M3 | D16: 30 | F16: 0 | H16: 0 | J16: 0 | K16: 0 | L16: 0
A17: 합판거푸집 | B17: 4회 | C17: M2 | D17: 48.4 | F17: 0 | H17: 0 | J17: 0 | K17: 0 | L17: 0
A18: 철근가공조립 | C18: 톤 | D18: 0.44 | F18: 0 | H18: 0 | I18: 0 | J18: 0 | K18: 0 | L18: 0
A19: 철근콘크리트타설 | B19: 손비빔 | C19: M3 | D19: 3.1 | F19: 0 | H19: 0 | I19: 0 | J19: 0 | K19: 0 | L19: 0
A20: 아연도그레이팅 | B20: F-50*5 | C20: M2 | D20: 9.9 | F20: 0 | H20: 0 | J20: 0 | K20: 0 | L20: 0
A21: 아연도금앵글 | B21: 55*55*4 | C21: M | D21: 48.4 | F21: 0 | H21: 0 | J21: 0 | K21: 0 | L21: 0
A22: 자재소운반 | B22: 보통인부 | C22: 인 | D22: 9 | F22: 0 | H22: 0 | J22: 0 | K22: 0 | L22: 0
A23: 배수관연결 | C23: EA | D23: 2 | F23: 0 | H23: 0 | J23: 0 | K23: 0 | L23: 0
A24: 화단배수관 연결시공 | C24: 식 | D24: 1 | F24: 0 | H24: 0 | J24: 0 | K24: 0 | L24: 0
A25: [ 소 계 ] | F25: 0 | H25: 0 | J25: 0 | L25: 0
A27: 03 본건물공사
A28: 코킹철거 | C28: M | D28: 1768 | F28: 0 | H28: 0 | J28: 0 | K28: 0 | L28: 0
A29: 코킹 | B29: 6*6MM, 석재 | C29: M | D29: 1768 | F29: 0 | H29: 0 | J29: 0 | K29: 0 | L29: 0
A30: 외부면정리 | B30: 석재면 | C30: M2 | D30: 496 | F30: 0 | H30: 0 | J30: 0 | K30: 0 | L30: 0
A31: 천공 및 배관연결 | B31: 콘크리트스라브/용접 | C31: EA | D31: 2 | F31: 0 | H31: 0 | J31: 0 | K31: 0 | L31: 0
A32: 배수선홈통 | B32: 스텐, Φ 50.8, 1.2T | C32: EA | D32: 1 | F32: 0 | H32: 0 | J32: 0 | K32: 0 | L32: 0
A33: 에폭시충진 | C33: M | D33: 40.4 | F33: 0 | H33: 0 | J33: 0 | K33: 0 | L33: 0
A34: [ 소 계 ] | F34: 0 | H34: 0 | J34: 0 | L34: 0
A36: [ 합 계 ] | F36: 0 | H36: 0 | J36: 0 | L36: 0
A38: 2. 잠실2동우체국
A40: 01 내부공사
A41: 건축물현장정리 | B41: 준공청소 포함 | C41: M2 | D41: 32 | E41: 0 | F41: 0 | H41: 0 | I41: 0 | J41: 0 | K41: 0 | L41: 0
A42: 가설칸막이 | C42: M2 | D42: 15 | F42: 0 | H42: 0 | I42: 0 | J42: 0 | K42: 0 | L42: 0
A43: 칸막이철거 | C43: M2 | D43: 36 | F43: 0 | H43: 0 | J43: 0 | K43: 0 | L43: 0
A44: 부스철거/칸막이 | C44: M2 | D44: 21 | F44: 0 | H44: 0 | J44: 0 | K44: 0 | L44: 0
A45: 철제문철거 | B45: 0.9*2.1 | C45: M2 | D45: 3.76 | F45: 0 | H45: 0 | J45: 0 | K45: 0 | L45: 0
...
