Workbook

Sheet 원가계산서
A1: 공 사 원 가 계 산 서
A3: 공 사 명 : 서울송파우체국 등 2국 대수선공사
A4: 구 분 비 목 | D4: 구 성 비 | E4: 금 액 | F4: 비 고
A6: 순 공 사 원 가 | B6: 재료비 | C6: 직 접 재 료 비 | E6: =집계표!F15 -> 0 | G6: A1 | I6: =E6 -> 0
C7: 간 접 재 료 비 | E7: =ROUNDDOWN(SUMIF($G$6:$G$32,"A1",$E$6:$E$32)*J7,0) -> 0 | G7: A2 | I7: =E7 -> 0
C8: 작업설.부산물 등(△) | G8: A3 | I8: =E8 -> 0
C9: 소 계 | E9: =SUM(E6:E8) -> 0 | G9: A | I9: =E9 -> 0
B10: 노무비 | C10: 직 접 노 무 비 | E10: =집계표!H15 -> 0 | G10: B1 | I10: =E10 -> 0
C11: 간 접 노 무 비 | D11: ="직.노*"&H11*100&"%" -> 직.노*9.6% | E11: =ROUNDDOWN(SUMIF($G$6:$G$32,"B1",$E$6:$E$32)*J11,0) -> 0 | G11: B2 | H11: 0.096 | I11: =ROUNDDOWN(SUMIF($G$6:$G$32,"B1",$I$6:$I$32)*H11,0) -> 0 | J11: =H11 -> 0.096
C12: 소 계 | E12: =SUM(E10:E11) -> 0 | G12: B | I12: =E12 -> 0
B13: 경 비 | C13: 기 계 경 비 | E13: =집계표!J15 -> 0 | G13: C4 | I13: =E13 -> 0
C14: 산 재 보 험 료 | D14: ="(노)*"&H14*100&"%" -> (노)*3.8% | E14: =ROUNDDOWN((SUMIF($G$6:$G$32,"B",$E$6:$E$32))*J14,0) -> 0 | G14: C10 | H14: 0.038 | I14: =ROUNDDOWN((SUMIF($G$6:$G$32,"B",$I$6:$I$32))*H14,0) -> 0 | J14: =H14 -> 0.038
C15: 고 용 보 험 료 | D15: ="(노)*"&H15*100&"%" -> (노)*0.87% | E15: =ROUNDDOWN((SUMIF($G$6:$G$32,"B",$E$6:$E$32))*J15,0) -> 0 | G15: C11 | H15: 0.0087 | I15: =ROUNDDOWN((SUMIF($G$6:$G$32,"B",$I$6:$I$32))*H15,0) -> 0 | J15: =H15 -> 0.0087
C16: 건 강 보 험 료 | D16: 직접노무비 * 1.7% | E16: 0 | F16: 공사기간 1개월 이상 적용 | G16: C12 | I16: =ROUNDDOWN((SUMIF($G$6:$G$32,"B1",$I$6:$I$32))*H16,0) -> 0
C17: 연 금 보 험 료 | D17: 직접노무비 * 2.49% | E17: 0 | F17: 공사기간 1개월 이상 적용 | G17: C13 | I17: =ROUNDDOWN((SUMIF($G$6:$G$32,"B1",$I$6:$I$32))*H17,0) -> 0
C18: 노인 장기 요양보험료 | D18: 건강보험료 * 6.55% | E18: =ROUNDDOWN(E16*6.55/100,0) -> 0 | F18: 공사기간 1개월 이상 적용 | G18: C16 | I18: =ROUNDDOWN((SUMIF($G$6:$G$32,"C12",$I$6:$I$32))*H18,0) -> 0
C19: 퇴 직 공 제 부 금 비 | D19: 직접노무비 * % | E19: =ROUNDDOWN(E10*0/100,0) -> 0 | F19: 3억이상 반영 | G19: C14 | I19: =ROUNDDOWN((SUMIF($G$6:$G$32,"B1",$I$6:$I$32))*H19,0) -> 0
C20: 안 전 관 리 비 | D20: ="(재+직.노)*"&H20*100&"%" -> (재+직.노)*2.93% | E20: =ROUNDDOWN((SUMIF($G$6:$G$32,"A",$E$6:$E$32)+SUMIF($G$6:$G$32,"B1",$E$6:$E$32))*J20,0) -> 0 | G20: C15 | H20: 0.0293 | I20: =ROUNDDOWN((SUMIF($G$6:$G$32,"A",$I$6:$I$32)+SUMIF($G$6:$G$32,"B1",$I$6:$I$32))*H20,0) -> 0 | J20: =H20 -> 0.0293
C21: 기 타 경 비 | D21: ="(재+노)*"&H21*100&"%" -> (재+노)*3.03% | E21: =ROUNDDOWN((SUMIF($G$6:$G$32,"A",$E$6:$E$32)+SUMIF($G$6:$G$32,"B",$E$6:$E$32))*J21,0) -> 0 | G21: C26 | H21: 0.0303 | I21: =ROUNDDOWN((SUMIF($G$6:$G$32,"A",$I$6:$I$32)+SUMIF($G$6:$G$32,"B",$I$6:$I$32))*H21,0) -> 0 | J21: =H21 -> 0.0303
C22: 환 경 보 전 비 | D22: ="(재+직.노+기.경)*"&H22*100&"%" -> (재+직.노+기.경)*0.3% | E22: =ROUNDDOWN((SUMIF($G$6:$G$32,"A",$E$6:$E$32)+SUMIF($G$6:$G$32,"B1",$E$6:$E$32)+SUMIF($G$6:$G$32,"C4",$E$6:$E$32))*J22,0) -> 0 | G22: C28 | H22: 0.003 | I22: =ROUNDDOWN((SUMIF($G$6:$G$32,"A",$I$6:$I$32)+SUMIF($G$6:$G$32,"B1",$I$6:$I$32)+SUMIF($G$6:$G$32,"C4",$I$6:$I$32))*H22,0) -> 0 | J22: =H22 -> 0.003
C23: 건설하도급보증수수료 | E23: =ROUNDDOWN((SUMIF($G$6:$G$32,"A",$E$6:$E$32)+SUMIF($G$6:$G$32,"B1",$E$6:$E$32)+SUMIF($G$6:$G$32,"C4",$E$6:$E$32))*J23,0) -> 0 | G23: C29 | I23: =ROUNDDOWN((SUMIF($G$6:$G$32,"A",$I$6:$I$32)+SUMIF($G$6:$G$32,"B1",$I$6:$I$32)+SUMIF($G$6:$G$32,"C4",$I$6:$I$32))*H23,0) -> 0
C24: 소 계 | E24: =SUM(E13:E23) -> 0 | G24: C | I24: =E24 -> 0
B25: 계 | E25: =SUMIF($G$6:$G$32,"A",$E$6:$E$32)+SUMIF($G$6:$G$32,"B",$E$6:$E$32)+SUMIF($G$6:$G$32,"C",$E$6:$E$32) -> 0 | G25: X | I25: =E25 -> 0
A26: 일 반 관 리 비 | D26: ="(재+노+경)*"&H26*100&"%" -> (재+노+경)*6% | E26: =ROUNDDOWN((SUMIF($G$6:$G$32,"A",$E$6:$E$32)+SUMIF($G$6:$G$32,"B",$E$6:$E$32)+SUMIF($G$6:$G$32,"C",$E$6:$E$32))*J26,0) -> 0 | G26: D | H26: 0.06 | I26: =ROUNDDOWN((SUMIF($G$6:$G$32,"A",$I$6:$I$32)+SUMIF($G$6:$G$32,"B",$I$6:$I$32)+SUMIF($G$6:$G$32,"C",$I$6:$I$32))*H26,0) -> 0 | J26: =H26 -> 0.06
A27: 이 윤 | D27: ="(노+경+일)*"&H27*100&"%" -> (노+경+일)*10.51% | E27: =ROUNDDOWN((E12+E24+E26)*J27,0) -> 0 | G27: E | H27: 0.1051 | I27: =ROUND((SUMIF($G$6:$G$32,"B",$I$6:$I$32)+SUMIF($G$6:$G$32,"C",$I$6:$I$32)+SUMIF($G$6:$G$32,"D",$I$6:$I$32))*H27, 0)+K27 -> 0 | J27: =H27 -> 0.1051
A28: 폐 기 물 처 리 비 | E28: =집계표!L17 -> 0 | G28: L | I28: =E28 -> 0
A29: 총 원 가 | E29: =E25+E26+E27+E28 -> 0 | G29: F | I29: =SUM(I25:I28) -> 0
A30: 부 가 가 치 세 | D30: ="(총원가)*"&H30*100&"%" -> (총원가)*10% | E30: =E29*0.1 -> 0 | G30: H | H30: 0.1 | I30: =ROUNDDOWN((SUMIF($G$6:$G$32,"F",$I$6:$I$32))*H30,0) -> 0 | J30: =H30 -> 0.1
A31: 도 급 금 액 | E31: =INT(I31/1000)*1000 -> 0 | F31: 단수정리(천원) | G31: Y | I31: =ROUNDDOWN(SUMIF($G$6:$G$32,"F",$I$6:$I$32)+SUMIF($G$6:$G$32,"H",$I$6:$I$32),0) -> 0

Sheet 집계표
A1: 공 종 별 집 계 표
A3: 품 명 | B3: 규 격 | C3: 단위 | D3: 수량 | E3: 재 료 비 | G3: 노 무 비 | I3: 경 비 | K3: 합 계 | M3: 비 고 | N3: 공종코드 | O3: 변수 | P3: 상위공종 | Q3: 공종구분 | R3: 공종레벨 | S3: 공종소계 | T3: 원가계산서 연결금액
E4: 단 가 | F4: 금 액 | G4: 단 가 | H4: 금 액 | I4: 단 가 | J4: 금 액 | K4: 단 가 | L4: 금 액
A5: =물량내역서!A4 -> 1. 서울송파우체국 | F5: =SUM(F6:F8) -> 0 | H5: =SUM(H6:H8) -> 0 | J5: =SUM(J6:J8) -> 0 | L5: =F5+H5+J5 -> 0
A6: =물량내역서!A5 -> 01 가 설 공 사 | C6: 식 | D6: 1 | F6: =물량내역서!F8 -> 0 | H6: =물량내역서!H8 -> 0 | J6: =물량내역서!J8 -> 0 | K6: =E6+G6+I6 -> 0 | L6: =F6+H6+J6 -> 0 | N6: 010101 | P6: 0101 | R6: 3
A7: =물량내역서!A10 -> 02 외부화단 공사 | C7: 식 | D7: 1 | F7: =물량내역서!F25 -> 0 | H7: =물량내역서!H25 -> 0 | J7: =물량내역서!J25 -> 0 | K7: =E7+G7+I7 -> 0 | L7: =F7+H7+J7 -> 0 | N7: 010111 | P7: 0101 | R7: 3
A8: =물량내역서!A27 -> 03 본건물공사 | C8: 식 | D8: 1 | F8: =물량내역서!F34 -> 0 | H8: =물량내역서!H34 -> 0 | J8: =물량내역서!J34 -> 0 | K8: =E8+G8+I8 -> 0 | L8: =F8+H8+J8 -> 0 | N8: 010117 | P8: 0101 | R8: 3
A10: =물량내역서!A38 -> 2. 잠실2동우체국 | F10: =SUM(F11:F13) -> 0 | H10: =SUM(H11:H13) -> 0 | J10: =SUM(J11:J13) -> 0 | L10: =F10+H10+J10 -> 0
A11: =물량내역서!A40 -> 01 내부공사 | C11: 식 | D11: 1 | F11: =물량내역서!F58 -> 0 | H11: =물량내역서!H58 -> 0 | J11: =물량내역서!J58 -> 0 | K11: =E11+G11+I11 -> 0 | L11: =F11+H11+J11 -> 0 | N11: 010101 | P11: 0101 | R11: 3
A12: =물량내역서!A59 -> 02 365부스 설치공사 | C12: 식 | D12: 1 | F12: =물량내역서!F88 -> 0 | H12: =물량내역서!H88 -> 0 | J12: =물량내역서!J88 -> 0 | K12: =E12+G12+I12 -> 0 | L12: =F12+H12+J12 -> 0 | N12: 010111 | P12: 0101 | R12: 3
A13: =물량내역서!A90 -> 03 기 타 공 사 | C13: 식 | D13: 1 | F13: =물량내역서!F100 -> 0 | H13: =물량내역서!H100 -> 0 | J13: =물량내역서!J100 -> 0 | K13: =E13+G13+I13 -> 0 | L13: =F13+H13+J13 -> 0 | N13: 010117 | P13: 0101 | R13: 3
A15: <합 계> | F15: =F5+F10 -> 0 | H15: =H5+H10 -> 0 | J15: =J5+J10 -> 0 | L15: =F15+H15+J15 -> 0
A17: =물량내역서!A104 -> 3 폐 기 물 공 사 | C17: 식 | D17: 1 | F17: =물량내역서!F109 -> 0 | H17: =물량내역서!H109 -> 0 | J17: =물량내역서!J109 -> 0 | K17: =E17+G17+I17 -> 0 | L17: =물량내역서!L109 -> 0 | N17: 010117 | P17: 0101 | R17: 3

Sheet 물량내역서
A1: 서울송파우체국 등 2국 대수선공사 물량내역서
A2: 품 명 | B2: 규 격 | C2: 단위 | D2: 수량 | E2: 재 료 비 | G2: 노 무 비 | I2: 경 비 | K2: 합 계 | M2: 비 고
E3: 단 가 | F3: 금 액 | G3: 단 가 | H3: 금 액 | I3: 단 가 | J3: 금 액 | K3: 단 가 | L3: 금 액
A4: 1. 서울송파우체국
A5: 01 가 설 공 사
A6: 현장정리 | C6: M2 | D6: 60 | F6: 0 | H6: 0 | J6: 0 | K6: 0 | L6: 0
A7: 조립식말비계 | C7: EA | D7: 2 | F7: 0 | H7: 0 | J7: 0 | K7: 0 | L7: 0
A8: [ 소 계 ] | F8: 0 | H8: 0 | J8: 0 | L8: #REF!
A10: 02 외부화단 공사
A11: 터파기 | B11: 인력 | C11: M3 | D11: 33.4 | F11: 0 | H11: 0 | J11: 0 | K11: 0 | L11: 0
A12: 잔토터리(덤프) | B12: 10톤 | C12: 대 | D12: 3 | F12: 0 | H12: 0 | J12: 0 | K12: 0 | L12: 0
A13: 되메우기 | B13: 인력 | C13: M3 | D13: 3.4 | F13: 0 | H13: 0 | J13: 0 | K13: 0 | L13: 0
A14: 잡석깔기 | B14: 백호0.7M3＋콤펙트1.5톤 | C14: M3 | D14: 0.7 | F14: 0 | H14: 0 | J14: 0 | K14: 0 | L14: 0
A15: 자갈채우기 | B15: 40mm, #467 | C15: M3 | D15: 26.4 | F15: 0 | H15: 0 | J15: 0 | K15: 0 | L15: 0
A16: 토사소운반 | B16: 장내 , 인력 | C16: M3 | D16: 30 | F16: 0 | H16: 0 | J16: 0 | K16: 0 | L16: 0
A17: 합판거푸집 | B17: 4회 | C17: M2 | D17: 48.4 | F17: 0 | H17: 0 | J17: 0 | K17: 0 | L17: 0
A18: 철근가공조립 | C18: 톤 | D18: 0.44 | F18: 0 | H18: 0 | I18: 0 | J18: 0 | K18: 0 | L18: 0
A19: 철근콘크리트타설 | B19: 손비빔 | C19: M3 | D19: 3.1 | F19: 0 | H19: 0 | I19: 0 | J19: 0 | K19: 0 | L19: 0
A20: 아연도그레이팅 | B20: F-50*5 | C20: M2 | D20: 9.9 | F20: 0 | H20: 0 | J20: 0 | K20: 0 | L20: 0
A21: 아연도금앵글 | B21: 55*55*4 | C21: M | D21: 48.4 | F21: 0 | H21: 0 | J21: 0 | K21: 0 | L21: 0
A22: 자재소운반 | B22: 보통인부 | C22: 인 | D22: 9 | F22: 0 | H22: 0 | J22: 0 | K22: 0 | L22: 0
A23: 배수관연결 | C23: EA | D23: 2 | F23: 0 | H23: 0 | J23: 0 | K23: 0 | L23: 0
A24: 화단배수관 연결시공 | C24: 식 | D24: 1 | F24: 0 | H24: 0 | J24: 0 | K24: 0 | L24: 0
A25: [ 소 계 ] | F25: 0 | H25: 0 | J25: 0 | L25: 0
A27: 03 본건물공사
A28: 코킹철거 | C28: M | D28: 1768 | F28: 0 | H28: 0 | J28: 0 | K28: 0 | L28: 0
A29: 코킹 | B29: 6*6MM, 석재 | C29: M | D29: 1768 | F29: 0 | H29: 0 | J29: 0 | K29: 0 | L29: 0
A30: 외부면정리 | B30: 석재면 | C30: M2 | D30: 496 | F30: 0 | H30: 0 | J30: 0 | K30: 0 | L30: 0
A31: 천공 및 배관연결 | B31: 콘크리트스라브/용접 | C31: EA | D31: 2 | F31: 0 | H31: 0 | J31: 0 | K31: 0 | L31: 0
A32: 배수선홈통 | B32: 스텐, Φ 50.8, 1.2T | C32: EA | D32: 1 | F32: 0 | H32: 0 | J32: 0 | K32: 0 | L32: 0
A33: 에폭시충진 | C33: M | D33: 40.4 | F33: 0 | H33: 0 | J33: 0 | K33: 0 | L33: 0
A34: [ 소 계 ] | F34: 0 | H34: 0 | J34: 0 | L34: 0
A36: [ 합 계 ] | F36: 0 | H36: 0 | J36: 0 | L36: 0
A38: 2. 잠실2동우체국
A40: 01 내부공사
A41: 건축물현장정리 | B41: 준공청소 포함 | C41: M2 | D41: 32 | E41: 0 | F41: 0 | H41: 0 | I41: 0 | J41: 0 | K41: 0 | L41: 0
A42: 가설칸막이 | C42: M2 | D42: 15 | F42: 0 | H42: 0 | I42: 0 | J42: 0 | K42: 0 | L42: 0
A43: 칸막이철거 | C43: M2 | D43: 36 | F43: 0 | H43: 0 | J43: 0 | K43: 0 | L43: 0
A44: 부스철거/칸막이 | C44: M2 | D44: 21 | F44: 0 | H44: 0 | J44: 0 | K44: 0 | L44: 0
A45: 철제문철거 | B45: 0.9*2.1 | C45: M2 | D45: 3.76 | F45: 0 | H45: 0 | J45: 0 | K45: 0 | L45: 0
A46: 에어컨이전설치 | B46: 천정형 | C46: EA | D46: 2 | F46: 0 | H46: 0 | J46: 0 | K46: 0 | L46: 0
A47: 스텐크릴칸막이(640*2800) | B47: 100*100*1.5T, 스텐판 1.2T | C47: EA | D47: 2 | F47: 0 | H47: 0 | J47: 0 | K47: 0 | L47: 0
A48: 철제문 | B48: 1.8*2.1 | C48: EA | D48: 1 | F48: 0 | H48: 0 | J48: 0 | K48: 0 | L48: 0
A49: 도어첵크 | C49: EA | D49: 1 | F49: 0 | H49: 0 | J49: 0 | K49: 0 | L49: 0
A50: 도어록 | C50: EA | D50: 1 | F50: 0 | H50: 0 | J50: 0 | K50: 0 | L50: 0
A51: 금융카운터 | B51: 1800*1200*1030 | C51: EA | D51: 1 | F51: 0 | H51: 0 | J51: 0 | K51: 0 | L51: 0
A52: 장애인카운터 | B52: L=1200 | C52: EA | D52: 1 | F52: 0 | H52: 0 | J52: 0 | K52: 0 | L52: 0
A53: 카운터신설(기존) | B53: 기존 책상 이전 설치 인조대리석 교체 설치, 시트 부착 등 | C53: M | D53: 8 | F53: 0 | H53: 0 | J53: 0 | K53: 0 | L53: 0
A54: 카운터미드라인 신설 | B54: CI 작업 포함 | C54: M | D54: 3 | F54: 0 | H54: 0 | J54: 0 | K54: 0 | L54: 0
A55: 카운터미드라인 보수 | B55: 기존부위, 이전포함, CI 교체 작업 | C55: M | D55: 8 | F55: 0 | H55: 0 | J55: 0 | K55: 0 | L55: 0
F56: 0 | H56: 0 | J56: 0 | K56: 0 | L56: 0
F57: 0 | H57: 0 | J57: 0 | K57: 0 | L57: 0
A58: [ 합 계 ] | F58: 0 | H58: 0 | J58: 0 | L58: 0
A59: 02 365부스 설치공사 | B59: (기계실형 2구)
A60: 격자루바 및 루마사이트 | B60: 25*25*25*0.8T, 루마3T | C60: M2 | D60: 1 | F60: 0 | H60: 0 | J60: 0 | K60: 0 | L60: 0
A61: 환기그릴 설치 | B61: SUS 0.8T | C61: M2 | D61: 0.3 | F61: 0 | H61: 0 | J61: 0 | K61: 0 | L61: 0
A62: 상부BI 마감몰딩 | B62: SUS 1.2T 50*12*12 | C62: M | D62: 5.2 | F62: 0 | H62: 0 | J62: 0 | K62: 0 | L62: 0 | AK62: 010102556622858257529843EA11C97167 | AL62: 167
A63: 상부BI 마감판 | B63: EGI 1.6T THK30 | C63: M2 | D63: 1.2 | F63: 0 | H63: 0 | J63: 0 | K63: 0 | L63: 0 | AK63: 010102556622858257529843BE1C7CFC3F | AL63: 169
A64: 상부BI 칼라유리 취부 | B64: 칼라유리 5mm | C64: M2 | D64: 0.8 | F64: 0 | H64: 0 | J64: 0 | K64: 0 | L64: 0
A65: 아크릴 스카시 부착 | B65: 투명아크릴 10T/지정도장 | C65: SET | D65: 2 | F65: 0 | H65: 0 | J65: 0 | K65: 0 | L65: 0
A66: 부스상부 365간판 | B66: BACKPAINTGRASS위 아크릴 스카시 | C66: SET | D66: 2 | F66: 0 | H66: 0 | J66: 0 | K66: 0 | L66: 0
A67: 상부조명 BOX | B67: EGI 1.6T/5T아크릴판 840*610*200 | C67: SET | D67: 2 | F67: 0 | H67: 0 | J67: 0 | K67: 0 | L67: 0
A68: 상부조명BOX내 조명설치 | B68: LED형광램프 7W 2EA | C68: SET | D68: 2 | F68: 0 | H68: 0 | J68: 0 | K68: 0 | L68: 0
A69: 글자 안내판 | B69: BACKPAINTGRASS위 아크릴 스카시 | C69: M2 | D69: 0.4 | F69: 0 | H69: 0 | J69: 0 | K69: 0 | L69: 0
A70: 실사유리(700*500) | B70: EGI조명판/강화유리10T/유포지/아크릴5T | C70: SET | D70: 2 | F70: 0 | H70: 0 | J70: 0 | K70: 0 | L70: 0
A71: 기계주위 핸드레일 | B71: SUS POLYSHING 1.2T | C71: SET | D71: 2 | F71: 0 | H71: 0 | J71: 0 | K71: 0 | L71: 0
A72: 기기번호판제작설치 | B72: 투명아크릴5T 양면제작 | C72: SET | D72: 2 | F72: 0 | H72: 0 | J72: 0 | K72: 0 | L72: 0
A73: 몸체SIDE판넬(기계실형) | B73: EGI1.6T 70THK 710*2150 | C73: SET | D73: 2 | F73: 0 | H73: 0 | J73: 0 | K73: 0 | L73: 0
A74: 몸체 CENTER판넬(기계실형) | B74: EGI1.6T 70THK 710*2150 양면 | C74: SET | D74: 1 | F74: 0 | H74: 0 | J74: 0 | K74: 0 | L74: 0
A75: 메모리/안내꽃이 BOX | B75: SUS1.2T 430*270 | C75: SET | D75: 2 | F75: 0 | H75: 0 | J75: 0 | K75: 0 | L75: 0
... A79: CENTER기둥-강화유리 | B79: 12T*270*1200 강화유리 | C79: SET | D79: 1 | F79: 0 | H79: 0 | J79: 0 | K79: 0 | L79: 0
A80: 전면로고 | C80: 개 | D80: 2 | F80: 0 | H80: 0 | J80: 0 | K80: 0 | L80: 0
A81: 전면판넬 | B81: EGI1.6T 25THK 700*640/인테리어 필름 | C81: SET | D81: 2 | F81: 0 | H81: 0 | J81: 0 | K81: 0 | L81: 0
A82: 걸레받이 | B82: SUS1.2T 700*100*20 | C82: SET | D82: 2 | F82: 0 | H82: 0 | J82: 0 | K82: 0 | L82: 0
A83: 후면상부마감판(기계실형) | B83: EGI 1.6T 16.5THK 699*98 | C83: SET | D83: 2 | F83: 0 | H83: 0 | J83: 0 | K83: 0 | L83: 0
A84: 후면선반 | B84: EGI1.6T 20THK 759*300 소부도장 | C84: SET | D84: 2 | F84: 0 | H84: 0 | J84: 0 | K84: 0 | L84: 0
A85: 후면도어(기계형) | B85: EGI 1.6T 12THK 681*475 | C85: SET | D85: 2 | F85: 0 | H85: 0 | J85: 0 | K85: 0 | L85: 0
A86: 기계STOP받침(밀림방지대) | B86: EGI1.6T 250*100*30 | C86: SET | D86: 2 | F86: 0 | H86: 0 | J86: 0 | K86: 0 | L86: 0
A87: 부스상부 방범그릴 | B87: 스텐파이프 30*30*1.0 | C87: M2 | D87: 1.5 | F87: 0 | H87: 0 | J87: 0 | K87: 0 | L87: 0
A88: [ 소 계 ] | F88: 0 | H88: 0 | J88: 0 | L88: 0
A90: 03 기 타 공 사
A91: 365시안 띠장필름 부착 | B91: W100 | C91: M | D91: 7 | F91: 0 | H91: 0 | J91: 0 | K91: 0 | L91: 0
A92: 영업시간 안내 필름 | B92: 250*500 | C92: EA | D92: 1 | F92: 0 | H92: 0 | J92: 0 | K92: 0 | L92: 0
A93: 에버리치 필름 부착 | B93: 300*300 | C93: EA | D93: 1 | F93: 0 | H93: 0 | J93: 0 | K93: 0 | L93: 0
A94: 감시용카메라 녹화중 필름 부착 | B94: 70*200 | C94: EA | D94: 1 | F94: 0 | H94: 0 | J94: 0 | K94: 0 | L94: 0
F99: 0 | H99: 0 | J99: 0 | K99: 0 | L99: 0
A100: [ 소 계 ] | F100: 0 | H100: 0 | J100: 0 | L100: 0
A102: [ 합 계 ] | F102: 0 | H102: 0 | J102: 0 | L102: 0
A104: 3 폐 기 물 공 사
A105: 폐기물처리수수료 | B105: 혼합건설폐기물(소각 5%이하) | C105: TON | D105: 3.4 | F105: 0 | G105: 0 | H105: 0 | I105: 0 | J105: 0 | K105: 0 | L105: 0
A106: 건설폐기물상차비 - 혼합 | B106: 16톤압롤트럭(20m3) | C106: TON | D106: 3.4 | F106: 0 | G106: 0 | H106: 0 | I106: 0 | J106: 0 | K106: 0 | L106: 0
A107: 건설폐기물운반비 - 중간처리 | B107: 16톤압롤트럭 - 25km | C107: TON | D107: 3.4 | F107: 0 | G107: 0 | H107: 0 | I107: 0 | J107: 0 | K107: 0 | L107: 0
A109: [ 합 계 ] | F109: 0 | H109: 0 | J109: 0 | L109: 0
