Workbook

Sheet 원가계산서
B1: 공 사 원 가 계 산 서
B2: 공사명 : 서울양천우체국 대수선공사_건축
B3: 비 목 | E3: 금 액 | F3: 구 성 비 | G3: 비 고
A4: A1 | B4: 순 공 사 원 가 | C4: 재 료 비 | D4: 직 접 재 료 비 | E4: =TRUNC(공종별집계표!F5, 0) -> 0
A5: A2 | D5: 간 접 재 료 비
A6: A3 | D6: 작업설, 부산물(△)
A7: AS | D7: [ 소 계 ] | E7: =TRUNC(E4+E5-E6, 0) -> 0
A8: B1 | C8: 노 무 비 | D8: 직 접 노 무 비 | E8: =TRUNC(공종별집계표!H5, 0) -> 0
A9: B2 | D9: 간 접 노 무 비 | E9: =TRUNC(E8*0.096, 0) -> 0 | F9: 직접노무비 * 9.6% | G9: 최대 9.6%
A10: BS | D10: [ 소 계 ] | E10: =TRUNC(E8+E9, 0) -> 0
A11: C2 | C11: 경 비 | D11: 기 계 경 비 | E11: =TRUNC(공종별집계표!J5, 0) -> 0
A12: C4 | D12: 산 재 보 험 료 | E12: =TRUNC(E10*0.038, 0) -> 0 | F12: 노무비 * 3.8% | G12: 3.8% 법정
A13: C5 | D13: 고 용 보 험 료 | E13: =TRUNC(E10*0.0087, 0) -> 0 | F13: 노무비 * 0.87% | G13: 0.87% 법정
A14: CH | D14: 환 경 보 전 비 | E14: =TRUNC((E7+E8+E11)*0.003, 0) -> 0 | F14: (재료비+직노+기계경비) * 0.3% | G14: 0.3% 법정
A15: CG | D15: 기 타 경 비 | E15: =TRUNC((E7+E10)*0.0303, 0) -> 0 | F15: (재료비+노무비) * 3.03% | G15: 최대 3.03%
A16: CS | D16: [ 소 계 ] | E16: =SUM(E11:E15) -> 0
A17: S1 | B17: 계 | E17: =TRUNC(E7+E10+E16, 0) -> 0
A18: D1 | B18: 일 반 관 리 비 | E18: =TRUNC(E17*0.06, 0) -> 0 | F18: 계 * 6% | G18: 최대 6%
A19: D2 | B19: 이 윤 | E19: =TRUNC((E10+E16+E18)*0.1051, 0) -> 0 | F19: (노무비+경비+일반관리비) * 10.51% | G19: 최대 10.51%
B20: 폐 기 물 처 리 비 | E20: =공종별집계표!L8 -> 0
A21: D9 | B21: 공 급 가 액 | E21: =TRUNC(E17+E18+E19+E20, 0) -> 0
A22: DB | B22: 부 가 가 치 세 | E22: =TRUNC(E21*0.1, 0) -> 0 | F22: 공급가액 * 10%
A23: DH | B23: 도 급 액 | E23: =TRUNC(E21+E22, 0) -> 0
A24: S2 | B24: 총 공 사 비 | E24: =TRUNC(E23, -3) -> 0 | G24: 천원 미만 절사

Sheet 공종별집계표
A1: 공 종 별 집 계 표
A2: [ 서울양천우체국 대수선공사_건축 ]
A3: 품 명 | B3: 규 격 | C3: 단위 | D3: 수량 | E3: 재 료 비 | G3: 노 무 비 | I3: 경 비 | K3: 합 계 | M3: 비 고 | N3: 공종코드 | O3: 변수 | P3: 상위공종 | Q3: 공종구분 | R3: 공종레벨 | S3: 공종소계 | T3: 원가계산서 연결금액
E4: 단 가 | F4: 금 액 | G4: 단 가 | H4: 금 액 | I4: 단 가 | J4: 금 액 | K4: 단 가 | L4: 금 액
A5: 01 양천우체국 대수선공사 | D5: 1 | E5: =F6+F7+F8 -> 0 | F5: =E5*D5 -> 0 | G5: =H6+H7+H8 -> 0 | H5: =G5*D5 -> 0 | I5: =SUM(J6:J7) -> 0 | J5: =I5*D5 -> 0 | K5: =E5+G5+I5 -> 0 | L5: =F5+H5+J5 -> 0 | N5: 01 | R5: 1
A6: 0101 가 설 공 사 | D6: 1 | E6: =공종별내역서!F8 -> 0 | F6: =E6*D6 -> 0 | G6: =공종별내역서!H8 -> 0 | H6: =G6*D6 -> 0 | I6: =공종별내역서!J8 -> 0 | J6: =I6*D6 -> 0 | K6: =E6+G6+I6 -> 0 | L6: =F6+H6+J6 -> 0 | N6: 0101 | P6: 01 | R6: 2
A7: 0102 지붕및홈통공사 | D7: 1 | E7: =공종별내역서!F19 -> 0 | F7: =E7*D7 -> 0 | G7: =공종별내역서!H19 -> 0 | H7: =G7*D7 -> 0 | I7: =공종별내역서!J19 -> 0 | J7: =I7*D7 -> 0 | K7: =E7+G7+I7 -> 0 | L7: =F7+H7+J7 -> 0 | N7: 0102 | P7: 01 | R7: 2
A8: 0103 폐 기 물 처 리 | D8: 1 | E8: =공종별내역서!F26 -> 0 | F8: =E8*D8 -> 0 | G8: =공종별내역서!H26 -> 0 | H8: =G8*D8 -> 0 | I8: =공종별내역서!J26 -> 0 | J8: =I8*D8 -> 0 | K8: =E8+G8+I8 -> 0 | L8: =F8+H8+J8 -> 0 | N8: 0103 | P8: 01 | R8: 2
A29: [ 합 계 ] | F29: =F5 -> 0 | H29: =H5 -> 0 | J29: =J5 -> 0 | L29: =L5 -> 0

Sheet 공종별내역서
A1: =공종별집계표!A2 -> [ 서울양천우체국 대수선공사_건축 ]
A2: 품 명 | B2: 규 격 | C2: 단위 | D2: 수량 | E2: 재 료 비 | G2: 노 무 비 | I2: 경 비 | K2: 합 계 | M2: 비 고 | N2: 품목코드 | O2: 변수 | P2: 설정 | Q2: 공종코드 | R2: 일위 | S2: 단산 | T2: 자재 | U2: 손료적용 | V2: 손료저장 | W2: 적용율 | X2: JUK1 | Y2: JUK2 | Z2: JUK3 | AA2: JUK4 | AB2: JUK5 | AC2: JUK6 | AD2: JUK7 | AE2: JUK8 | AF2: JUK9 | AG2: JUK10 | AH2: JUK11 | AI2: JUK12 | AJ2: JUK13 | AK2: JUK14 | AL2: JUK15 | AM2: JUK16 | AN2: JUK17 | AO2: JUK18 | AP2: JUK19 | AQ2: JUK20 | AR2: 자재구분 | AS2: 공종구분 | AT2: 공종레벨 | AU2: 공종+자재 | AV2: 고유번호
E3: 단 가 | F3: 금 액 | G3: 단 가 | H3: 금 액 | I3: 단 가 | J3: 금 액 | K3: 단 가 | L3: 금 액
A4: 0101 가 설 공 사 | Q4: 0101
A5: 지붕마감재 철거 | B5: 해체재 재사용 안 함 | C5: M2 | D5: 265 | E5: 0 | F5: =TRUNC(E5*D5, 0) -> 0 | H5: =TRUNC(G5*D5, 0) -> 0 | I5: 0 | J5: =TRUNC(I5*D5, 0) -> 0 | K5: =TRUNC(E5+G5+I5, 0) -> 0 | L5: =TRUNC(F5+H5+J5, 0) -> 0 | N5: 5064C1829E7F7D2B034F74B3EE8647 | Q5: 0101 | R5: T | S5: F | T5: F | AU5: 01015064C1829E7F7D2B034F74B3EE8647 | AV5: 20
A6: 강관틀 비계매기 | B6: 3개월, 30m 이하 | C6: M2 | D6: 265 | F6: =TRUNC(E6*D6, 0) -> 0 | H6: =TRUNC(G6*D6, 0) -> 0 | I6: 0 | J6: =TRUNC(I6*D6, 0) -> 0 | K6: =TRUNC(E6+G6+I6, 0) -> 0 | L6: =TRUNC(F6+H6+J6, 0) -> 0 | N6: 5065C1895538222E035BB7851B546C | Q6: 0101 | R6: T | S6: F | T6: F | AU6: 01015065C1895538222E035BB7851B546C | AV6: 10
A8: [ 합 계 ] | F8: =SUM(F5:F7) -> 0 | H8: =SUM(H5:H7) -> 0 | J8: =SUM(J5:J7) -> 0 | L8: =SUM(L5:L7) -> 0 | N8: TOTAL
A11: 0102 지붕및홈통공사 | Q11: 0102
A12: 수밀코킹(실리콘) | B12: 5㎜*5㎜, 두겁석 | C12: M | D12: 100 | F12: =TRUNC(E12*D12, 0) -> 0 | H12: =TRUNC(G12*D12, 0) -> 0 | I12: 0 | J12: =TRUNC(I12*D12, 0) -> 0 | K12: =TRUNC(E12+G12+I12, 0) -> 0 | L12: =TRUNC(F12+H12+J12, 0) -> 0 | N12: 5065518C2ACCD821031B29B125242D | Q12: 0102 | R12: T | S12: F | T12: F | AU12: 01025065518C2ACCD821031B29B125242D | AV12: 19
A13: 트랜치/내부 | B13: 아연도그레이팅, W400. I-25*5*3t | C13: M | D13: 30 | F13: =TRUNC(E13*D13, 0) -> 0 | H13: =TRUNC(G13*D13, 0) -> 0 | J13: =I13*D13 -> 0 | K13: =TRUNC(E13+G13+I13, 0) -> 0 | L13: =TRUNC(F13+H13+J13, 0) -> 0 | N13: 50657181500BC62E03D6233728ADE4 | Q13: 0102 | R13: T | S13: F | T13: F | AU13: 010250657181500BC62E03D6233728ADE4 | AV13: 11
A14: 폴리카보네이트(골판) 지붕잇기 | B14: 2.5mm 고정부코킹, 부속철물등 포함 | C14: M2 | D14: 265 | F14: =TRUNC(E14*D14, 0) -> 0 | H14: =TRUNC(G14*D14, 0) -> 0 | J14: =I14*D14 -> 0 | K14: =TRUNC(E14+G14+I14, 0) -> 0 | L14: =TRUNC(F14+H14+J14, 0) -> 0 | N14: 506521895F640F2703672767F7435F | Q14: 0102 | R14: T | S14: F | T14: F | AU14: 0102506521895F640F2703672767F7435F | AV14: 16
A15: 스테인리스핸드레일 | B15: D50.8+25.4*1.5t, H:900 | C15: M | D15: 25 | F15: =TRUNC(E15*D15, 0) -> 0 | H15: =TRUNC(G15*D15, 0) -> 0 | J15: =I15*D15 -> 0 | K15: =TRUNC(E15+G15+I15, 0) -> 0 | L15: =TRUNC(F15+H15+J15, 0) -> 0 | N15: 506571811AB9412903957E16F03368 | Q15: 0102 | R15: T | S15: F | T15: F | AU15: 0102506571811AB9412903957E16F03368 | AV15: 21
A16: 앵커고정식난간설치 | C16: M | D16: 25 | F16: =TRUNC(E16*D16, 0) -> 0 | H16: =TRUNC(G16*D16, 0) -> 0 | J16: =TRUNC(I16*D16, 0) -> 0 | K16: =TRUNC(E16+G16+I16, 0) -> 0 | L16: =TRUNC(F16+H16+J16, 0) -> 0 | N16: 506571811A8C0B2C03C212D96B9AC8 | Q16: 0102 | R16: T | S16: F | T16: F | AU16: 0102506571811A8C0B2C03C212D96B9AC8 | AV16: 7
A17: 잡자재비 | B17: 인건비 5% | C17: 식 | D17: 1 | E17: =H19*5% -> 0 | F17: =TRUNC(E17*D17, 0) -> 0 | K17: =TRUNC(E17+G17+I17, 0) -> 0 | L17: =TRUNC(F17+H17+J17, 0) -> 0
A19: [ 합 계 ] | F19: =SUM(F12:F18) -> 0 | H19: =SUM(H12:H18) -> 0 | J19: =SUM(J12:J18) -> 0 | L19: =SUM(L12:L18) -> 0 | N19: TOTAL
A22: 0103 폐 기 물 처 리 | Q22: 0103
A23: 건설폐기물 -중간처리 | B23: 건설(건축)폐자재 | C23: TON | D23: 4.5 | E23: 0 | F23: =TRUNC(E23*D23, 0) -> 0 | G23: 0 | H23: =TRUNC(G23*D23, 0) -> 0 | J23: =TRUNC(I23*D23, 0) -> 0 | K23: =TRUNC(E23+G23+I23, 0) -> 0 | L23: =TRUNC(F23+H23+J23, 0) -> 0 | N23: 5065C1890EFB652E03C0B5D0FF7515 | Q23: 0103 | R23: T | S23: F | T23: F | AU23: 01035065C1890EFB652E03C0B5D0FF7515 | AV23: 13
A24: 건설폐기물 -수집,운반비 | B24: 15톤, 30km | C24: TON | D24: 4.5 | J24: =TRUNC(I24*D24, 0) -> 0 | K24: =TRUNC(E24+G24+I24, 0) -> 0 | L24: =TRUNC(F24+H24+J24, 0) -> 0
A26: [ 합 계 ] | F26: =SUM(F23:F25) -> 0 | H26: =SUM(H23:H25) -> 0 | J26: =SUM(J23:J25) -> 0 | L26: =SUM(L23:L25) -> 0 | N26: TOTAL
