Workbook
Name _: #REF!
Name _: #REF!
Name _____SS1: #REF!
Name _____SS2: #REF!
Name _____TC1: #REF!
Name _____TC2: #REF!
Name _____WC1: #REF!
Name ____A1: #REF!
Name ____dia300: [1]대로근거!#REF!
Name ____dia350: [1]대로근거!#REF!
Name ____hun1: [2]설계조건!#REF!
Name ____hun2: [2]설계조건!#REF!
Name ____LP2: #REF!
Name ____mcv1: #REF!
Name ____mcv2: #REF!
Name ____mcv3: #REF!
Name ____mcv4: #REF!
Name ____mcv5: #REF!
Name ____mhw1: #REF!
Name ____mvw1: #REF!
Name ____pa1: #REF!
Name ____pa2: #REF!
Name ____pe22: #REF!
Name ____qs1: [2]설계조건!#REF!
Name ____qs12: [2]설계조건!#REF!
Name ____qs2: [2]설계조건!#REF!
Name ____qs22: [2]설계조건!#REF!
Name ____RD1: #REF!
Name ____RD2: #REF!
Name ____RD3: #REF!
Name ____RD4: #REF!
Name ____RD5: #REF!
Name ____RD6: #REF!
Name ____RD7: #REF!
Name ____RL1: #REF!
Name ____RL2: #REF!
Name ____RL3: #REF!
Name ____RL4: #REF!
Name ____RL5: #REF!
Name ____RL6: #REF!
Name ____RL7: #REF!
Name ____s1: #REF!
Name ____sp1: #REF!
Name ____sp2: #REF!
Name ____sp3: #REF!
Name ____SS1: #REF!
Name ____SS2: #REF!
Name ____TC1: #REF!
Name ____TC2: #REF!
Name ____tdl2: #REF!
Name ____teb1: #REF!
Name ____teb2: #REF!
Name ____teb3: #REF!
Name ____Ted1: #REF!
Name ____tll2: #REF!
Name ____tri11: #REF!
Name ____tri12: #REF!
Name ____tri13: #REF!
Name ____tri14: #REF!
Name ____tri15: #REF!

Sheet 표지
A15: <서울지방우정청 정보화시설 청사이전 건축공사>
A24: =TODAY() -> 42058

Sheet 원가계산서
A1: 공 사 원 가 계 산 서
A2: 공사명 : 서울지방우정청 정보화시설 청사이전 건축공사
A3: 비 목 | D3: 금 액 | E3: 구 성 비 | F3: 비 고
A4: 순 공 사 원 가 | B4: 재 료 비 | C4: 직 접 재 료 비 | D4: =집계표!E24 -> 0
C5: 간 접 재 료 비
C6: 작업설, 부산물(△)
C7: [ 소 계 ] | D7: =TRUNC(D4+D5-D6, 0) -> 0
B8: 노 무 비 | C8: 직 접 노 무 비 | D8: =집계표!F24 -> 0
C9: 간 접 노 무 비 | D9: =TRUNC(D8*0.091, 0) -> 0 | E9: 직접노무비 * 9.1%
C10: [ 소 계 ] | D10: =TRUNC(D8+D9, 0) -> 0
B11: 경 비 | C11: 산 출 경 비 | D11: =집계표!G24 -> 0
C12: 산 재 보 험 료 | D12: =TRUNC(D10*0.038, 0) -> 0 | E12: 노무비 * 3.8%
C13: 고 용 보 험 료 | D13: =TRUNC(D10*0.0087, 0) -> 0 | E13: 노무비 * 0.87%
C14: 건 강 보 험 료 | D14: =TRUNC(D8*0.017, 0)*0 -> 0 | E14: 직접노무비 * 1.7% | F14: 1개월이상 공사 적용
C15: 연 금 보 험 료 | D15: =TRUNC(D8*0.0249, 0)*0 -> 0 | E15: 직접노무비 * 2.49% | F15: 1개월이상 공사 적용
C16: 노인장기요양보험료 | D16: =TRUNC(D14*0.0655, 0) -> 0 | E16: 건강보험료 * 6.55% | F16: 1개월이상 공사 적용
C17: 퇴직공제부금비 | D17: =TRUNC(D8*0.023, 0)*0 -> 0 | E17: 직접노무비 * 2.3% | F17: 3억 이상 적용
C18: 산업안전보건관리비 | D18: =TRUNC((D4+D8)*0.0293, 0) -> 0 | E18: (재+직노+관급자재)*2.93%
C19: 기 타 경 비 | D19: =TRUNC((D4+D10)*0.0405, 0) -> 0 | E19: (재료비+노무비) * 4.05%
C20: 환 경 보 전 비 | D20: =TRUNC((D4+D8+D11)*0.003, 0) -> 0 | E20: (재+직노+산경)*0.3%
C21: [ 소 계 ] | D21: =TRUNC(D11+D12+D13+D14+D15+D16+D17+D18+D19+D20, 0) -> 0
B22: [ 합 계 ] | D22: =TRUNC(D7+D10+D21, 0) -> 0
A23: 일 반 관 리 비 | D23: =TRUNC((D4+D10+D21)*0.06, 0) -> 0 | E23: (재료비+노무비+경비) * 6.0%
A24: 이 윤 | D24: =TRUNC((D10+D21+D23)*0.1168, 0) -> 0 | E24: (노무비+경비+일반관리비) * 11.68%
A25: 폐 기 물 처 리 비 | D25: =집계표!H23 -> 0
A26: 총 원 가 | D26: =TRUNC(D22+D23+D24+D25, -4) -> 0 | F26: 만원미만 절사
A27: 부 가 가 치 세 | D27: =TRUNC(D26*0.1, 0) -> 0 | E27: 공급가액 * 10%
A28: 도 급 액 | D28: =D26+D27 -> 0

Sheet 집계표
A2: 집 계 표
A4: <서울지방우정청 정보화시설 청사이전 건축공사>
A6: 구분 | B6: 품명 | C6: 단위 | D6: 수량 | E6: 재료비 | F6: 노무비 | G6: 경비 | H6: 합계 | I6: 비고
A7: 1. 건축공사 | B7: =물량내역서!A8 -> 1. 건축공사
B8: =물량내역서!A11 -> 가.가설공사 | C8: 식 | D8: 1 | E8: =물량내역서!F18 -> 0 | F8: =물량내역서!H18 -> 0 | G8: =물량내역서!J18 -> 0 | H8: =SUM(E8:G8) -> 0
B9: =물량내역서!A19 -> 나.벽체공사 | C9: 식 | D9: 1 | E9: =물량내역서!F27 -> 0 | F9: =물량내역서!H27 -> 0 | G9: =물량내역서!J27 -> 0 | H9: =SUM(E9:G9) -> 0
B10: =물량내역서!A28 -> 다.바닥공사 | C10: 식 | D10: 1 | E10: =물량내역서!F41 -> 0 | F10: =물량내역서!H41 -> 0 | G10: =물량내역서!J41 -> 0 | H10: =SUM(E10:G10) -> 0
B11: 소계 | E11: =SUM(E8:E10) -> 0 | F11: =SUM(F8:F10) -> 0 | G11: =SUM(G8:G10) -> 0 | H11: =SUM(H8:H10) -> 0
A12: 2. 교육실공사 | B12: =물량내역서!A43 -> 2. 교육장공사
B13: =물량내역서!A46 -> 가. 바닥 공사 | C13: 식 | D13: 1 | E13: =물량내역서!F49 -> 0 | F13: =물량내역서!H49 -> 0 | G13: =물량내역서!J47 -> 0 | H13: =SUM(E13:G13) -> 0
B14: =물량내역서!A50 -> 나. 벽체 공사 | C14: 식 | D14: 1 | E14: =물량내역서!F53 -> 0 | F14: =물량내역서!H53 -> 0 | G14: =물량내역서!J51 -> 0 | H14: =SUM(E14:G14) -> 0
B15: 소계 | E15: =SUM(E13:E14) -> 0 | F15: =SUM(F13:F14) -> 0 | G15: =SUM(G13:G14) -> 0 | H15: =SUM(H13:H14) -> 0
A16: 3. 천장공사 | B16: =물량내역서!A55 -> 3. 천장공사
B17: =물량내역서!A58 -> 가. 천장 철거 공사 | C17: 식 | D17: 1 | E17: =물량내역서!F61 -> 0 | F17: =물량내역서!H61 -> 0 | G17: =물량내역서!J61 -> 0 | H17: =SUM(E17:G17) -> 0
B18: =물량내역서!A62 -> 나. 천장 텍스 공사 | C18: 식 | D18: 1 | E18: =물량내역서!F65 -> 0 | F18: =물량내역서!H65 -> 0 | G18: =물량내역서!J65 -> 0 | H18: =SUM(E18:G18) -> 0
B19: 소계 | E19: =SUM(E17:E18) -> 0 | F19: =SUM(F17:F18) -> 0 | G19: =SUM(G17:G18) -> 0 | H19: =SUM(H17:H18) -> 0
A20: 4. 폐기물처리 (합계제외) | B20: 4. 폐기물처리
B21: =물량내역서!A70 -> 가. 천장 철거 및 가설공사 | C21: 식 | D21: 1 | E21: =물량내역서!F74 -> 0 | F21: =물량내역서!H74 -> 0 | G21: =물량내역서!J74 -> 0 | H21: =SUM(E21:G21) -> 0
B23: 소계 | E23: =SUM(E21:E22) -> 0 | F23: =SUM(F21:F22) -> 0 | G23: =SUM(G21:G22) -> 0 | H23: =SUM(H21:H22) -> 0
A24: 합 계 | E24: =SUM(E11,E15,E19) -> 0 | F24: =SUM(F11,F15,F19) -> 0 | G24: =SUM(G11,G15,G19) -> 0 | H24: =SUM(H19,,H15,H11,) -> 0

Sheet 물량내역서
A2: 물량내역서(건축공사)
A4: =집계표!A4 -> <서울지방우정청 정보화시설 청사이전 건축공사>
A6: 품명 | B6: 규격 | C6: 단위 | D6: 수량 | E6: 재료비 | G6: 노무비 | I6: 경비 | K6: 합계 | L6: 비고
E7: 단가 | F7: 금액 | G7: 단가 | H7: 금액 | I7: 단가 | J7: 금액
A8: 1. 건축공사
A10: 1.1 7층
A11: 가.가설공사 | E11: 0 | G11: 0
A12: 먹메김 | B12: 사무소(연면적m2당) | C12: M2 | D12: 330 | K12: =J12+H12+F12 -> 0 | L12: 일 위 1 호
A13: 이동식강관말비계 | B13: 3개월,1단(2M) | C13: 대 | D13: 15 | K13: =J13+H13+F13 -> 0 | L13: 일 위 2 호
A14: 소운반 | B14: 인력 | C14: M2 | D14: 330 | K14: =J14+H14+F14 -> 0 | L14: 일 위 3 호
A15: 덤프트럭운반(25km) | B15: q=(t/rt)*l | C15: ton | D15: 23 | K15: =J15+H15+F15 -> 0 | L15: 일 위 4 호
A16: 건축물 보양 | B16: 기타부문 | C16: M2 | D16: 330 | K16: =J16+H16+F16 -> 0 | L16: 일 위 5 호
A17: 건축물 현장정리 | B17: 보수공사(준공청소포함) | C17: M2 | D17: =D16 -> 330 | K17: =J17+H17+F17 -> 0 | L17: 일 위 6 호
A18: 소 계 | E18: 0 | F18: =SUM(F12:F17) -> 0 | G18: 0 | H18: =SUM(H12:H17) -> 0 | J18: =SUM(J12:J17) -> 0 | K18: =SUM(K12:K17) -> 0
A19: 나.벽체공사 | E19: 0 | G19: 0
A20: SGP 칸막이(IDF실 포함) | B20: SGP칸막이 A타입 | C20: M2 | D20: 236.52 | K20: =J20+H20+F20 -> 0 | L20: 자재단가대비표 참고 | M20: 636p
A21: SGP 칸막이 설치 | B21: 인력(일반석고2PLY+STUD+방수석고2PLY) | C21: M2 | D21: 236.52 | K21: =J21+H21+F21 -> 0 | L21: 일 위 9 호 | M21: 634p
A22: 자동문 | B22: 산업용 single door sliding(900x2400) | C22: 조 | D22: 1 | K22: =J22+H22+F22 -> 0 | L22: 자재단가대비표 참고 | M22: 557p
A23: 방화도어 | B23: 외도어 (900x2100) | C23: 조 | D23: 4 | K23: =J23+H23+F23 -> 0 | L23: 자재단가대비표 참고 | M23: 563p
A24: 방화도어 | B24: 양개도어 (1800x2100) | C24: 조 | D24: 1 | K24: =J24+H24+F24 -> 0 | L24: 자재단가대비표 참고 | M24: 563p
A25: 방화도어 설치 | B25: 인력 | C25: 인 | D25: 10 | K25: =J25+H25+F25 -> 0 | L25: 일 위 10 호
A26: 로고 붙임 | B26: 아크릴 (1200x1800x15T) | C26: 조 | D26: 3 | K26: =J26+H26+F26 -> 0 | L26: 자재단가대비표 참고 | M26: 1334p
A27: 소 계 | E27: 0 | F27: =SUM(F20:F26) -> 0 | G27: 0 | H27: =SUM(H20:H26) -> 0 | J27: =SUM(J20:J26) -> 0 | K27: =SUM(K20:K26) -> 0
A28: 다.바닥공사 | E28: 0 | G28: 0
A29: 바닥철거 | B29: 비닐타일 | C29: M2 | D29: 330 | K29: =J29+H29+F29 -> 0 | L29: 일 위 11 호
A30: 바탕고르기 | B30: 모르타르바름 (바닥)-24mm | C30: M2 | D30: 247.5 | K30: =J30+H30+F30 -> 0 | L30: 일 위 12 호
A31: 대전방지에폭시 코팅 | B31: 유니폭시 대전방지-2회 | C31: M2 | D31: 247.5 | K31: =J31+H31+F31 -> 0 | L31: 일 위 13 호
A32: ACCESS FLOOR WOOD | B32: STEEL PANEL (600x600x36T) | C32: M2 | D32: 247.5 | K32: =J32+H32+F32 -> 0 | L32: 자재단가대비표 참고 | M32: 623p
A33: ACCESS FLOOR WOOD | B33: 설치 | C33: M2 | D33: 93.8 | K33: =J33+H33+F33 -> 0 | L33: 자재단가대비표 참고 | M33: 622p
A34: ACCESS FLOOR WOOD (해체) | B34: 마루틀 및 마루널 | C34: M2 | D34: 155.9 | K34: =J34+H34+F34 -> 0 | L34: 광화문우체국 6층,8층 교육장 재사용. 해체설치 인건비.
A35: ACCESS FLOOR WOOD (설치) | C35: M2 | D35: 155.9 | K35: =J35+H35+F35 -> 0 | L35: 해체 후 설치시 부자재
A36: 시스템박스 | B36: 콘센트2구1개,랜2구1개 | C36: EA | D36: 28 | K36: =J36+H36+F36 -> 0 | L36: 일 위 14 호
A37: 경사로(W1200*D1200*H200) | B37: STEEL | C37: M2 | D37: 2 | K37: =J37+H37+F37 -> 0 | L37: 자재단가대비표 참고 | M37: 61p
A38: 경사로 설치 | B38: 인력 | C38: 인 | D38: 4 | K38: =J38+H38+F38 -> 0 | L38: 일 위 15 호
A39: 전도성타일(600*600*2T) | B39: LG 하우시스 프리미엄 전도성 | C39: M2 | D39: 164.93 | K39: =J39+H39+F39 -> 0 | L39: 자재단가대비표 참고 | M39: 612p
A40: 비닐타일 깔기 | B40: 비닐타일 | C40: M2 | D40: 164.93 | K40: =J40+H40+F40 -> 0 | L40: 일 위 16 호
A41: 소 계 | E41: 0 | F41: =SUM(F29:F40) -> 0 | H41: =SUM(H29:H40) -> 0 | I41: =SUM(I29:I40) -> 0 | J41: =SUM(J29:J40) -> 0 | K41: =SUM(K29:K40) -> 0
A43: 2. 교육장공사
A45: 2.1 7층
A46: 가. 바닥 공사
...

Sheet 일위대가목록
A1: 일 위 대 가 표 목 록
A3: 호 표 | B3: 품 명 | C3: 규 격 | D3: 단위 | E3: 수량 | F3: 재 료 비 | H3: 노 무 비 | J3: 경 비 | L3: 합 계 | N3: 비 고
F4: 단 가 | G4: 금 액 | H4: 단 가 | I4: 금 액 | J4: 단 가 | K4: 금 액 | L4: 단 가 | M4: 금 액 | O4: 손료요율 | P4: 손료구분 | Q4: 적용구분 | R4: 합계구분
A5: 일위 1호 | B5: 먹메김 | C5: 사무소(연면적m2당) | D5: M2 | E5: 330
A6: 일위 2호 | B6: 이동식강관말비계 | C6: 3개월,1단(2M) | D6: 대 | E6: 15
A7: 일위 3호 | B7: 소운반 | C7: 인력 | D7: M2 | E7: 330
A8: 일위 4호 | B8: 덤프트럭운반(25km) | C8: q=(t/rt)*l | D8: ton | E8: 23
A9: 일위 5호 | B9: 건축물 보양 | C9: 기타부문 | D9: M2 | E9: 330
A10: 일위 6호 | B10: 건축물 현장정리 | C10: 보수공사 | D10: M2 | E10: 330
A11: 일위 7호 | B11: 폐기물 상차 | C11: 인력 | D11: ton | E11: 48
A12: 일위 8호 | B12: 준공청소 | C12: 인력 | D12: M2 | E12: 330
A13: 일위 9호 | B13: SGP 칸막이 설치 | C13: 인력 | D13: M2 | E13: 236.52
A14: 일위 10호 | B14: 방화도어 설치 | C14: 인력 | D14: 인 | E14: 10
A15: 일위 11호 | B15: 바닥철거 | C15: 비닐타일 | D15: M2 | E15: 330
A16: 일위 12호 | B16: 바탕고르기 | C16: 모르타르바름 (바닥) | D16: M2 | E16: 247.5
... A26: 일위 22호 | B26: 경량 천정 철골틀 설치 | C26: T-Bar식 | D26: M2 | E26: 330
M29: =G29+I29+K29 -> 0
M30: =G30+I30+K30 -> 0
M31: =G31+I31+K31 -> 0
M32: =G32+I32+K32 -> 0
M33: =G33+I33+K33 -> 0
M34: =G34+I34+K34 -> 0
M35: =G35+I35+K35 -> 0
M36: =G36+I36+K36 -> 0
M37: =G37+I37+K37 -> 0
M38: =G38+I38+K38 -> 0
M39: =G39+I39+K39 -> 0
M40: =G40+I40+K40 -> 0
... M46: =G46+I46+K46 -> 0

Sheet 일위대가표
A1: 일 위 대 가 명 세 서
A3: 품 명 | B3: 규 격 | C3: 단위 | D3: 수 량 | E3: 재 료 비 | G3: 노 무 비 | I3: 경 비 | K3: 합 계 | M3: 비 고
E4: 단 가 | F4: 금 액 | G4: 단 가 | H4: 금 액 | I4: 단 가 | J4: 금 액 | K4: 단 가 | L4: 금 액
A5: 일위 1호 먹메김 | B5: 사무소 | C5: m2
A6: 건축목공 | B6: 거푸집 | C6: 인 | D6: 0.018
A7: 건축목공 | B7: 구조부 | C7: 인 | D7: 0.006
A8: 건축목공 | B8: 마무리 | C8: 인 | D8: 0.0255
A9: 합 계
A10: 일위 2호 이동식강관말비계 | B10: 3개월,1단(2m) | C10: 1대
A11: 비계기본틀(기둥) | B11: 1.2*1.7 ( H=1700 * W=1219 ) | C11: EA | D11: 0.12
A12: 가새 | B12: 1.2*1.9 | C12: EA | D12: 0.24
A13: 수평띠장 | B13: L=1829 | C13: EA | D13: 0.24
A14: 손잡이기둥 | C14: EA | D14: 0.24
A15: 비계안정장치(손잡이) | B15: L=1229 | C15: EA | D15: 0.12
A16: 비계안정장치(손잡이) | B16: L=1829 | C16: EA | D16: 0.24
A17: 바퀴 | B17: L=1829 | C17: EA | D17: 0.36
A18: 쟈키 | B18: L=1829 | C18: EA | D18: 0.36
A19: 판재 | B19: 외송 일반(㎥) | C19: M3 | D19: 0.0315
A20: 보통인부 | C20: 인 | D20: 0.42
A21: 합 계
A22: 일위 3호 소운반 | B22: 인력 | C22: m2
A23: 보통인부 | C23: 인 | D23: 0.1
A24: 합 계
A25: 일위 4호 덤프트럭운반(25km) | B25: q=(t/rt)*l | C25: TON
A26: 덤프트럭 | B26: 8.0톤 | C26: hr | D26: 0.4784
A27: 덤프트럭 | B27: 8.0톤 | C27: hr | D27: 0.4784
A28: 덤프트럭 | B28: 8.0톤 | C28: hr | D28: 0.4784
A29: 합 계
A30: 일위 5호 건축물 보양 | B30: 기타부문(보양면적 m2) | C30: m2
A31: 목재 | C31: m3 | D31: 0.007
A32: 못 | B32: n50 | C32: kg | D32: 0.02
A33: 건축목공 | C33: 인 | D33: 0.03
A34: 합 계
A35: 일위 6호 건축물현장정리 | B35: 목조 | C35: M2
A36: 보통인부 | C36: 인 | D36: 0.15
A37: 합 계
A38: 일위 7호 폐기물상차 | B38: 인력 | C38: TON
A39: 보통인부 | C39: 인 | D39: 0.1
A40: 합 계
A41: 일위 8호 준공청소 | B41: 인력 | C41: m2
...
