Workbook

Sheet 원가계산서
A1: 공 사 원 가 계 산 서
A2: 공사명 : 서울지방우정청 이전공사(건축)
A3: 구 분 비 목 | D3: 구 성 비 | E3: 금 액 | F3: 비 고
A5: 순 공 사 원 가 | B5: 재료비 | C5: 직 접 재 료 비 | E5: =집계표!F24 -> 0 | G5: A1 | I5: =E5 -> 0
C6: 간 접 재 료 비 | E6: =ROUNDDOWN(SUMIF($G$5:$G$26,"A1",$E$5:$E$26)*J6,0) -> 0 | G6: A2 | I6: =E6 -> 0
C7: 작업설.부산물 등(△) | G7: A3 | I7: =E7 -> 0
C8: 소 계 | E8: =SUM(E5:E6)-ABS(SUMIF($G$5:$G$26,"A3",$E$5:$E$26)) -> 0 | G8: A | I8: =E8 -> 0
B9: 노무비 | C9: 직 접 노 무 비 | E9: =집계표!H24 -> 0 | G9: B1 | I9: =E9 -> 0
C10: 간 접 노 무 비 | D10: ="직.노*"&H10*100&"%" -> 직.노*9.1% | E10: =TRUNC(E9*0.091) -> 0 | F10: 최대 9.1% | G10: B2 | H10: 0.091 | I10: =ROUNDDOWN(SUMIF($G$5:$G$26,"B1",$I$5:$I$26)*H10,0) -> 0 | J10: 0.091
C11: 소 계 | E11: =SUM(E9:E10) -> 0 | G11: B | I11: =E11 -> 0
B12: 경 비 | C12: 기 계 경 비 | E12: =집계표!J24 -> 0 | G12: C4 | I12: =E12 -> 0
C13: 산 재 보 험 료 | D13: ="(노)*"&H13*100&"%" -> (노)*3.8% | E13: =TRUNC(E11*0.038) -> 0 | F13: 3.8% 법정 | G13: C10 | H13: 0.038 | I13: =ROUNDDOWN((SUMIF($G$5:$G$26,"B",$I$5:$I$26))*H13,0) -> 0 | J13: 0.038
C14: 고 용 보 험 료 | D14: ="(노)*"&H14*100&"%" -> (노)*0.87% | E14: =TRUNC(E11*0.0087) -> 0 | F14: 0.87% 법정 | G14: C11 | H14: 0.0087 | I14: =ROUNDDOWN((SUMIF($G$5:$G$26,"B",$I$5:$I$26))*H14,0) -> 0 | J14: 0.0087
C15: 산업안전 보건관리비 | D15: ="(재+직.노)*"&H15*100&"%" -> (재+직.노)*2.93% | E15: =TRUNC((E8+E9)*0.0293) -> 0 | F15: 2.93% 법정 | G15: C15 | H15: 0.0293 | I15: =ROUNDDOWN((SUMIF($G$5:$G$26,"A",$I$5:$I$26)+SUMIF($G$5:$G$26,"B1",$I$5:$I$26))*H15,0) -> 0 | J15: 0.0293
C16: 기 타 경 비 | D16: ="(재+노)*"&H16*100&"%" -> (재+노)*4.05% | E16: =TRUNC((E8+E11)*0.0405) -> 0 | F16: 최대 4.05% | G16: C26 | H16: 0.0405 | I16: =ROUNDDOWN((SUMIF($G$5:$G$26,"A",$I$5:$I$26)+SUMIF($G$5:$G$26,"B",$I$5:$I$26))*H16,0) -> 0 | J16: 0.0405
C17: 환 경 보 전 비 | D17: ="(재+직.노+기.경)*"&H17*100&"%" -> (재+직.노+기.경)*0.3% | E17: =TRUNC((E8+E9+E12)*0.003) -> 0 | F17: 0.3% 법정 | G17: C28 | H17: 0.003 | I17: =ROUNDDOWN((SUMIF($G$5:$G$26,"A",$I$5:$I$26)+SUMIF($G$5:$G$26,"B1",$I$5:$I$26)+SUMIF($G$5:$G$26,"C4",$I$5:$I$26))*H17,0) -> 0 | J17: 0.003
C18: 소 계 | E18: =SUM(E12:E17) -> 0 | G18: C | I18: =E18 -> 0
B19: 계 | E19: =E8+E11+E18 -> 0 | G19: X | I19: =E19 -> 0
A20: 일 반 관 리 비 | D20: ="(재+노+경)*"&H20*100&"%" -> (재+노+경)*6% | E20: =TRUNC((E8+E11+E18)*0.06) -> 0 | F20: 최대 6% | G20: D | H20: 0.06 | I20: =ROUNDDOWN((SUMIF($G$5:$G$26,"A",$I$5:$I$26)+SUMIF($G$5:$G$26,"B",$I$5:$I$26)+SUMIF($G$5:$G$26,"C",$I$5:$I$26))*H20,0) -> 0 | J20: 0.06
A21: 이 윤 | D21: ="(노+경+일)*"&H21*100&"%" -> (노+경+일)*11.68% | E21: =TRUNC((E11+E18+E20)*0.1168) -> 0 | F21: 최대 11.68% | G21: E | H21: 0.1168 | I21: =ROUND((SUMIF($G$5:$G$26,"B",$I$5:$I$26)+SUMIF($G$5:$G$26,"C",$I$5:$I$26)+SUMIF($G$5:$G$26,"D",$I$5:$I$26))*H21, 0)+K21 -> 0 | J21: 0.1168
A22: 폐 기 물 처 리 비 | E22: =집계표!L17 -> 0 | G22: L | I22: =E22 -> 0
A23: 총 원 가 | E23: =SUM(E19:E22) -> 0 | G23: F | I23: =SUM(I19:I22) -> 0
A24: 부 가 가 치 세 | D24: ="(총원가)*"&H24*100&"%" -> (총원가)*10% | E24: =E23*10% -> 0 | G24: H | H24: 0.1 | I24: =ROUNDDOWN((SUMIF($G$5:$G$26,"F",$I$5:$I$26))*H24,0) -> 0 | J24: 0.1
A25: 도 급 금 액 | E25: =INT(I25/1000)*1000 -> 0 | G25: Y | I25: =ROUNDDOWN(SUMIF($G$5:$G$26,"F",$I$5:$I$26)+SUMIF($G$5:$G$26,"H",$I$5:$I$26),0) -> 0

Sheet 집계표
A1: 집 계 표
A2: 공사명 : 광화문우체국대수선공사
A3: 품 명 | B3: 규 격 | C3: 단위 | D3: 수 량 | E3: 재 료 비 | G3: 노 무 비 | I3: 경 비 | K3: 합 계 | M3: 비고
E4: 단 가 | F4: 금 액 | G4: 단 가 | H4: 금 액 | I4: 단 가 | J4: 금 액 | K4: 단 가 | L4: 금 액 | N4: 손료요율 | O4: 손료구분 | P4: 적용구분 | Q4: 합계구분 | R4: 기계경비 | S4: 운반비 | T4: 작업부산물 | U4: 관급 | V4: 외주비 | W4: 장비비 | X4: 폐기물처리비 | Y4: 가설비 | Z4: 잡비제외분 | AA4: 사급자재대 | AB4: 관급자재대 | AC4: 사용자항목1 | AD4: 사용자항목2 | AE4: 사용자항목3 | AF4: 사용자항목4 | AG4: 사용자항목5 | AH4: 사용자항목6 | AI4: 사용자항목7 | AJ4: 사용자항목8 | AK4: 사용자항목9 | AL4: 간접재료비
A5: 1. 가설공사 | C5: 식 | D5: 1 | E5: =내역서!F24 -> 0 | F5: =D5*E5 -> 0 | G5: =내역서!H24 -> 0 | H5: =D5*G5 -> 0 | I5: =내역서!J24 -> 0 | J5: =D5*I5 -> 0 | K5: =E5+G5+I5 -> 0 | L5: =F5+H5+J5 -> 0 | Q5: 1 | R5: =내역서!R24*D5 -> 0 | S5: =내역서!S24*D5 -> 0 | T5: =내역서!T24*D5 -> 0 | U5: =내역서!U24*D5 -> 0 | V5: =내역서!V24*D5 -> 0 | W5: =내역서!W24*D5 -> 0 | X5: =내역서!X24*D5 -> 0 | Y5: =내역서!Y24*D5 -> 0 | Z5: =내역서!Z24*D5 -> 0 | AA5: =내역서!AA24*D5 -> 0 | AB5: =내역서!AB24*D5 -> 0 | AC5: =내역서!AC24*D5 -> 0 | AD5: =내역서!AD24*D5 -> 0 | AE5: =내역서!AE24*D5 -> 0 | AF5: =내역서!AF24*D5 -> 0 | AG5: =내역서!AG24*D5 -> 0 | AH5: =내역서!AH24*D5 -> 0 | AI5: =내역서!AI24*D5 -> 0 | AJ5: =내역서!AJ24*D5 -> 0 | AK5: =내역서!AK24*D5 -> 0 | AL5: =내역서!AL24*D5 -> 0
A6: 2. 조적공사 | C6: 식 | D6: 1 | E6: =내역서!F44 -> 0 | F6: =D6*E6 -> 0 | G6: =내역서!H44 -> 0 | H6: =D6*G6 -> 0 | I6: =내역서!J44 -> 0 | J6: =D6*I6 -> 0 | K6: =E6+G6+I6 -> 0 | L6: =F6+H6+J6 -> 0 | Q6: 1 | R6: =내역서!R44*D6 -> 0 | S6: =내역서!S44*D6 -> 0 | T6: =내역서!T44*D6 -> 0 | U6: =내역서!U44*D6 -> 0 | V6: =내역서!V44*D6 -> 0 | W6: =내역서!W44*D6 -> 0 | X6: =내역서!X44*D6 -> 0 | Y6: =내역서!Y44*D6 -> 0 | Z6: =내역서!Z44*D6 -> 0 | AA6: =내역서!AA44*D6 -> 0 | AB6: =내역서!AB44*D6 -> 0 | AC6: =내역서!AC44*D6 -> 0 | AD6: =내역서!AD44*D6 -> 0 | AE6: =내역서!AE44*D6 -> 0 | AF6: =내역서!AF44*D6 -> 0 | AG6: =내역서!AG44*D6 -> 0 | AH6: =내역서!AH44*D6 -> 0 | AI6: =내역서!AI44*D6 -> 0 | AJ6: =내역서!AJ44*D6 -> 0 | AK6: =내역서!AK44*D6 -> 0 | AL6: =내역서!AL44*D6 -> 0
A7: 3. 방수및미장공사 | C7: 식 | D7: 1 | E7: =내역서!F64 -> 0 | F7: =D7*E7 -> 0 | G7: =내역서!H64 -> 0 | H7: =D7*G7 -> 0 | I7: =내역서!J64 -> 0 | J7: =D7*I7 -> 0 | K7: =E7+G7+I7 -> 0 | L7: =F7+H7+J7 -> 0 | Q7: 1 | R7: =내역서!R64*D7 -> 0 | S7: =내역서!S64*D7 -> 0 | T7: =내역서!T64*D7 -> 0 | U7: =내역서!U64*D7 -> 0 | V7: =내역서!V64*D7 -> 0 | W7: =내역서!W64*D7 -> 0 | X7: =내역서!X64*D7 -> 0 | Y7: =내역서!Y64*D7 -> 0 | Z7: =내역서!Z64*D7 -> 0 | AA7: =내역서!AA64*D7 -> 0 | AB7: =내역서!AB64*D7 -> 0 | AC7: =내역서!AC64*D7 -> 0 | AD7: =내역서!AD64*D7 -> 0 | AE7: =내역서!AE64*D7 -> 0 | AF7: =내역서!AF64*D7 -> 0 | AG7: =내역서!AG64*D7 -> 0 | AH7: =내역서!AH64*D7 -> 0 | AI7: =내역서!AI64*D7 -> 0 | AJ7: =내역서!AJ64*D7 -> 0 | AK7: =내역서!AK64*D7 -> 0 | AL7: =내역서!AL64*D7 -> 0
A8: 4. 타일공사 | C8: 식 | D8: 1 | E8: =내역서!F84 -> 0 | F8: =D8*E8 -> 0 | G8: =내역서!H84 -> 0 | H8: =D8*G8 -> 0 | I8: =내역서!J84 -> 0 | J8: =D8*I8 -> 0 | K8: =E8+G8+I8 -> 0 | L8: =F8+H8+J8 -> 0 | Q8: 1 | R8: =내역서!R84*D8 -> 0 | S8: =내역서!S84*D8 -> 0 | T8: =내역서!T84*D8 -> 0 | U8: =내역서!U84*D8 -> 0 | V8: =내역서!V84*D8 -> 0 | W8: =내역서!W84*D8 -> 0 | X8: =내역서!X84*D8 -> 0 | Y8: =내역서!Y84*D8 -> 0 | Z8: =내역서!Z84*D8 -> 0 | AA8: =내역서!AA84*D8 -> 0 | AB8: =내역서!AB84*D8 -> 0 | AC8: =내역서!AC84*D8 -> 0 | AD8: =내역서!AD84*D8 -> 0 | AE8: =내역서!AE84*D8 -> 0 | AF8: =내역서!AF84*D8 -> 0 | AG8: =내역서!AG84*D8 -> 0 | AH8: =내역서!AH84*D8 -> 0 | AI8: =내역서!AI84*D8 -> 0 | AJ8: =내역서!AJ84*D8 -> 0 | AK8: =내역서!AK84*D8 -> 0 | AL8: =내역서!AL84*D8 -> 0
A9: 5. 창호공사 | C9: 식 | D9: 1 | E9: =내역서!F104 -> 0 | F9: =D9*E9 -> 0 | G9: =내역서!H104 -> 0 | H9: =D9*G9 -> 0 | I9: =내역서!J104 -> 0 | J9: =D9*I9 -> 0 | K9: =E9+G9+I9 -> 0 | L9: =F9+H9+J9 -> 0 | Q9: 1 | R9: =내역서!R104*D9 -> 0 | S9: =내역서!S104*D9 -> 0 | T9: =내역서!T104*D9 -> 0 | U9: =내역서!U104*D9 -> 0 | V9: =내역서!V104*D9 -> 0 | W9: =내역서!W104*D9 -> 0 | X9: =내역서!X104*D9 -> 0 | Y9: =내역서!Y104*D9 -> 0 | Z9: =내역서!Z104*D9 -> 0 | AA9: =내역서!AA104*D9 -> 0 | AB9: =내역서!AB104*D9 -> 0 | AC9: =내역서!AC104*D9 -> 0 | AD9: =내역서!AD104*D9 -> 0 | AE9: =내역서!AE104*D9 -> 0 | AF9: =내역서!AF104*D9 -> 0 | AG9: =내역서!AG104*D9 -> 0 | AH9: =내역서!AH104*D9 -> 0 | AI9: =내역서!AI104*D9 -> 0 | AJ9: =내역서!AJ104*D9 -> 0 | AK9: =내역서!AK104*D9 -> 0 | AL9: =내역서!AL104*D9 -> 0
A10: 6. 유리공사 | C10: 식 | D10: 1 | E10: =내역서!F124 -> 0 | F10: =D10*E10 -> 0 | G10: =내역서!H124 -> 0 | H10: =D10*G10 -> 0 | I10: =내역서!J124 -> 0 | J10: =D10*I10 -> 0 | K10: =E10+G10+I10 -> 0 | L10: =F10+H10+J10 -> 0 | Q10: 1 | R10: =내역서!R124*D10 -> 0 | S10: =내역서!S124*D10 -> 0 | T10: =내역서!T124*D10 -> 0 | U10: =내역서!U124*D10 -> 0 | V10: =내역서!V124*D10 -> 0 | W10: =내역서!W124*D10 -> 0 | X10: =내역서!X124*D10 -> 0 | Y10: =내역서!Y124*D10 -> 0 | Z10: =내역서!Z124*D10 -> 0 | AA10: =내역서!AA124*D10 -> 0 | AB10: =내역서!AB124*D10 -> 0 | AC10: =내역서!AC124*D10 -> 0 | AD10: =내역서!AD124*D10 -> 0 | AE10: =내역서!AE124*D10 -> 0 | AF10: =내역서!AF124*D10 -> 0 | AG10: =내역서!AG124*D10 -> 0 | AH10: =내역서!AH124*D10 -> 0 | AI10: =내역서!AI124*D10 -> 0 | AJ10: =내역서!AJ124*D10 -> 0 | AK10: =내역서!AK124*D10 -> 0 | AL10: =내역서!AL124*D10 -> 0
A11: 7. 수장공사 | C11: 식 | D11: 1 | E11: =내역서!F145 -> 0 | F11: =D11*E11 -> 0 | G11: =내역서!H145 -> 0 | H11: =D11*G11 -> 0 | I11: =내역서!J145 -> 0 | J11: =D11*I11 -> 0 | K11: =E11+G11+I11 -> 0 | L11: =F11+H11+J11 -> 0 | Q11: 1 | R11: =내역서!R145*D11 -> 0 | S11: =내역서!S145*D11 -> 0 | T11: =내역서!T145*D11 -> 0 | U11: =내역서!U145*D11 -> 0 | V11: =내역서!V145*D11 -> 0 | W11: =내역서!W145*D11 -> 0 | X11: =내역서!X145*D11 -> 0 | Y11: =내역서!Y145*D11 -> 0 | Z11: =내역서!Z145*D11 -> 0 | AA11: =내역서!AA145*D11 -> 0 | AB11: =내역서!AB145*D11 -> 0 | AC11: =내역서!AC145*D11 -> 0 | AD11: =내역서!AD145*D11 -> 0 | AE11: =내역서!AE145*D11 -> 0 | AF11: =내역서!AF145*D11 -> 0 | AG11: =내역서!AG145*D11 -> 0 | AH11: =내역서!AH145*D11 -> 0 | AI11: =내역서!AI145*D11 -> 0 | AJ11: =내역서!AJ145*D11 -> 0 | AK11: =내역서!AK145*D11 -> 0 | AL11: =내역서!AL145*D11 -> 0
A12: 8. 마감공사 | C12: 식 | D12: 1 | E12: =내역서!F165 -> 0 | F12: =D12*E12 -> 0 | G12: =내역서!H165 -> 0 | H12: =D12*G12 -> 0 | I12: =내역서!J165 -> 0 | J12: =D12*I12 -> 0 | K12: =E12+G12+I12 -> 0 | L12: =F12+H12+J12 -> 0 | Q12: 1 | R12: =내역서!R165*D12 -> 0 | S12: =내역서!S165*D12 -> 0 | T12: =내역서!T165*D12 -> 0 | U12: =내역서!U165*D12 -> 0 | V12: =내역서!V165*D12 -> 0 | W12: =내역서!W165*D12 -> 0 | X12: =내역서!X165*D12 -> 0 | Y12: =내역서!Y165*D12 -> 0 | Z12: =내역서!Z165*D12 -> 0 | AA12: =내역서!AA165*D12 -> 0 | AB12: =내역서!AB165*D12 -> 0 | AC12: =내역서!AC165*D12 -> 0 | AD12: =내역서!AD165*D12 -> 0 | AE12: =내역서!AE165*D12 -> 0 | AF12: =내역서!AF165*D12 -> 0 | AG12: =내역서!AG165*D12 -> 0 | AH12: =내역서!AH165*D12 -> 0 | AI12: =내역서!AI165*D12 -> 0 | AJ12: =내역서!AJ165*D12 -> 0 | AK12: =내역서!AK165*D12 -> 0 | AL12: =내역서!AL165*D12 -> 0
A13: 9. 철거공사 | C13: 식 | D13: 1 | E13: =내역서!F185 -> 0 | F13: =D13*E13 -> 0 | G13: =내역서!H185 -> 0 | H13: =D13*G13 -> 0 | I13: =내역서!J185 -> 0 | J13: =D13*I13 -> 0 | K13: =E13+G13+I13 -> 0 | L13: =F13+H13+J13 -> 0 | Q13: 1 | R13: =내역서!R185*D13 -> 0 | S13: =내역서!S185*D13 -> 0 | T13: =내역서!T185*D13 -> 0 | U13: =내역서!U185*D13 -> 0 | V13: =내역서!V185*D13 -> 0 | W13: =내역서!W185*D13 -> 0 | X13: =내역서!X185*D13 -> 0 | Y13: =내역서!Y185*D13 -> 0 | Z13: =내역서!Z185*D13 -> 0 | AA13: =내역서!AA185*D13 -> 0 | AB13: =내역서!AB185*D13 -> 0 | AC13: =내역서!AC185*D13 -> 0 | AD13: =내역서!AD185*D13 -> 0 | AE13: =내역서!AE185*D13 -> 0 | AF13: =내역서!AF185*D13 -> 0 | AG13: =내역서!AG185*D13 -> 0 | AH13: =내역서!AH185*D13 -> 0 | AI13: =내역서!AI185*D13 -> 0 | AJ13: =내역서!AJ185*D13 -> 0 | AK13: =내역서!AK185*D13 -> 0 | AL13: =내역서!AL185*D13 -> 0
A14: 10. 위생기구 | C14: 식 | D14: 1 | E14: =내역서!F225 -> 0 | F14: =D14*E14 -> 0 | G14: =내역서!H225 -> 0 | H14: =D14*G14 -> 0 | I14: =내역서!J225 -> 0 | J14: =D14*I14 -> 0 | K14: =E14+G14+I14 -> 0 | L14: =F14+H14+J14 -> 0 | Q14: 1 | R14: =내역서!#REF!*D14 -> #REF! | S14: =내역서!#REF!*D14 -> #REF! | T14: =내역서!#REF!*D14 -> #REF! | U14: =내역서!#REF!*D14 -> #REF! | V14: =내역서!#REF!*D14 -> #REF! | W14: =내역서!#REF!*D14 -> #REF! | X14: =내역서!#REF!*D14 -> #REF! | Y14: =내역서!#REF!*D14 -> #REF! | Z14: =내역서!#REF!*D14 -> #REF! | AA14: =내역서!#REF!*D14 -> #REF! | AB14: =내역서!#REF!*D14 -> #REF! | AC14: =내역서!#REF!*D14 -> #REF! | AD14: =내역서!#REF!*D14 -> #REF! | AE14: =내역서!#REF!*D14 -> #REF! | AF14: =내역서!#REF!*D14 -> #REF! | AG14: =내역서!#REF!*D14 -> #REF! | AH14: =내역서!#REF!*D14 -> #REF! | AI14: =내역서!#REF!*D14 -> #REF! | AJ14: =내역서!#REF!*D14 -> #REF! | AK14: =내역서!#REF!*D14 -> #REF! | AL14: =내역서!#REF!*D14 -> #REF!
A15: 11. 급수공사 | C15: 식 | D15: 1 | E15: =내역서!F245 -> 0 | F15: =D15*E15 -> 0 | G15: =내역서!H245 -> 0 | H15: =D15*G15 -> 0 | I15: =내역서!J245 -> 0 | J15: =D15*I15 -> 0 | K15: =E15+G15+I15 -> 0 | L15: =F15+H15+J15 -> 0 | Q15: 1 | R15: =내역서!#REF!*D15 -> #REF! | S15: =내역서!#REF!*D15 -> #REF! | T15: =내역서!#REF!*D15 -> #REF! | U15: =내역서!#REF!*D15 -> #REF! | V15: =내역서!#REF!*D15 -> #REF! | W15: =내역서!#REF!*D15 -> #REF! | X15: =내역서!#REF!*D15 -> #REF! | Y15: =내역서!#REF!*D15 -> #REF! | Z15: =내역서!#REF!*D15 -> #REF! | AA15: =내역서!#REF!*D15 -> #REF! | AB15: =내역서!#REF!*D15 -> #REF! | AC15: =내역서!#REF!*D15 -> #REF! | AD15: =내역서!#REF!*D15 -> #REF! | AE15: =내역서!#REF!*D15 -> #REF! | AF15: =내역서!#REF!*D15 -> #REF! | AG15: =내역서!#REF!*D15 -> #REF! | AH15: =내역서!#REF!*D15 -> #REF! | AI15: =내역서!#REF!*D15 -> #REF! | AJ15: =내역서!#REF!*D15 -> #REF! | AK15: =내역서!#REF!*D15 -> #REF! | AL15: =내역서!#REF!*D15 -> #REF!
A16: 12. 배수배관 | C16: 식 | D16: 1 | E16: =내역서!F265 -> 0 | F16: =D16*E16 -> 0 | G16: =내역서!H265 -> 0 | H16: =D16*G16 -> 0 | I16: =내역서!J265 -> 0 | J16: =D16*I16 -> 0 | K16: =E16+G16+I16 -> 0 | L16: =F16+H16+J16 -> 0 | Q16: 1 | R16: =내역서!#REF!*D16 -> #REF! | S16: =내역서!#REF!*D16 -> #REF! | T16: =내역서!#REF!*D16 -> #REF! | U16: =내역서!#REF!*D16 -> #REF! | V16: =내역서!#REF!*D16 -> #REF! | W16: =내역서!#REF!*D16 -> #REF! | X16: =내역서!#REF!*D16 -> #REF! | Y16: =내역서!#REF!*D16 -> #REF! | Z16: =내역서!#REF!*D16 -> #REF! | AA16: =내역서!#REF!*D16 -> #REF! | AB16: =내역서!#REF!*D16 -> #REF! | AC16: =내역서!#REF!*D16 -> #REF! | AD16: =내역서!#REF!*D16 -> #REF! | AE16: =내역서!#REF!*D16 -> #REF! | AF16: =내역서!#REF!*D16 -> #REF! | AG16: =내역서!#REF!*D16 -> #REF! | AH16: =내역서!#REF!*D16 -> #REF! | AI16: =내역서!#REF!*D16 -> #REF! | AJ16: =내역서!#REF!*D16 -> #REF! | AK16: =내역서!#REF!*D16 -> #REF! | AL16: =내역서!#REF!*D16 -> #REF!
A17: 13. 폐기물처리비 | C17: 식 | D17: 1 | E17: =내역서!F285 -> 0 | F17: =D17*E17 -> 0 | G17: =내역서!H285 -> 0 | H17: =D17*G17 -> 0 | I17: =내역서!J285 -> 0 | J17: =D17*I17 -> 0 | K17: =E17+G17+I17 -> 0 | L17: =F17+H17+J17 -> 0 | Q17: 0 | R17: =내역서!R285*D17 -> 0 | S17: =내역서!S285*D17 -> 0 | T17: =내역서!T285*D17 -> 0 | U17: =내역서!U285*D17 -> 0 | V17: =내역서!V285*D17 -> 0 | W17: =내역서!W285*D17 -> 0 | X17: =내역서!X285*D17 -> 0 | Y17: =내역서!Y285*D17 -> 0 | Z17: =내역서!Z285*D17 -> 0 | AA17: =내역서!AA285*D17 -> 0 | AB17: =내역서!AB285*D17 -> 0 | AC17: =내역서!AC285*D17 -> 0 | AD17: =내역서!AD285*D17 -> 0 | AE17: =내역서!AE285*D17 -> 0 | AF17: =내역서!AF285*D17 -> 0 | AG17: =내역서!AG285*D17 -> 0 | AH17: =내역서!AH285*D17 -> 0 | AI17: =내역서!AI285*D17 -> 0 | AJ17: =내역서!AJ285*D17 -> 0 | AK17: =내역서!AK285*D17 -> 0 | AL17: =내역서!AL285*D17 -> 0
A24: [합계] | F24: =SUM(F5:F16) -> 0 | H24: =SUM(H5:H16) -> 0 | J24: =SUM(J5:J16) -> 0 | L24: =F24+H24+J24 -> 0 | R24: =SUM($R$5:$R$23) -> #REF! | S24: =SUM($S$5:$S$23) -> #REF! | T24: =SUM($T$5:$T$23) -> #REF! | U24: =SUM($U$5:$U$23) -> #REF! | V24: =SUM($V$5:$V$23) -> #REF! | W24: =SUM($W$5:$W$23) -> #REF! | X24: =SUM($X$5:$X$23) -> #REF! | Y24: =SUM($Y$5:$Y$23) -> #REF! | Z24: =SUM($Z$5:$Z$23) -> #REF! | AA24: =SUM($AA$5:$AA$23) -> #REF! | AB24: =SUM($AB$5:$AB$23) -> #REF! | AC24: =SUM($AC$5:$AC$23) -> #REF! | AD24: =SUM($AD$5:$AD$23) -> #REF! | AE24: =SUM($AE$5:$AE$23) -> #REF! | AF24: =SUM($AF$5:$AF$23) -> #REF! | AG24: =SUM($AG$5:$AG$23) -> #REF! | AH24: =SUM($AH$5:$AH$23) -> #REF! | AI24: =SUM($AI$5:$AI$23) -> #REF! | AJ24: =SUM($AJ$5:$AJ$23) -> #REF! | AK24: =SUM($AK$5:$AK$23) -> #REF! | AL24: =SUM($AL$5:$AL$23) -> #REF!

Sheet 내역서
A1: 내 역 서
A2: 공사명 : 광화문우체국대수선공사
A3: 품 명 | B3: 규 격 | C3: 단위 | D3: 수 량 | E3: 재 료 비 | G3: 노 무 비 | I3: 경 비 | K3: 합 계 | M3: 비고
E4: 단 가 | F4: 금 액 | G4: 단 가 | H4: 금 액 | I4: 단 가 | J4: 금 액 | K4: 단 가 | L4: 금 액 | N4: 손료요율 | O4: 손료구분 | P4: 적용구분 | Q4: 합계구분 | R4: 기계경비 | S4: 운반비 | T4: 작업부산물 | U4: 관급 | V4: 외주비 | W4: 장비비 | X4: 폐기물처리비 | Y4: 가설비 | Z4: 잡비제외분 | AA4: 사급자재대 | AB4: 관급자재대 | AC4: 사용자항목1 | AD4: 사용자항목2 | AE4: 사용자항목3 | AF4: 사용자항목4 | AG4: 사용자항목5 | AH4: 사용자항목6 | AI4: 사용자항목7 | AJ4: 사용자항목8 | AK4: 사용자항목9 | AL4: 간접재료비
A5: 1. 가설공사
A6: 이동식강관말비계 | B6: 3개월,1단(2m) | C6: 1대 | D6: 10 | F6: =ROUNDDOWN(D6*E6,0) -> 0 | H6: =ROUNDDOWN(D6*G6,0) -> 0 | J6: =ROUNDDOWN(D6*I6,0) -> 0 | K6: =E6+G6+I6 -> 0 | L6: =F6+H6+J6 -> 0 | P6: 기계경비 | Q6: 1 | R6: =IF(P6="기계경비",J6,0) -> 0 | S6: =IF(P6="운반비",J6,0) -> 0 | T6: =IF(P6="작업부산물",F6,0) -> 0 | U6: =IF(P6="관급",ROUNDDOWN(D6*E6,0),0)+IF(P6="지급",ROUNDDOWN(D6*E6,0),0) -> 0 | V6: =IF(P6="외주비",F6+H6+J6,0) -> 0 | W6: =IF(P6="장비비",F6+H6+J6,0) -> 0 | X6: =IF(P6="폐기물처리비",J6,0) -> 0 | Y6: =IF(P6="가설비",J6,0) -> 0 | Z6: =IF(P6="잡비제외분",F6,0) -> 0 | AA6: =IF(P6="사급자재대",L6,0) -> 0 | AB6: =IF(P6="관급자재대",L6,0) -> 0 | AC6: =IF(P6="사용자항목1",L6,0) -> 0 | AD6: =IF(P6="사용자항목2",L6,0) -> 0 | AE6: =IF(P6="사용자항목3",L6,0) -> 0 | AF6: =IF(P6="사용자항목4",L6,0) -> 0 | AG6: =IF(P6="사용자항목5",L6,0) -> 0 | AH6: =IF(P6="사용자항목6",L6,0) -> 0 | AI6: =IF(P6="사용자항목7",L6,0) -> 0 | AJ6: =IF(P6="사용자항목8",L6,0) -> 0 | AK6: =IF(P6="사용자항목9",L6,0) -> 0
A7: 건축물보양 및 현장정리 | B7: 비닐보양 포함,보수공사 | C7: M2 | D7: 2590 | F7: =ROUNDDOWN(D7*E7,0) -> 0 | H7: =ROUNDDOWN(D7*G7,0) -> 0 | J7: =ROUNDDOWN(D7*I7,0) -> 0 | K7: =E7+G7+I7 -> 0 | L7: =F7+H7+J7 -> 0 | P7: 기계경비 | Q7: 1 | R7: =IF(P7="기계경비",J7,0) -> 0 | S7: =IF(P7="운반비",J7,0) -> 0 | T7: =IF(P7="작업부산물",F7,0) -> 0 | U7: =IF(P7="관급",ROUNDDOWN(D7*E7,0),0)+IF(P7="지급",ROUNDDOWN(D7*E7,0),0) -> 0 | V7: =IF(P7="외주비",F7+H7+J7,0) -> 0 | W7: =IF(P7="장비비",F7+H7+J7,0) -> 0 | X7: =IF(P7="폐기물처리비",J7,0) -> 0 | Y7: =IF(P7="가설비",J7,0) -> 0 | Z7: =IF(P7="잡비제외분",F7,0) -> 0 | AA7: =IF(P7="사급자재대",L7,0) -> 0 | AB7: =IF(P7="관급자재대",L7,0) -> 0 | AC7: =IF(P7="사용자항목1",L7,0) -> 0 | AD7: =IF(P7="사용자항목2",L7,0) -> 0 | AE7: =IF(P7="사용자항목3",L7,0) -> 0 | AF7: =IF(P7="사용자항목4",L7,0) -> 0 | AG7: =IF(P7="사용자항목5",L7,0) -> 0 | AH7: =IF(P7="사용자항목6",L7,0) -> 0 | AI7: =IF(P7="사용자항목7",L7,0) -> 0 | AJ7: =IF(P7="사용자항목8",L7,0) -> 0 | AK7: =IF(P7="사용자항목9",L7,0) -> 0
A8: 먹메김 | B8: 일반 | C8: M2 | D8: =D129+D140+D148+D149+D150+D151+D152 -> 787 | F8: =ROUNDDOWN(D8*E8,0) -> 0 | H8: =ROUNDDOWN(D8*G8,0) -> 0 | J8: =ROUNDDOWN(D8*I8,0) -> 0 | K8: =E8+G8+I8 -> 0 | L8: =F8+H8+J8 -> 0 | P8: 기계경비 | Q8: 1 | R8: =IF(P8="기계경비",J8,0) -> 0 | S8: =IF(P8="운반비",J8,0) -> 0 | T8: =IF(P8="작업부산물",F8,0) -> 0 | U8: =IF(P8="관급",ROUNDDOWN(D8*E8,0),0)+IF(P8="지급",ROUNDDOWN(D8*E8,0),0) -> 0 | V8: =IF(P8="외주비",F8+H8+J8,0) -> 0 | W8: =IF(P8="장비비",F8+H8+J8,0) -> 0 | X8: =IF(P8="폐기물처리비",J8,0) -> 0 | Y8: =IF(P8="가설비",J8,0) -> 0 | Z8: =IF(P8="잡비제외분",F8,0) -> 0 | AA8: =IF(P8="사급자재대",L8,0) -> 0 | AB8: =IF(P8="관급자재대",L8,0) -> 0 | AC8: =IF(P8="사용자항목1",L8,0) -> 0 | AD8: =IF(P8="사용자항목2",L8,0) -> 0 | AE8: =IF(P8="사용자항목3",L8,0) -> 0 | AF8: =IF(P8="사용자항목4",L8,0) -> 0 | AG8: =IF(P8="사용자항목5",L8,0) -> 0 | AH8: =IF(P8="사용자항목6",L8,0) -> 0 | AI8: =IF(P8="사용자항목7",L8,0) -> 0 | AJ8: =IF(P8="사용자항목8",L8,0) -> 0 | AK8: =IF(P8="사용자항목9",L8,0) -> 0
P10: 기계경비 | Q10: 1 | R10: =IF(P10="기계경비",J10,0) -> 0 | S10: =IF(P10="운반비",J10,0) -> 0 | T10: =IF(P10="작업부산물",F10,0) -> 0 | U10: =IF(P10="관급",ROUNDDOWN(D10*E10,0),0)+IF(P10="지급",ROUNDDOWN(D10*E10,0),0) -> 0 | V10: =IF(P10="외주비",F10+H10+J10,0) -> 0 | W10: =IF(P10="장비비",F10+H10+J10,0) -> 0 | X10: =IF(P10="폐기물처리비",J10,0) -> 0 | Y10: =IF(P10="가설비",J10,0) -> 0 | Z10: =IF(P10="잡비제외분",F10,0) -> 0 | AA10: =IF(P10="사급자재대",L10,0) -> 0 | AB10: =IF(P10="관급자재대",L10,0) -> 0 | AC10: =IF(P10="사용자항목1",L10,0) -> 0 | AD10: =IF(P10="사용자항목2",L10,0) -> 0 | AE10: =IF(P10="사용자항목3",L10,0) -> 0 | AF10: =IF(P10="사용자항목4",L10,0) -> 0 | AG10: =IF(P10="사용자항목5",L10,0) -> 0 | AH10: =IF(P10="사용자항목6",L10,0) -> 0 | AI10: =IF(P10="사용자항목7",L10,0) -> 0 | AJ10: =IF(P10="사용자항목8",L10,0) -> 0 | AK10: =IF(P10="사용자항목9",L10,0) -> 0
A24: [소계] | F24: =SUM(F6:F8) -> 0 | H24: =SUM(H6:H8) -> 0 | J24: =SUMIF($Q$5:$Q$23, 1,$J$5:$J$23) -> 0 | L24: =F24+H24+J24 -> 0 | R24: =SUM($R$5:$R$23) -> 0 | S24: =SUM($S$5:$S$23) -> 0 | T24: =SUM($T$5:$T$23) -> 0 | U24: =SUM($U$5:$U$23) -> 0 | V24: =SUM($V$5:$V$23) -> 0 | W24: =SUM($W$5:$W$23) -> 0 | X24: =SUM($X$5:$X$23) -> 0 | Y24: =SUM($Y$5:$Y$23) -> 0 | Z24: =SUM($Z$5:$Z$23) -> 0 | AA24: =SUM($AA$5:$AA$23) -> 0 | AB24: =SUM($AB$5:$AB$23) -> 0 | AC24: =SUM($AC$5:$AC$23) -> 0 | AD24: =SUM($AD$5:$AD$23) -> 0 | AE24: =SUM($AE$5:$AE$23) -> 0 | AF24: =SUM($AF$5:$AF$23) -> 0 | AG24: =SUM($AG$5:$AG$23) -> 0 | AH24: =SUM($AH$5:$AH$23) -> 0 | AI24: =SUM($AI$5:$AI$23) -> 0 | AJ24: =SUM($AJ$5:$AJ$23) -> 0 | AK24: =SUM($AK$5:$AK$23) -> 0 | AL24: =SUM($AL$5:$AL$23) -> 0
A25: 2. 조적공사
A26: 시멘트벽돌 | C26: 매 | D26: 3125 | F26: =ROUNDDOWN(D26*E26,0) -> 0 | H26: =ROUNDDOWN(D26*G26,0) -> 0 | J26: =ROUNDDOWN(D26*I26,0) -> 0 | K26: =E26+G26+I26 -> 0 | L26: =F26+H26+J26 -> 0 | O26: 01 | P26: 기계경비 | Q26: 1 | R26: =IF(P26="기계경비",J26,0) -> 0 | S26: =IF(P26="운반비",J26,0) -> 0 | T26: =IF(P26="작업부산물",F26,0) -> 0 | U26: =IF(P26="관급",ROUNDDOWN(D26*E26,0),0)+IF(P26="지급",ROUNDDOWN(D26*E26,0),0) -> 0 | V26: =IF(P26="외주비",F26+H26+J26,0) -> 0 | W26: =IF(P26="장비비",F26+H26+J26,0) -> 0 | X26: =IF(P26="폐기물처리비",J26,0) -> 0 | Y26: =IF(P26="가설비",J26,0) -> 0 | Z26: =IF(P26="잡비제외분",F26,0) -> 0 | AA26: =IF(P26="사급자재대",L26,0) -> 0 | AB26: =IF(P26="관급자재대",L26,0) -> 0 | AC26: =IF(P26="사용자항목1",L26,0) -> 0 | AD26: =IF(P26="사용자항목2",L26,0) -> 0 | AE26: =IF(P26="사용자항목3",L26,0) -> 0 | AF26: =IF(P26="사용자항목4",L26,0) -> 0 | AG26: =IF(P26="사용자항목5",L26,0) -> 0 | AH26: =IF(P26="사용자항목6",L26,0) -> 0 | AI26: =IF(P26="사용자항목7",L26,0) -> 0 | AJ26: =IF(P26="사용자항목8",L26,0) -> 0 | AK26: =IF(P26="사용자항목9",L26,0) -> 0
A27: 0.5B 시멘트벽돌쌓기 | B27: 3.6m이하, 시멘트모래포함 | C27: 매 | D27: 464 | F27: =ROUNDDOWN(D27*E27,0) -> 0 | H27: =ROUNDDOWN(D27*G27,0) -> 0 | J27: =ROUNDDOWN(D27*I27,0) -> 0 | K27: =E27+G27+I27 -> 0 | L27: =F27+H27+J27 -> 0 | P27: 기계경비 | Q27: 1 | R27: =IF(P27="기계경비",J27,0) -> 0 | S27: =IF(P27="운반비",J27,0) -> 0 | T27: =IF(P27="작업부산물",F27,0) -> 0 | U27: =IF(P27="관급",ROUNDDOWN(D27*E27,0),0)+IF(P27="지급",ROUNDDOWN(D27*E27,0),0) -> 0 | V27: =IF(P27="외주비",F27+H27+J27,0) -> 0 | W27: =IF(P27="장비비",F27+H27+J27,0) -> 0 | X27: =IF(P27="폐기물처리비",J27,0) -> 0 | Y27: =IF(P27="가설비",J27,0) -> 0 | Z27: =IF(P27="잡비제외분",F27,0) -> 0 | AA27: =IF(P27="사급자재대",L27,0) -> 0 | AB27: =IF(P27="관급자재대",L27,0) -> 0 | AC27: =IF(P27="사용자항목1",L27,0) -> 0 | AD27: =IF(P27="사용자항목2",L27,0) -> 0 | AE27: =IF(P27="사용자항목3",L27,0) -> 0 | AF27: =IF(P27="사용자항목4",L27,0) -> 0 | AG27: =IF(P27="사용자항목5",L27,0) -> 0 | AH27: =IF(P27="사용자항목6",L27,0) -> 0 | AI27: =IF(P27="사용자항목7",L27,0) -> 0 | AJ27: =IF(P27="사용자항목8",L27,0) -> 0 | AK27: =IF(P27="사용자항목9",L27,0) -> 0
A28: 1.0B 시멘트벽돌쌓기 | B28: 3.6m이하, 시멘트모래포함 | C28: 매 | D28: 2495 | F28: =ROUNDDOWN(D28*E28,0) -> 0 | H28: =ROUNDDOWN(D28*G28,0) -> 0 | J28: =ROUNDDOWN(D28*I28,0) -> 0 | K28: =E28+G28+I28 -> 0 | L28: =F28+H28+J28 -> 0 | P28: 기계경비 | Q28: 1 | R28: =IF(P28="기계경비",J28,0) -> 0 | S28: =IF(P28="운반비",J28,0) -> 0 | T28: =IF(P28="작업부산물",F28,0) -> 0 | U28: =IF(P28="관급",ROUNDDOWN(D28*E28,0),0)+IF(P28="지급",ROUNDDOWN(D28*E28,0),0) -> 0 | V28: =IF(P28="외주비",F28+H28+J28,0) -> 0 | W28: =IF(P28="장비비",F28+H28+J28,0) -> 0 | X28: =IF(P28="폐기물처리비",J28,0) -> 0 | Y28: =IF(P28="가설비",J28,0) -> 0 | Z28: =IF(P28="잡비제외분",F28,0) -> 0 | AA28: =IF(P28="사급자재대",L28,0) -> 0 | AB28: =IF(P28="관급자재대",L28,0) -> 0 | AC28: =IF(P28="사용자항목1",L28,0) -> 0 | AD28: =IF(P28="사용자항목2",L28,0) -> 0 | AE28: =IF(P28="사용자항목3",L28,0) -> 0 | AF28: =IF(P28="사용자항목4",L28,0) -> 0 | AG28: =IF(P28="사용자항목5",L28,0) -> 0 | AH28: =IF(P28="사용자항목6",L28,0) -> 0 | AI28: =IF(P28="사용자항목7",L28,0) -> 0 | AJ28: =IF(P28="사용자항목8",L28,0) -> 0 | AK28: =IF(P28="사용자항목9",L28,0) -> 0
A29: 벽돌소운반 | B29: 인력, 5층이상 | C29: 매 | D29: 2976 | F29: =ROUNDDOWN(D29*E29,0) -> 0 | H29: =ROUNDDOWN(D29*G29,0) -> 0 | J29: =ROUNDDOWN(D29*I29,0) -> 0 | K29: =E29+G29+I29 -> 0 | L29: =F29+H29+J29 -> 0 | P29: 기계경비 | Q29: 1 | R29: =IF(P29="기계경비",J29,0) -> 0 | S29: =IF(P29="운반비",J29,0) -> 0 | T29: =IF(P29="작업부산물",F29,0) -> 0 | U29: =IF(P29="관급",ROUNDDOWN(D29*E29,0),0)+IF(P29="지급",ROUNDDOWN(D29*E29,0),0) -> 0 | V29: =IF(P29="외주비",F29+H29+J29,0) -> 0 | W29: =IF(P29="장비비",F29+H29+J29,0) -> 0 | X29: =IF(P29="폐기물처리비",J29,0) -> 0 | Y29: =IF(P29="가설비",J29,0) -> 0 | Z29: =IF(P29="잡비제외분",F29,0) -> 0 | AA29: =IF(P29="사급자재대",L29,0) -> 0 | AB29: =IF(P29="관급자재대",L29,0) -> 0 | AC29: =IF(P29="사용자항목1",L29,0) -> 0 | AD29: =IF(P29="사용자항목2",L29,0) -> 0 | AE29: =IF(P29="사용자항목3",L29,0) -> 0 | AF29: =IF(P29="사용자항목4",L29,0) -> 0 | AG29: =IF(P29="사용자항목5",L29,0) -> 0 | AH29: =IF(P29="사용자항목6",L29,0) -> 0 | AI29: =IF(P29="사용자항목7",L29,0) -> 0 | AJ29: =IF(P29="사용자항목8",L29,0) -> 0 | AK29: =IF(P29="사용자항목9",L29,0) -> 0
A44: [소계] | F44: =SUMIF($Q$25:$Q$43, 1,$F$25:$F$43) -> 0 | H44: =SUMIF($Q$25:$Q$43, 1,$H$25:$H$43) -> 0 | J44: =SUMIF($Q$25:$Q$43, 1,$J$25:$J$43) -> 0 | L44: =F44+H44+J44 -> 0 | R44: =SUM($R$25:$R$43) -> 0 | S44: =SUM($S$25:$S$43) -> 0 | T44: =SUM($T$25:$T$43) -> 0 | U44: =SUM($U$25:$U$43) -> 0 | V44: =SUM($V$25:$V$43) -> 0 | W44: =SUM($W$25:$W$43) -> 0 | X44: =SUM($X$25:$X$43) -> 0 | Y44: =SUM($Y$25:$Y$43) -> 0 | Z44: =SUM($Z$25:$Z$43) -> 0 | AA44: =SUM($AA$25:$AA$43) -> 0 | AB44: =SUM($AB$25:$AB$43) -> 0 | AC44: =SUM($AC$25:$AC$43) -> 0 | AD44: =SUM($AD$25:$AD$43) -> 0 | AE44: =SUM($AE$25:$AE$43) -> 0 | AF44: =SUM($AF$25:$AF$43) -> 0 | AG44: =SUM($AG$25:$AG$43) -> 0 | AH44: =SUM($AH$25:$AH$43) -> 0 | AI44: =SUM($AI$25:$AI$43) -> 0 | AJ44: =SUM($AJ$25:$AJ$43) -> 0 | AK44: =SUM($AK$25:$AK$43) -> 0 | AL44: =SUM($AL$25:$AL$43) -> 0
A45: 3. 방수및미장공사
A46: 시멘트액체방수 | B46: 1종 | C46: M2 | D46: 20 | F46: =ROUNDDOWN(D46*E46,0) -> 0 | H46: =ROUNDDOWN(D46*G46,0) -> 0 | J46: =ROUNDDOWN(D46*I46,0) -> 0 | K46: =E46+G46+I46 -> 0 | L46: =F46+H46+J46 -> 0 | P46: 기계경비 | Q46: 1 | R46: =IF(P46="기계경비",J46,0) -> 0 | S46: =IF(P46="운반비",J46,0) -> 0 | T46: =IF(P46="작업부산물",F46,0) -> 0 | U46: =IF(P46="관급",ROUNDDOWN(D46*E46,0),0)+IF(P46="지급",ROUNDDOWN(D46*E46,0),0) -> 0 | V46: =IF(P46="외주비",F46+H46+J46,0) -> 0 | W46: =IF(P46="장비비",F46+H46+J46,0) -> 0 | X46: =IF(P46="폐기물처리비",J46,0) -> 0 | Y46: =IF(P46="가설비",J46,0) -> 0 | Z46: =IF(P46="잡비제외분",F46,0) -> 0 | AA46: =IF(P46="사급자재대",L46,0) -> 0 | AB46: =IF(P46="관급자재대",L46,0) -> 0 | AC46: =IF(P46="사용자항목1",L46,0) -> 0 | AD46: =IF(P46="사용자항목2",L46,0) -> 0 | AE46: =IF(P46="사용자항목3",L46,0) -> 0 | AF46: =IF(P46="사용자항목4",L46,0) -> 0 | AG46: =IF(P46="사용자항목5",L46,0) -> 0 | AH46: =IF(P46="사용자항목6",L46,0) -> 0 | AI46: =IF(P46="사용자항목7",L46,0) -> 0 | AJ46: =IF(P46="사용자항목8",L46,0) -> 0 | AK46: =IF(P46="사용자항목9",L46,0) -> 0
A47: 도막방수 | B47: 비노출,바닥 | C47: M2 | D47: =37+20 -> 57 | F47: =ROUNDDOWN(D47*E47,0) -> 0 | H47: =ROUNDDOWN(D47*G47,0) -> 0 | J47: =ROUNDDOWN(D47*I47,0) -> 0 | K47: =E47+G47+I47 -> 0 | L47: =F47+H47+J47 -> 0 | P47: 기계경비 | Q47: 1 | R47: =IF(P47="기계경비",J47,0) -> 0 | S47: =IF(P47="운반비",J47,0) -> 0 | T47: =IF(P47="작업부산물",F47,0) -> 0 | U47: =IF(P47="관급",ROUNDDOWN(D47*E47,0),0)+IF(P47="지급",ROUNDDOWN(D47*E47,0),0) -> 0 | V47: =IF(P47="외주비",F47+H47+J47,0) -> 0 | W47: =IF(P47="장비비",F47+H47+J47,0) -> 0 | X47: =IF(P47="폐기물처리비",J47,0) -> 0 | Y47: =IF(P47="가설비",J47,0) -> 0 | Z47: =IF(P47="잡비제외분",F47,0) -> 0 | AA47: =IF(P47="사급자재대",L47,0) -> 0 | AB47: =IF(P47="관급자재대",L47,0) -> 0 | AC47: =IF(P47="사용자항목1",L47,0) -> 0 | AD47: =IF(P47="사용자항목2",L47,0) -> 0 | AE47: =IF(P47="사용자항목3",L47,0) -> 0 | AF47: =IF(P47="사용자항목4",L47,0) -> 0 | AG47: =IF(P47="사용자항목5",L47,0) -> 0 | AH47: =IF(P47="사용자항목6",L47,0) -> 0 | AI47: =IF(P47="사용자항목7",L47,0) -> 0 | AJ47: =IF(P47="사용자항목8",L47,0) -> 0 | AK47: =IF(P47="사용자항목9",L47,0) -> 0
A48: 바탕고르기 | B48: 바닥24mm | C48: M2 | D48: 4 | F48: =ROUNDDOWN(D48*E48,0) -> 0 | H48: =ROUNDDOWN(D48*G48,0) -> 0 | J48: =ROUNDDOWN(D48*I48,0) -> 0 | K48: =E48+G48+I48 -> 0 | L48: =F48+H48+J48 -> 0 | P48: 기계경비 | Q48: 1 | R48: =IF(P48="기계경비",J48,0) -> 0 | S48: =IF(P48="운반비",J48,0) -> 0 | T48: =IF(P48="작업부산물",F48,0) -> 0 | U48: =IF(P48="관급",ROUNDDOWN(D48*E48,0),0)+IF(P48="지급",ROUNDDOWN(D48*E48,0),0) -> 0 | V48: =IF(P48="외주비",F48+H48+J48,0) -> 0 | W48: =IF(P48="장비비",F48+H48+J48,0) -> 0 | X48: =IF(P48="폐기물처리비",J48,0) -> 0 | Y48: =IF(P48="가설비",J48,0) -> 0 | Z48: =IF(P48="잡비제외분",F48,0) -> 0 | AA48: =IF(P48="사급자재대",L48,0) -> 0 | AB48: =IF(P48="관급자재대",L48,0) -> 0 | AC48: =IF(P48="사용자항목1",L48,0) -> 0 | AD48: =IF(P48="사용자항목2",L48,0) -> 0 | AE48: =IF(P48="사용자항목3",L48,0) -> 0 | AF48: =IF(P48="사용자항목4",L48,0) -> 0 | AG48: =IF(P48="사용자항목5",L48,0) -> 0 | AH48: =IF(P48="사용자항목6",L48,0) -> 0 | AI48: =IF(P48="사용자항목7",L48,0) -> 0 | AJ48: =IF(P48="사용자항목8",L48,0) -> 0 | AK48: =IF(P48="사용자항목9",L48,0) -> 0
A49: 바탕고르기 | B49: 벽18mm | C49: M2 | D49: 12 | F49: =ROUNDDOWN(D49*E49,0) -> 0 | H49: =ROUNDDOWN(D49*G49,0) -> 0 | J49: =ROUNDDOWN(D49*I49,0) -> 0 | K49: =E49+G49+I49 -> 0 | L49: =F49+H49+J49 -> 0 | P49: 기계경비 | Q49: 1 | R49: =IF(P49="기계경비",J49,0) -> 0 | S49: =IF(P49="운반비",J49,0) -> 0 | T49: =IF(P49="작업부산물",F49,0) -> 0 | U49: =IF(P49="관급",ROUNDDOWN(D49*E49,0),0)+IF(P49="지급",ROUNDDOWN(D49*E49,0),0) -> 0 | V49: =IF(P49="외주비",F49+H49+J49,0) -> 0 | W49: =IF(P49="장비비",F49+H49+J49,0) -> 0 | X49: =IF(P49="폐기물처리비",J49,0) -> 0 | Y49: =IF(P49="가설비",J49,0) -> 0 | Z49: =IF(P49="잡비제외분",F49,0) -> 0 | AA49: =IF(P49="사급자재대",L49,0) -> 0 | AB49: =IF(P49="관급자재대",L49,0) -> 0 | AC49: =IF(P49="사용자항목1",L49,0) -> 0 | AD49: =IF(P49="사용자항목2",L49,0) -> 0 | AE49: =IF(P49="사용자항목3",L49,0) -> 0 | AF49: =IF(P49="사용자항목4",L49,0) -> 0 | AG49: =IF(P49="사용자항목5",L49,0) -> 0 | AH49: =IF(P49="사용자항목6",L49,0) -> 0 | AI49: =IF(P49="사용자항목7",L49,0) -> 0 | AJ49: =IF(P49="사용자항목8",L49,0) -> 0 | AK49: =IF(P49="사용자항목9",L49,0) -> 0
A50: 모르타르바름(3.6m이하) | B50: 벽체,T:18mm | C50: M2 | D50: 30 | F50: =ROUNDDOWN(D50*E50,0) -> 0 | H50: =ROUNDDOWN(D50*G50,0) -> 0 | J50: =ROUNDDOWN(D50*I50,0) -> 0 | K50: =E50+G50+I50 -> 0 | L50: =F50+H50+J50 -> 0 | P50: 기계경비 | Q50: 1 | R50: =IF(P50="기계경비",J50,0) -> 0 | S50: =IF(P50="운반비",J50,0) -> 0 | T50: =IF(P50="작업부산물",F50,0) -> 0 | U50: =IF(P50="관급",ROUNDDOWN(D50*E50,0),0)+IF(P50="지급",ROUNDDOWN(D50*E50,0),0) -> 0 | V50: =IF(P50="외주비",F50+H50+J50,0) -> 0 | W50: =IF(P50="장비비",F50+H50+J50,0) -> 0 | X50: =IF(P50="폐기물처리비",J50,0) -> 0 | Y50: =IF(P50="가설비",J50,0) -> 0 | Z50: =IF(P50="잡비제외분",F50,0) -> 0 | AA50: =IF(P50="사급자재대",L50,0) -> 0 | AB50: =IF(P50="관급자재대",L50,0) -> 0 | AC50: =IF(P50="사용자항목1",L50,0) -> 0 | AD50: =IF(P50="사용자항목2",L50,0) -> 0 | AE50: =IF(P50="사용자항목3",L50,0) -> 0 | AF50: =IF(P50="사용자항목4",L50,0) -> 0 | AG50: =IF(P50="사용자항목5",L50,0) -> 0 | AH50: =IF(P50="사용자항목6",L50,0) -> 0 | AI50: =IF(P50="사용자항목7",L50,0) -> 0 | AJ50: =IF(P50="사용자항목8",L50,0) -> 0 | AK50: =IF(P50="사용자항목9",L50,0) -> 0
A51: 모르타르충전 | B51: 창틀주위 | C51: M | D51: 20 | F51: =ROUNDDOWN(D51*E51,0) -> 0 | H51: =ROUNDDOWN(D51*G51,0) -> 0 | J51: =ROUNDDOWN(D51*I51,0) -> 0 | K51: =E51+G51+I51 -> 0 | L51: =F51+H51+J51 -> 0 | P51: 기계경비 | Q51: 1 | R51: =IF(P51="기계경비",J51,0) -> 0 | S51: =IF(P51="운반비",J51,0) -> 0 | T51: =IF(P51="작업부산물",F51,0) -> 0 | U51: =IF(P51="관급",ROUNDDOWN(D51*E51,0),0)+IF(P51="지급",ROUNDDOWN(D51*E51,0),0) -> 0 | V51: =IF(P51="외주비",F51+H51+J51,0) -> 0 | W51: =IF(P51="장비비",F51+H51+J51,0) -> 0 | X51: =IF(P51="폐기물처리비",J51,0) -> 0 | Y51: =IF(P51="가설비",J51,0) -> 0 | Z51: =IF(P51="잡비제외분",F51,0) -> 0 | AA51: =IF(P51="사급자재대",L51,0) -> 0 | AB51: =IF(P51="관급자재대",L51,0) -> 0 | AC51: =IF(P51="사용자항목1",L51,0) -> 0 | AD51: =IF(P51="사용자항목2",L51,0) -> 0 | AE51: =IF(P51="사용자항목3",L51,0) -> 0 | AF51: =IF(P51="사용자항목4",L51,0) -> 0 | AG51: =IF(P51="사용자항목5",L51,0) -> 0 | AH51: =IF(P51="사용자항목6",L51,0) -> 0 | AI51: =IF(P51="사용자항목7",L51,0) -> 0 | AJ51: =IF(P51="사용자항목8",L51,0) -> 0 | AK51: =IF(P51="사용자항목9",L51,0) -> 0
P52: 기계경비 | Q52: 1 | R52: =IF(P52="기계경비",J52,0) -> 0 | S52: =IF(P52="운반비",J52,0) -> 0 | T52: =IF(P52="작업부산물",F52,0) -> 0 | U52: =IF(P52="관급",ROUNDDOWN(D52*E52,0),0)+IF(P52="지급",ROUNDDOWN(D52*E52,0),0) -> 0 | V52: =IF(P52="외주비",F52+H52+J52,0) -> 0 | W52: =IF(P52="장비비",F52+H52+J52,0) -> 0 | X52: =IF(P52="폐기물처리비",J52,0) -> 0 | Y52: =IF(P52="가설비",J52,0) -> 0 | Z52: =IF(P52="잡비제외분",F52,0) -> 0 | AA52: =IF(P52="사급자재대",L52,0) -> 0 | AB52: =IF(P52="관급자재대",L52,0) -> 0 | AC52: =IF(P52="사용자항목1",L52,0) -> 0 | AD52: =IF(P52="사용자항목2",L52,0) -> 0 | AE52: =IF(P52="사용자항목3",L52,0) -> 0 | AF52: =IF(P52="사용자항목4",L52,0) -> 0 | AG52: =IF(P52="사용자항목5",L52,0) -> 0 | AH52: =IF(P52="사용자항목6",L52,0) -> 0 | AI52: =IF(P52="사용자항목7",L52,0) -> 0 | AJ52: =IF(P52="사용자항목8",L52,0) -> 0 | AK52: =IF(P52="사용자항목9",L52,0) -> 0
A64: [소계] | F64: =SUMIF($Q$45:$Q$63, 1,$F$45:$F$63) -> 0 | H64: =SUMIF($Q$45:$Q$63, 1,$H$45:$H$63) -> 0 | J64: =SUMIF($Q$45:$Q$63, 1,$J$45:$J$63) -> 0 | L64: =F64+H64+J64 -> 0 | R64: =SUM($R$45:$R$63) -> 0 | S64: =SUM($S$45:$S$63) -> 0 | T64: =SUM($T$45:$T$63) -> 0 | U64: =SUM($U$45:$U$63) -> 0 | V64: =SUM($V$45:$V$63) -> 0 | W64: =SUM($W$45:$W$63) -> 0 | X64: =SUM($X$45:$X$63) -> 0 | Y64: =SUM($Y$45:$Y$63) -> 0 | Z64: =SUM($Z$45:$Z$63) -> 0 | AA64: =SUM($AA$45:$AA$63) -> 0 | AB64: =SUM($AB$45:$AB$63) -> 0 | AC64: =SUM($AC$45:$AC$63) -> 0 | AD64: =SUM($AD$45:$AD$63) -> 0 | AE64: =SUM($AE$45:$AE$63) -> 0 | AF64: =SUM($AF$45:$AF$63) -> 0 | AG64: =SUM($AG$45:$AG$63) -> 0 | AH64: =SUM($AH$45:$AH$63) -> 0 | AI64: =SUM($AI$45:$AI$63) -> 0 | AJ64: =SUM($AJ$45:$AJ$63) -> 0 | AK64: =SUM($AK$45:$AK$63) -> 0 | AL64: =SUM($AL$45:$AL$63) -> 0
A65: 4. 타일공사
A66: 자기질타일 | B66: 무유색소, 300*300*8~11 | C66: M2 | D66: 10 | F66: =ROUNDDOWN(D66*E66,0) -> 0 | H66: =ROUNDDOWN(D66*G66,0) -> 0 | J66: =ROUNDDOWN(D66*I66,0) -> 0 | K66: =E66+G66+I66 -> 0 | L66: =F66+H66+J66 -> 0 | O66: 01 | P66: 기계경비 | Q66: 1 | R66: =IF(P66="기계경비",J66,0) -> 0 | S66: =IF(P66="운반비",J66,0) -> 0 | T66: =IF(P66="작업부산물",F66,0) -> 0 | U66: =IF(P66="관급",ROUNDDOWN(D66*E66,0),0)+IF(P66="지급",ROUNDDOWN(D66*E66,0),0) -> 0 | V66: =IF(P66="외주비",F66+H66+J66,0) -> 0 | W66: =IF(P66="장비비",F66+H66+J66,0) -> 0 | X66: =IF(P66="폐기물처리비",J66,0) -> 0 | Y66: =IF(P66="가설비",J66,0) -> 0 | Z66: =IF(P66="잡비제외분",F66,0) -> 0 | AA66: =IF(P66="사급자재대",L66,0) -> 0 | AB66: =IF(P66="관급자재대",L66,0) -> 0 | AC66: =IF(P66="사용자항목1",L66,0) -> 0 | AD66: =IF(P66="사용자항목2",L66,0) -> 0 | AE66: =IF(P66="사용자항목3",L66,0) -> 0 | AF66: =IF(P66="사용자항목4",L66,0) -> 0 | AG66: =IF(P66="사용자항목5",L66,0) -> 0 | AH66: =IF(P66="사용자항목6",L66,0) -> 0 | AI66: =IF(P66="사용자항목7",L66,0) -> 0 | AJ66: =IF(P66="사용자항목8",L66,0) -> 0 | AK66: =IF(P66="사용자항목9",L66,0) -> 0
A67: 타일압착붙임(5mm) | B67: 바닥, 타일 0.04~0.10㎡ 이하 | C67: M2 | D67: 10 | F67: =ROUNDDOWN(D67*E67,0) -> 0 | H67: =ROUNDDOWN(D67*G67,0) -> 0 | J67: =ROUNDDOWN(D67*I67,0) -> 0 | K67: =E67+G67+I67 -> 0 | L67: =F67+H67+J67 -> 0 | P67: 기계경비 | Q67: 1 | R67: =IF(P67="기계경비",J67,0) -> 0 | S67: =IF(P67="운반비",J67,0) -> 0 | T67: =IF(P67="작업부산물",F67,0) -> 0 | U67: =IF(P67="관급",ROUNDDOWN(D67*E67,0),0)+IF(P67="지급",ROUNDDOWN(D67*E67,0),0) -> 0 | V67: =IF(P67="외주비",F67+H67+J67,0) -> 0 | W67: =IF(P67="장비비",F67+H67+J67,0) -> 0 | X67: =IF(P67="폐기물처리비",J67,0) -> 0 | Y67: =IF(P67="가설비",J67,0) -> 0 | Z67: =IF(P67="잡비제외분",F67,0) -> 0 | AA67: =IF(P67="사급자재대",L67,0) -> 0 | AB67: =IF(P67="관급자재대",L67,0) -> 0 | AC67: =IF(P67="사용자항목1",L67,0) -> 0 | AD67: =IF(P67="사용자항목2",L67,0) -> 0 | AE67: =IF(P67="사용자항목3",L67,0) -> 0 | AF67: =IF(P67="사용자항목4",L67,0) -> 0 | AG67: =IF(P67="사용자항목5",L67,0) -> 0 | AH67: =IF(P67="사용자항목6",L67,0) -> 0 | AI67: =IF(P67="사용자항목7",L67,0) -> 0 | AJ67: =IF(P67="사용자항목8",L67,0) -> 0 | AK67: =IF(P67="사용자항목9",L67,0) -> 0
A68: 자기질타일 | B68: 무유연마, 300*600*8~10 | C68: M2 | D68: 41 | F68: =ROUNDDOWN(D68*E68,0) -> 0 | H68: =ROUNDDOWN(D68*G68,0) -> 0 | J68: =ROUNDDOWN(D68*I68,0) -> 0 | K68: =E68+G68+I68 -> 0 | L68: =F68+H68+J68 -> 0 | O68: 01 | P68: 기계경비 | Q68: 1 | R68: =IF(P68="기계경비",J68,0) -> 0 | S68: =IF(P68="운반비",J68,0) -> 0 | T68: =IF(P68="작업부산물",F68,0) -> 0 | U68: =IF(P68="관급",ROUNDDOWN(D68*E68,0),0)+IF(P68="지급",ROUNDDOWN(D68*E68,0),0) -> 0 | V68: =IF(P68="외주비",F68+H68+J68,0) -> 0 | W68: =IF(P68="장비비",F68+H68+J68,0) -> 0 | X68: =IF(P68="폐기물처리비",J68,0) -> 0 | Y68: =IF(P68="가설비",J68,0) -> 0 | Z68: =IF(P68="잡비제외분",F68,0) -> 0 | AA68: =IF(P68="사급자재대",L68,0) -> 0 | AB68: =IF(P68="관급자재대",L68,0) -> 0 | AC68: =IF(P68="사용자항목1",L68,0) -> 0 | AD68: =IF(P68="사용자항목2",L68,0) -> 0 | AE68: =IF(P68="사용자항목3",L68,0) -> 0 | AF68: =IF(P68="사용자항목4",L68,0) -> 0 | AG68: =IF(P68="사용자항목5",L68,0) -> 0 | AH68: =IF(P68="사용자항목6",L68,0) -> 0 | AI68: =IF(P68="사용자항목7",L68,0) -> 0 | AJ68: =IF(P68="사용자항목8",L68,0) -> 0 | AK68: =IF(P68="사용자항목9",L68,0) -> 0
A69: 타일압착붙임(5mm) | B69: 벽, 타일 0.11~0.20㎡ 이하 | C69: M2 | D69: 39 | F69: =ROUNDDOWN(D69*E69,0) -> 0 | H69: =ROUNDDOWN(D69*G69,0) -> 0 | J69: =ROUNDDOWN(D69*I69,0) -> 0 | K69: =E69+G69+I69 -> 0 | L69: =F69+H69+J69 -> 0 | P69: 기계경비 | Q69: 1 | R69: =IF(P69="기계경비",J69,0) -> 0 | S69: =IF(P69="운반비",J69,0) -> 0 | T69: =IF(P69="작업부산물",F69,0) -> 0 | U69: =IF(P69="관급",ROUNDDOWN(D69*E69,0),0)+IF(P69="지급",ROUNDDOWN(D69*E69,0),0) -> 0 | V69: =IF(P69="외주비",F69+H69+J69,0) -> 0 | W69: =IF(P69="장비비",F69+H69+J69,0) -> 0 | X69: =IF(P69="폐기물처리비",J69,0) -> 0 | Y69: =IF(P69="가설비",J69,0) -> 0 | Z69: =IF(P69="잡비제외분",F69,0) -> 0 | AA69: =IF(P69="사급자재대",L69,0) -> 0 | AB69: =IF(P69="관급자재대",L69,0) -> 0 | AC69: =IF(P69="사용자항목1",L69,0) -> 0 | AD69: =IF(P69="사용자항목2",L69,0) -> 0 | AE69: =IF(P69="사용자항목3",L69,0) -> 0 | AF69: =IF(P69="사용자항목4",L69,0) -> 0 | AG69: =IF(P69="사용자항목5",L69,0) -> 0 | AH69: =IF(P69="사용자항목6",L69,0) -> 0 | AI69: =IF(P69="사용자항목7",L69,0) -> 0 | AJ69: =IF(P69="사용자항목8",L69,0) -> 0 | AK69: =IF(P69="사용자항목9",L69,0) -> 0
A70: 바탕고르기 | B70: 바닥45mm | C70: M2 | D70: 6 | F70: =ROUNDDOWN(D70*E70,0) -> 0 | H70: =ROUNDDOWN(D70*G70,0) -> 0 | J70: =ROUNDDOWN(D70*I70,0) -> 0 | K70: =E70+G70+I70 -> 0 | L70: =F70+H70+J70 -> 0 | P70: 기계경비 | Q70: 1 | R70: =IF(P70="기계경비",J70,0) -> 0 | S70: =IF(P70="운반비",J70,0) -> 0 | T70: =IF(P70="작업부산물",F70,0) -> 0 | U70: =IF(P70="관급",ROUNDDOWN(D70*E70,0),0)+IF(P70="지급",ROUNDDOWN(D70*E70,0),0) -> 0 | V70: =IF(P70="외주비",F70+H70+J70,0) -> 0 | W70: =IF(P70="장비비",F70+H70+J70,0) -> 0 | X70: =IF(P70="폐기물처리비",J70,0) -> 0 | Y70: =IF(P70="가설비",J70,0) -> 0 | Z70: =IF(P70="잡비제외분",F70,0) -> 0 | AA70: =IF(P70="사급자재대",L70,0) -> 0 | AB70: =IF(P70="관급자재대",L70,0) -> 0 | AC70: =IF(P70="사용자항목1",L70,0) -> 0 | AD70: =IF(P70="사용자항목2",L70,0) -> 0 | AE70: =IF(P70="사용자항목3",L70,0) -> 0 | AF70: =IF(P70="사용자항목4",L70,0) -> 0 | AG70: =IF(P70="사용자항목5",L70,0) -> 0 | AH70: =IF(P70="사용자항목6",L70,0) -> 0 | AI70: =IF(P70="사용자항목7",L70,0) -> 0 | AJ70: =IF(P70="사용자항목8",L70,0) -> 0 | AK70: =IF(P70="사용자항목9",L70,0) -> 0
A84: [소계] | F84: =SUMIF($Q$65:$Q$83, 1,$F$65:$F$83) -> 0 | H84: =SUMIF($Q$65:$Q$83, 1,$H$65:$H$83) -> 0 | J84: =SUMIF($Q$65:$Q$83, 1,$J$65:$J$83) -> 0 | L84: =F84+H84+J84 -> 0 | R84: =SUM($R$65:$R$83) -> 0 | S84: =SUM($S$65:$S$83) -> 0 | T84: =SUM($T$65:$T$83) -> 0 | U84: =SUM($U$65:$U$83) -> 0 | V84: =SUM($V$65:$V$83) -> 0 | W84: =SUM($W$65:$W$83) -> 0 | X84: =SUM($X$65:$X$83) -> 0 | Y84: =SUM($Y$65:$Y$83) -> 0 | Z84: =SUM($Z$65:$Z$83) -> 0 | AA84: =SUM($AA$65:$AA$83) -> 0 | AB84: =SUM($AB$65:$AB$83) -> 0 | AC84: =SUM($AC$65:$AC$83) -> 0 | AD84: =SUM($AD$65:$AD$83) -> 0 | AE84: =SUM($AE$65:$AE$83) -> 0 | AF84: =SUM($AF$65:$AF$83) -> 0 | AG84: =SUM($AG$65:$AG$83) -> 0 | AH84: =SUM($AH$65:$AH$83) -> 0 | AI84: =SUM($AI$65:$AI$83) -> 0 | AJ84: =SUM($AJ$65:$AJ$83) -> 0 | AK84: =SUM($AK$65:$AK$83) -> 0 | AL84: =SUM($AL$65:$AL$83) -> 0
A85: 5. 창호공사
A86: WD_1 청장실 | B86: 1800*2400 | C86: 개소 | D86: 1 | F86: =ROUNDDOWN(D86*E86,0) -> 0 | H86: =ROUNDDOWN(D86*G86,0) -> 0 | J86: =ROUNDDOWN(D86*I86,0) -> 0 | K86: =E86+G86+I86 -> 0 | L86: =F86+H86+J86 -> 0 | P86: 기계경비 | Q86: 1 | R86: =IF(P86="기계경비",J86,0) -> 0 | S86: =IF(P86="운반비",J86,0) -> 0 | T86: =IF(P86="작업부산물",F86,0) -> 0 | U86: =IF(P86="관급",ROUNDDOWN(D86*E86,0),0)+IF(P86="지급",ROUNDDOWN(D86*E86,0),0) -> 0 | V86: =IF(P86="외주비",F86+H86+J86,0) -> 0 | W86: =IF(P86="장비비",F86+H86+J86,0) -> 0 | X86: =IF(P86="폐기물처리비",J86,0) -> 0 | Y86: =IF(P86="가설비",J86,0) -> 0 | Z86: =IF(P86="잡비제외분",F86,0) -> 0 | AA86: =IF(P86="사급자재대",L86,0) -> 0 | AB86: =IF(P86="관급자재대",L86,0) -> 0 | AC86: =IF(P86="사용자항목1",L86,0) -> 0 | AD86: =IF(P86="사용자항목2",L86,0) -> 0 | AE86: =IF(P86="사용자항목3",L86,0) -> 0 | AF86: =IF(P86="사용자항목4",L86,0) -> 0 | AG86: =IF(P86="사용자항목5",L86,0) -> 0 | AH86: =IF(P86="사용자항목6",L86,0) -> 0 | AI86: =IF(P86="사용자항목7",L86,0) -> 0 | AJ86: =IF(P86="사용자항목8",L86,0) -> 0 | AK86: =IF(P86="사용자항목9",L86,0) -> 0
A87: WD_2 청장실 | B87: 900*2400 | C87: 개소 | D87: 1 | F87: =ROUNDDOWN(D87*E87,0) -> 0 | H87: =ROUNDDOWN(D87*G87,0) -> 0 | J87: =ROUNDDOWN(D87*I87,0) -> 0 | K87: =E87+G87+I87 -> 0 | L87: =F87+H87+J87 -> 0 | P87: 기계경비 | Q87: 1 | R87: =IF(P87="기계경비",J87,0) -> 0 | S87: =IF(P87="운반비",J87,0) -> 0 | T87: =IF(P87="작업부산물",F87,0) -> 0 | U87: =IF(P87="관급",ROUNDDOWN(D87*E87,0),0)+IF(P87="지급",ROUNDDOWN(D87*E87,0),0) -> 0 | V87: =IF(P87="외주비",F87+H87+J87,0) -> 0 | W87: =IF(P87="장비비",F87+H87+J87,0) -> 0 | X87: =IF(P87="폐기물처리비",J87,0) -> 0 | Y87: =IF(P87="가설비",J87,0) -> 0 | Z87: =IF(P87="잡비제외분",F87,0) -> 0 | AA87: =IF(P87="사급자재대",L87,0) -> 0 | AB87: =IF(P87="관급자재대",L87,0) -> 0 | AC87: =IF(P87="사용자항목1",L87,0) -> 0 | AD87: =IF(P87="사용자항목2",L87,0) -> 0 | AE87: =IF(P87="사용자항목3",L87,0) -> 0 | AF87: =IF(P87="사용자항목4",L87,0) -> 0 | AG87: =IF(P87="사용자항목5",L87,0) -> 0 | AH87: =IF(P87="사용자항목6",L87,0) -> 0 | AI87: =IF(P87="사용자항목7",L87,0) -> 0 | AJ87: =IF(P87="사용자항목8",L87,0) -> 0 | AK87: =IF(P87="사용자항목9",L87,0) -> 0
A88: WD_3 부속실 | B88: 900*2400 | C88: 개소 | D88: 1 | F88: =ROUNDDOWN(D88*E88,0) -> 0 | H88: =ROUNDDOWN(D88*G88,0) -> 0 | J88: =ROUNDDOWN(D88*I88,0) -> 0 | K88: =E88+G88+I88 -> 0 | L88: =F88+H88+J88 -> 0 | P88: 기계경비 | Q88: 1 | R88: =IF(P88="기계경비",J88,0) -> 0 | S88: =IF(P88="운반비",J88,0) -> 0 | T88: =IF(P88="작업부산물",F88,0) -> 0 | U88: =IF(P88="관급",ROUNDDOWN(D88*E88,0),0)+IF(P88="지급",ROUNDDOWN(D88*E88,0),0) -> 0 | V88: =IF(P88="외주비",F88+H88+J88,0) -> 0 | W88: =IF(P88="장비비",F88+H88+J88,0) -> 0 | X88: =IF(P88="폐기물처리비",J88,0) -> 0 | Y88: =IF(P88="가설비",J88,0) -> 0 | Z88: =IF(P88="잡비제외분",F88,0) -> 0 | AA88: =IF(P88="사급자재대",L88,0) -> 0 | AB88: =IF(P88="관급자재대",L88,0) -> 0 | AC88: =IF(P88="사용자항목1",L88,0) -> 0 | AD88: =IF(P88="사용자항목2",L88,0) -> 0 | AE88: =IF(P88="사용자항목3",L88,0) -> 0 | AF88: =IF(P88="사용자항목4",L88,0) -> 0 | AG88: =IF(P88="사용자항목5",L88,0) -> 0 | AH88: =IF(P88="사용자항목6",L88,0) -> 0 | AI88: =IF(P88="사용자항목7",L88,0) -> 0 | AJ88: =IF(P88="사용자항목8",L88,0) -> 0 | AK88: =IF(P88="사용자항목9",L88,0) -> 0
A89: WD_4 부속실 | B89: 1800*2100 | C89: 개소 | D89: 1 | F89: =ROUNDDOWN(D89*E89,0) -> 0 | H89: =ROUNDDOWN(D89*G89,0) -> 0 | J89: =ROUNDDOWN(D89*I89,0) -> 0 | K89: =E89+G89+I89 -> 0 | L89: =F89+H89+J89 -> 0 | P89: 기계경비 | Q89: 1 | R89: =IF(P89="기계경비",J89,0) -> 0 | S89: =IF(P89="운반비",J89,0) -> 0 | T89: =IF(P89="작업부산물",F89,0) -> 0 | U89: =IF(P89="관급",ROUNDDOWN(D89*E89,0),0)+IF(P89="지급",ROUNDDOWN(D89*E89,0),0) -> 0 | V89: =IF(P89="외주비",F89+H89+J89,0) -> 0 | W89: =IF(P89="장비비",F89+H89+J89,0) -> 0 | X89: =IF(P89="폐기물처리비",J89,0) -> 0 | Y89: =IF(P89="가설비",J89,0) -> 0 | Z89: =IF(P89="잡비제외분",F89,0) -> 0 | AA89: =IF(P89="사급자재대",L89,0) -> 0 | AB89: =IF(P89="관급자재대",L89,0) -> 0 | AC89: =IF(P89="사용자항목1",L89,0) -> 0 | AD89: =IF(P89="사용자항목2",L89,0) -> 0 | AE89: =IF(P89="사용자항목3",L89,0) -> 0 | AF89: =IF(P89="사용자항목4",L89,0) -> 0 | AG89: =IF(P89="사용자항목5",L89,0) -> 0 | AH89: =IF(P89="사용자항목6",L89,0) -> 0 | AI89: =IF(P89="사용자항목7",L89,0) -> 0 | AJ89: =IF(P89="사용자항목8",L89,0) -> 0 | AK89: =IF(P89="사용자항목9",L89,0) -> 0
A90: WD_5 전실 | B90: 800*2100 | C90: 개소 | D90: 4 | F90: =ROUNDDOWN(D90*E90,0) -> 0 | H90: =ROUNDDOWN(D90*G90,0) -> 0 | J90: =ROUNDDOWN(D90*I90,0) -> 0 | K90: =E90+G90+I90 -> 0 | L90: =F90+H90+J90 -> 0 | P90: 기계경비 | Q90: 1 | R90: =IF(P90="기계경비",J90,0) -> 0 | S90: =IF(P90="운반비",J90,0) -> 0 | T90: =IF(P90="작업부산물",F90,0) -> 0 | U90: =IF(P90="관급",ROUNDDOWN(D90*E90,0),0)+IF(P90="지급",ROUNDDOWN(D90*E90,0),0) -> 0 | V90: =IF(P90="외주비",F90+H90+J90,0) -> 0 | W90: =IF(P90="장비비",F90+H90+J90,0) -> 0 | X90: =IF(P90="폐기물처리비",J90,0) -> 0 | Y90: =IF(P90="가설비",J90,0) -> 0 | Z90: =IF(P90="잡비제외분",F90,0) -> 0 | AA90: =IF(P90="사급자재대",L90,0) -> 0 | AB90: =IF(P90="관급자재대",L90,0) -> 0 | AC90: =IF(P90="사용자항목1",L90,0) -> 0 | AD90: =IF(P90="사용자항목2",L90,0) -> 0 | AE90: =IF(P90="사용자항목3",L90,0) -> 0 | AF90: =IF(P90="사용자항목4",L90,0) -> 0 | AG90: =IF(P90="사용자항목5",L90,0) -> 0 | AH90: =IF(P90="사용자항목6",L90,0) -> 0 | AI90: =IF(P90="사용자항목7",L90,0) -> 0 | AJ90: =IF(P90="사용자항목8",L90,0) -> 0 | AK90: =IF(P90="사용자항목9",L90,0) -> 0
A91: 목재도어설치 | B91: SGP,편개(하드웨어포함) | C91: EA | D91: 23 | F91: =ROUNDDOWN(D91*E91,0) -> 0 | H91: =ROUNDDOWN(D91*G91,0) -> 0 | J91: =ROUNDDOWN(D91*I91,0) -> 0 | K91: =E91+G91+I91 -> 0 | L91: =F91+H91+J91 -> 0 | O91: 01 | P91: 기계경비 | Q91: 1 | R91: =IF(P91="기계경비",J91,0) -> 0 | S91: =IF(P91="운반비",J91,0) -> 0 | T91: =IF(P91="작업부산물",F91,0) -> 0 | U91: =IF(P91="관급",ROUNDDOWN(D91*E91,0),0)+IF(P91="지급",ROUNDDOWN(D91*E91,0),0) -> 0 | V91: =IF(P91="외주비",F91+H91+J91,0) -> 0 | W91: =IF(P91="장비비",F91+H91+J91,0) -> 0 | X91: =IF(P91="폐기물처리비",J91,0) -> 0 | Y91: =IF(P91="가설비",J91,0) -> 0 | Z91: =IF(P91="잡비제외분",F91,0) -> 0 | AA91: =IF(P91="사급자재대",L91,0) -> 0 | AB91: =IF(P91="관급자재대",L91,0) -> 0 | AC91: =IF(P91="사용자항목1",L91,0) -> 0 | AD91: =IF(P91="사용자항목2",L91,0) -> 0 | AE91: =IF(P91="사용자항목3",L91,0) -> 0 | AF91: =IF(P91="사용자항목4",L91,0) -> 0 | AG91: =IF(P91="사용자항목5",L91,0) -> 0 | AH91: =IF(P91="사용자항목6",L91,0) -> 0 | AI91: =IF(P91="사용자항목7",L91,0) -> 0 | AJ91: =IF(P91="사용자항목8",L91,0) -> 0 | AK91: =IF(P91="사용자항목9",L91,0) -> 0
A92: 우레탄폼 충전 | B92: 창호주위 (건식벽) | C92: m | D92: 18 | F92: =ROUNDDOWN(D92*E92,0) -> 0 | H92: =ROUNDDOWN(D92*G92,0) -> 0 | J92: =ROUNDDOWN(D92*I92,0) -> 0 | K92: =E92+G92+I92 -> 0 | L92: =F92+H92+J92 -> 0 | O92: 01 | P92: 기계경비 | Q92: 1 | R92: =IF(P92="기계경비",J92,0) -> 0 | S92: =IF(P92="운반비",J92,0) -> 0 | T92: =IF(P92="작업부산물",F92,0) -> 0 | U92: =IF(P92="관급",ROUNDDOWN(D92*E92,0),0)+IF(P92="지급",ROUNDDOWN(D92*E92,0),0) -> 0 | V92: =IF(P92="외주비",F92+H92+J92,0) -> 0 | W92: =IF(P92="장비비",F92+H92+J92,0) -> 0 | X92: =IF(P92="폐기물처리비",J92,0) -> 0 | Y92: =IF(P92="가설비",J92,0) -> 0 | Z92: =IF(P92="잡비제외분",F92,0) -> 0 | AA92: =IF(P92="사급자재대",L92,0) -> 0 | AB92: =IF(P92="관급자재대",L92,0) -> 0 | AC92: =IF(P92="사용자항목1",L92,0) -> 0 | AD92: =IF(P92="사용자항목2",L92,0) -> 0 | AE92: =IF(P92="사용자항목3",L92,0) -> 0 | AF92: =IF(P92="사용자항목4",L92,0) -> 0 | AG92: =IF(P92="사용자항목5",L92,0) -> 0 | AH92: =IF(P92="사용자항목6",L92,0) -> 0 | AI92: =IF(P92="사용자항목7",L92,0) -> 0 | AJ92: =IF(P92="사용자항목8",L92,0) -> 0 | AK92: =IF(P92="사용자항목9",L92,0) -> 0
...

Sheet 일위대가목록
A1: 일 위 대 가 표 목 록
A2: 공사명 : 광화문우체국대수선공사
A3: 호 표 | B3: 품 명 | C3: 규 격 | D3: 단위 | E3: 수량 | F3: 재 료 비 | H3: 노 무 비 | J3: 경 비 | L3: 합 계 | N3: 비 고
F4: 단 가 | G4: 금 액 | H4: 단 가 | I4: 금 액 | J4: 단 가 | K4: 금 액 | L4: 단 가 | M4: 금 액 | O4: 손료요율 | P4: 손료구분 | Q4: 적용구분 | R4: 합계구분
A5: 일위 1호 | B5: 이동식강관말비계 | C5: 3개월,1단(2m) | D5: 1대 | E5: 1 | F5: =일위대가표!F16 -> 47231 | G5: =E5*F5 -> 47231 | H5: =일위대가표!H16 -> 36878 | I5: =E5*H5 -> 36878 | J5: =일위대가표!J16 -> 0 | K5: =E5*J5 -> 0 | L5: =F5+H5+J5 -> 84109 | M5: =G5+I5+K5 -> 84109 | N5: 품셈2-6-3
A6: 일위 2호 | B6: 폐기물상차 | C6: 인력 | D6: TON | E6: 1 | F6: =일위대가표!F19 -> 0 | G6: =E6*F6 -> 0 | H6: =일위대가표!H19 -> 8780 | I6: =E6*H6 -> 8780 | J6: =일위대가표!J19 -> 0 | K6: =E6*J6 -> 0 | L6: =F6+H6+J6 -> 8780 | M6: =G6+I6+K6 -> 8780
A7: 일위 3호 | B7: 건축물현장정리 | C7: 보수공사,보양포함 | D7: M2 | E7: 1 | F7: =일위대가표!F23 -> 187.5 | G7: =E7*F7 -> 187.5 | H7: =일위대가표!H23 -> 878 | I7: =E7*H7 -> 878 | J7: =일위대가표!J23 -> 0 | K7: =E7*J7 -> 0 | L7: =F7+H7+J7 -> 1065.5 | M7: =G7+I7+K7 -> 1065.5 | N7: 품셈2-10
A8: 일위 4호 | B8: 0.5B 시멘트벽돌쌓기 | C8: 3.6m이하, 시멘트모래포함 | D8: 매 | E8: 1 | F8: =일위대가표!F28 -> 16 | G8: =E8*F8 -> 16 | H8: =일위대가표!H28 -> 163 | I8: =E8*H8 -> 163 | J8: =일위대가표!J28 -> 0 | K8: =E8*J8 -> 0 | L8: =F8+H8+J8 -> 179 | M8: =G8+I8+K8 -> 179 | N8: 건축8-1-2
A9: 일위 5호 | B9: 모르타르 | C9: 배합용적비 1:3, 시멘트모래포함 | D9: M3 | E9: 1 | F9: =일위대가표!F32 -> 65220 | G9: =E9*F9 -> 65220 | H9: =일위대가표!H32 -> 0 | I9: =E9*H9 -> 0 | J9: =일위대가표!J32 -> 0 | K9: =E9*J9 -> 0 | L9: =F9+H9+J9 -> 65220 | M9: =G9+I9+K9 -> 65220 | N9: 건축15-1-1
A10: 일위 6호 | B10: 1.0B 시멘트벽돌쌓기 | C10: 3.6m이하, 시멘트모래포함 | D10: 매 | E10: 1 | F10: =일위대가표!F37 -> 21 | G10: =E10*F10 -> 21 | H10: =일위대가표!H37 -> 151 | I10: =E10*H10 -> 151 | J10: =일위대가표!J37 -> 0 | K10: =E10*J10 -> 0 | L10: =F10+H10+J10 -> 172 | M10: =G10+I10+K10 -> 172 | N10: 건축8-1-2
A11: 일위 7호 | B11: 벽돌소운반 | C11: 인력, 5층이상 | D11: 매 | E11: 1 | F11: =일위대가표!F40 -> 0 | G11: =E11*F11 -> 0 | H11: =일위대가표!H40 -> 70 | I11: =E11*H11 -> 70 | J11: =일위대가표!J40 -> 0 | K11: =E11*J11 -> 0 | L11: =F11+H11+J11 -> 70 | M11: =G11+I11+K11 -> 70 | N11: 건축8-2
A12: 일위 8호 | B12: 시멘트액체방수 | C12: 1종 | D12: M2 | E12: 1 | F12: =일위대가표!F48 -> 4462 | G12: =E12*F12 -> 4462 | H12: =일위대가표!H48 -> 9441 | I12: =E12*H12 -> 9441 | J12: =일위대가표!J48 -> 0 | K12: =E12*J12 -> 0 | L12: =F12+H12+J12 -> 13903 | M12: =G12+I12+K12 -> 13903 | N12: 건축12-7-2
A13: 일위 9호 | B13: 시멘트액체방수 | C13: 2종 | D13: M2 | E13: 1 | F13: =일위대가표!F56 -> 2912 | G13: =E13*F13 -> 2912 | H13: =일위대가표!H56 -> 7412 | I13: =E13*H13 -> 7412 | J13: =일위대가표!J56 -> 0 | K13: =E13*J13 -> 0 | L13: =F13+H13+J13 -> 10324 | M13: =G13+I13+K13 -> 10324 | N13: 건축12-7-2
A14: 일위 10호 | B14: 도막방수 | C14: 비노출,바닥 | D14: M2 | E14: 1 | F14: =일위대가표!F61 -> 182 | G14: =E14*F14 -> 182 | H14: =일위대가표!H61 -> 6089 | I14: =E14*H14 -> 6089 | J14: =일위대가표!J61 -> 0 | K14: =E14*J14 -> 0 | L14: =F14+H14+J14 -> 6271 | M14: =G14+I14+K14 -> 6271 | N14: 건축12-5
A15: 일위 11호 | B15: 바탕고르기 | C15: 바닥24mm | D15: M2 | E15: 1 | F15: =일위대가표!F66 -> 1855 | G15: =E15*F15 -> 1855 | H15: =일위대가표!H66 -> 5529 | I15: =E15*H15 -> 5529 | J15: =일위대가표!J66 -> 0 | K15: =E15*J15 -> 0 | L15: =F15+H15+J15 -> 7384 | M15: =G15+I15+K15 -> 7384 | N15: 건축10-1
A16: 일위 12호 | B16: 모르타르배합 | C16: 1:3, 체가름有,재료포함 | D16: M3 | E16: 1 | F16: =일위대가표!F71 -> 77320 | G16: =E16*F16 -> 77320 | H16: =일위대가표!H71 -> 40565 | I16: =E16*H16 -> 40565 | J16: =일위대가표!J71 -> 0 | K16: =E16*J16 -> 0 | L16: =F16+H16+J16 -> 117885 | M16: =G16+I16+K16 -> 117885 | N16: 건축15-1-1
A17: 일위 13호 | B17: 바탕고르기 | C17: 벽18mm | D17: M2 | E17: 1 | F17: =일위대가표!F76 -> 1391 | G17: =E17*F17 -> 1391 | H17: =일위대가표!H76 -> 6776 | I17: =E17*H17 -> 6776 | J17: =일위대가표!J76 -> 0 | K17: =E17*J17 -> 0 | L17: =F17+H17+J17 -> 8167 | M17: =G17+I17+K17 -> 8167 | N17: 건축10-1
A18: 일위 14호 | B18: 모르타르바름(3.6m이하) | C18: 벽체,T:18mm | D18: M2 | E18: 1 | F18: =일위대가표!F82 -> 1391 | G18: =E18*F18 -> 1391 | H18: =일위대가표!H82 -> 16898 | I18: =E18*H18 -> 16898 | J18: =일위대가표!J82 -> 0 | K18: =E18*J18 -> 0 | L18: =F18+H18+J18 -> 18289 | M18: =G18+I18+K18 -> 18289 | N18: 건축15-1-2.1
A19: 일위 15호 | B19: 모르타르바름(인력) | C19: 3.6m 이하, 초벌바르기 | D19: M2 | E19: 1 | F19: =일위대가표!F86 -> 0 | G19: =E19*F19 -> 0 | H19: =일위대가표!H86 -> 3854 | I19: =E19*H19 -> 3854 | J19: =일위대가표!J86 -> 0 | K19: =E19*J19 -> 0 | L19: =F19+H19+J19 -> 3854 | M19: =G19+I19+K19 -> 3854 | N19: 건축15-1-2.1
A20: 일위 16호 | B20: 모르타르바름(인력) | C20: 3.6m 이하, 재벌바르기 | D20: M2 | E20: 1 | F20: =일위대가표!F90 -> 0 | G20: =E20*F20 -> 0 | H20: =일위대가표!H90 -> 5960 | I20: =E20*H20 -> 5960 | J20: =일위대가표!J90 -> 0 | K20: =E20*J20 -> 0 | L20: =F20+H20+J20 -> 5960 | M20: =G20+I20+K20 -> 5960 | N20: 건축15-1-2.1
A21: 일위 17호 | B21: 모르타르바름(인력) | C21: 3.6m 이하, 정벌바르기 | D21: M2 | E21: 1 | F21: =일위대가표!F94 -> 0 | G21: =E21*F21 -> 0 | H21: =일위대가표!H94 -> 6354 | I21: =E21*H21 -> 6354 | J21: =일위대가표!J94 -> 0 | K21: =E21*J21 -> 0 | L21: =F21+H21+J21 -> 6354 | M21: =G21+I21+K21 -> 6354 | N21: 건축15-1-2.1
A22: 일위 18호 | B22: 모르타르충전 | C22: 창틀주위 | D22: M | E22: 1 | F22: =일위대가표!F99 -> 645 | G22: =E22*F22 -> 645 | H22: =일위대가표!H99 -> 1588 | I22: =E22*H22 -> 1588 | J22: =일위대가표!J99 -> 0 | K22: =E22*J22 -> 0 | L22: =F22+H22+J22 -> 2233 | M22: =G22+I22+K22 -> 2233 | N22: 건축15-3
A23: 일위 19호 | B23: 모르타르배합 | C23: 1:4, 체가름無,재료포함 | D23: M3 | E23: 1 | F23: =일위대가표!F104 -> 64570 | G23: =E23*F23 -> 64570 | H23: =일위대가표!H104 -> 26367 | I23: =E23*H23 -> 26367 | J23: =일위대가표!J104 -> 0 | K23: =E23*J23 -> 0 | L23: =F23+H23+J23 -> 90937 | M23: =G23+I23+K23 -> 90937 | N23: 건축15-1-1
A24: 일위 20호 | B24: 타일압착붙임(5mm) | C24: 바닥, 타일 0.04~0.10㎡ 이하 | D24: M2 | E24: 1 | F24: =일위대가표!F112 -> 950 | G24: =E24*F24 -> 950 | H24: =일위대가표!H112 -> 15301 | I24: =E24*H24 -> 15301 | J24: =일위대가표!J112 -> 0 | K24: =E24*J24 -> 0 | L24: =F24+H24+J24 -> 16251 | M24: =G24+I24+K24 -> 16251 | N24: 건축10-2-2
A25: 일위 21호 | B25: 모르타르 | C25: 배합용적비 1:2, 시멘트모래포함 | D25: M3 | E25: 1 | F25: =일위대가표!F116 -> 81120 | G25: =E25*F25 -> 81120 | H25: =일위대가표!H116 -> 0 | I25: =E25*H25 -> 0 | J25: =일위대가표!J116 -> 0 | K25: =E25*J25 -> 0 | L25: =F25+H25+J25 -> 81120 | M25: =G25+I25+K25 -> 81120 | N25: 건축15-1-1
A26: 일위 22호 | B26: 모르타르 | C26: 배합용적비 1:1, 시멘트모래포함 | D26: M3 | E26: 1 | F26: =일위대가표!F120 -> 120846 | G26: =E26*F26 -> 120846 | H26: =일위대가표!H120 -> 0 | I26: =E26*H26 -> 0 | J26: =일위대가표!J120 -> 0 | K26: =E26*J26 -> 0 | L26: =F26+H26+J26 -> 120846 | M26: =G26+I26+K26 -> 120846 | N26: 건축15-1-1
A27: 일위 23호 | B27: 타일압착붙임(5mm) | C27: 벽, 타일 0.11~0.20㎡ 이하 | D27: M2 | E27: 1 | F27: =일위대가표!F128 -> 1080 | G27: =E27*F27 -> 1080 | H27: =일위대가표!H128 -> 17022 | I27: =E27*H27 -> 17022 | J27: =일위대가표!J128 -> 0 | K27: =E27*J27 -> 0 | L27: =F27+H27+J27 -> 18102 | M27: =G27+I27+K27 -> 18102 | N27: 건축10-2-2
A28: 일위 24호 | B28: 바탕고르기 | C28: 바닥45mm | D28: M2 | E28: 1 | F28: =일위대가표!F133 -> 3479 | G28: =E28*F28 -> 3479 | H28: =일위대가표!H133 -> 6381 | I28: =E28*H28 -> 6381 | J28: =일위대가표!J133 -> 0 | K28: =E28*J28 -> 0 | L28: =F28+H28+J28 -> 9860 | M28: =G28+I28+K28 -> 9860 | N28: 건축10-1
A29: 일위 25호 | B29: WD_1 청장실 | C29: 1800*2400 | D29: 개소 | E29: 1 | F29: =일위대가표!F136 -> 1339200 | G29: =E29*F29 -> 1339200 | H29: =일위대가표!H136 -> 0 | I29: =E29*H29 -> 0 | J29: =일위대가표!J136 -> 0 | K29: =E29*J29 -> 0 | L29: =F29+H29+J29 -> 1339200 | M29: =G29+I29+K29 -> 1339200
A30: 일위 26호 | B30: WD_2 청장실 | C30: 900*2400 | D30: 개소 | E30: 1 | F30: =일위대가표!F139 -> 680400 | G30: =E30*F30 -> 680400 | H30: =일위대가표!H139 -> 0 | I30: =E30*H30 -> 0 | J30: =일위대가표!J139 -> 0 | K30: =E30*J30 -> 0 | L30: =F30+H30+J30 -> 680400 | M30: =G30+I30+K30 -> 680400
A31: 일위 27호 | B31: WD_3 부속실 | C31: 900*2400 | D31: 개소 | E31: 1 | F31: =일위대가표!F142 -> 680400 | G31: =E31*F31 -> 680400 | H31: =일위대가표!H142 -> 0 | I31: =E31*H31 -> 0 | J31: =일위대가표!J142 -> 0 | K31: =E31*J31 -> 0 | L31: =F31+H31+J31 -> 680400 | M31: =G31+I31+K31 -> 680400
A32: 일위 28호 | B32: WD_4 부속실 | C32: 1800*2100 | D32: 개소 | E32: 1 | F32: =일위대가표!F145 -> 283500 | G32: =E32*F32 -> 283500 | H32: =일위대가표!H145 -> 0 | I32: =E32*H32 -> 0 | J32: =일위대가표!J145 -> 0 | K32: =E32*J32 -> 0 | L32: =F32+H32+J32 -> 283500 | M32: =G32+I32+K32 -> 283500
A33: 일위 29호 | B33: WD_5 전실 | C33: 800*2100 | D33: 개소 | E33: 1 | F33: =일위대가표!F148 -> 529200 | G33: =E33*F33 -> 529200 | H33: =일위대가표!H148 -> 0 | I33: =E33*H33 -> 0 | J33: =일위대가표!J148 -> 0 | K33: =E33*J33 -> 0 | L33: =F33+H33+J33 -> 529200 | M33: =G33+I33+K33 -> 529200
A34: 일위 30호 | B34: 수밀코킹(5mm각) | C34: 실리콘 | D34: M | E34: 1 | F34: =일위대가표!F152 -> 189 | G34: =E34*F34 -> 189 | H34: =일위대가표!H152 -> 2431 | I34: =E34*H34 -> 2431 | J34: =일위대가표!J152 -> 0 | K34: =E34*J34 -> 0 | L34: =F34+H34+J34 -> 2620 | M34: =G34+I34+K34 -> 2620 | N34: 건축12-12-1
A35: 일위 31호 | B35: 재료분리대(바닥) | C35: W25*H20*1.5tSST | D35: M | E35: 1 | F35: =일위대가표!F159 -> 5377 | G35: =E35*F35 -> 5377 | H35: =일위대가표!H159 -> 7362 | I35: =E35*H35 -> 7362 | J35: =일위대가표!J159 -> 29 | K35: =E35*J35 -> 29 | L35: =F35+H35+J35 -> 12768 | M35: =G35+I35+K35 -> 12768 | N35: 참고자료
A36: 일위 32호 | B36: 잡철물제작설치(스텐) | C36: 간단 | D36: KG | E36: 1 | F36: =일위대가표!F171 -> 292 | G36: =E36*F36 -> 292 | H36: =일위대가표!H171 -> 3012 | I36: =E36*H36 -> 3012 | J36: =일위대가표!J171 -> 12 | K36: =E36*J36 -> 12 | L36: =F36+H36+J36 -> 3316 | M36: =G36+I36+K36 -> 3316 | N36: 건축14-6
A37: 일위 34호 | B37: 잡철물제작설치(철제) | C37: 간단 | D37: KG | E37: 1 | F37: =일위대가표!F183 -> 187 | G37: =E37*F37 -> 187 | H37: =일위대가표!H183 -> 3012 | I37: =E37*H37 -> 3012 | J37: =일위대가표!J183 -> 12 | K37: =E37*J37 -> 12 | L37: =F37+H37+J37 -> 3211 | M37: =G37+I37+K37 -> 3211 | N37: 건축14-6
A38: 일위 35호 | B38: 유리끼우기(판유리) | C38: 5mm이하 | D38: M2 | E38: 1 | F38: =일위대가표!F186 -> 0 | G38: =E38*F38 -> 0 | H38: =일위대가표!H186 -> 7937 | I38: =E38*H38 -> 7937 | J38: =일위대가표!J186 -> 0 | K38: =E38*J38 -> 0 | L38: =F38+H38+J38 -> 7937 | M38: =G38+I38+K38 -> 7937 | N38: 건축16-5-1
A39: 일위 36호 | B39: 유리주위코킹 | C39: 5*5,실리콘 | D39: M | E39: 1 | F39: =일위대가표!F189 -> 279 | G39: =E39*F39 -> 279 | H39: =일위대가표!H189 -> 0 | I39: =E39*H39 -> 0 | J39: =일위대가표!J189 -> 0 | K39: =E39*J39 -> 0 | L39: =F39+H39+J39 -> 279 | M39: =G39+I39+K39 -> 279 | N39: 건축16-5-1
A40: 일위 37호 | B40: 암면텍스붙임 | C40: 12mm천정,텍스포함 | D40: M2 | E40: 1 | F40: =일위대가표!F195 -> 8858 | G40: =E40*F40 -> 8858 | H40: =일위대가표!H195 -> 7949 | I40: =E40*H40 -> 7949 | J40: =일위대가표!J195 -> 0 | K40: =E40*J40 -> 0 | L40: =F40+H40+J40 -> 16807 | M40: =G40+I40+K40 -> 16807 | N40: 건축18-2-1.1
...

Sheet 일위대가표
A1: 일 위 대 가 명 세 서
A2: 공사명 : 광화문우체국대수선공사
A3: 품 명 | B3: 규 격 | C3: 단위 | D3: 수 량 | E3: 재 료 비 | G3: 노 무 비 | I3: 경 비 | K3: 합 계 | M3: 비 고
E4: 단 가 | F4: 금 액 | G4: 단 가 | H4: 금 액 | I4: 단 가 | J4: 금 액 | K4: 단 가 | L4: 금 액 | N4: 손료요율 | O4: 손료구분 | P4: 적용구분 | Q4: 합계구분
A5: 일위 1호 이동식강관말비계 | B5: 3개월,1단(2m) | C5: 1대 | M5: 품셈2-6-3
A6: 비계기본틀(기둥) | B6: 1.2*1.7 ( H=1700 * W=1219 ) | C6: EA | D6: 0.12 | E6: =ROUNDDOWN(자재단가대비표!N39,0) -> 20830 | F6: =ROUNDDOWN(D6*E6,1) -> 2499.6 | K6: =E6+G6+I6 -> 20830 | L6: =F6+H6+J6 -> 2499.6 | O6: 01 | P6: 기계경비 | Q6: 1
A7: 가새 | B7: 1.2*1.9 | C7: EA | D7: 0.24 | E7: =ROUNDDOWN(자재단가대비표!N20,0) -> 6640 | F7: =ROUNDDOWN(D7*E7,1) -> 1593.6 | K7: =E7+G7+I7 -> 6640 | L7: =F7+H7+J7 -> 1593.6 | O7: 01 | P7: 기계경비 | Q7: 1
A8: 수평띠장 | B8: L=1829 | C8: EA | D8: 0.24 | E8: =ROUNDDOWN(자재단가대비표!N56,0) -> 24000 | F8: =ROUNDDOWN(D8*E8,1) -> 5760 | K8: =E8+G8+I8 -> 24000 | L8: =F8+H8+J8 -> 5760 | O8: 01 | P8: 기계경비 | Q8: 1
A9: 손잡이기둥 | C9: EA | D9: 0.24 | E9: =ROUNDDOWN(자재단가대비표!N54,0) -> 24500 | F9: =ROUNDDOWN(D9*E9,1) -> 5880 | K9: =E9+G9+I9 -> 24500 | L9: =F9+H9+J9 -> 5880 | M9: 1.2*1.7 | O9: 01 | P9: 기계경비 | Q9: 1
A10: 비계안정장치(손잡이) | B10: L=1229 | C10: EA | D10: 0.12 | E10: =ROUNDDOWN(자재단가대비표!N40,0) -> 8000 | F10: =ROUNDDOWN(D10*E10,1) -> 960 | K10: =E10+G10+I10 -> 8000 | L10: =F10+H10+J10 -> 960 | O10: 01 | P10: 기계경비 | Q10: 1
A11: 비계안정장치(손잡이) | B11: L=1829 | C11: EA | D11: 0.24 | E11: =ROUNDDOWN(자재단가대비표!N41,0) -> 24000 | F11: =ROUNDDOWN(D11*E11,1) -> 5760 | K11: =E11+G11+I11 -> 24000 | L11: =F11+H11+J11 -> 5760 | O11: 01 | P11: 기계경비 | Q11: 1
A12: 바퀴 | B12: L=1829 | C12: EA | D12: 0.36 | E12: =ROUNDDOWN(자재단가대비표!N36,0) -> 24000 | F12: =ROUNDDOWN(D12*E12,1) -> 8640 | K12: =E12+G12+I12 -> 24000 | L12: =F12+H12+J12 -> 8640 | O12: 01 | P12: 기계경비 | Q12: 1
A13: 쟈키 | B13: L=1829 | C13: EA | D13: 0.36 | E13: =ROUNDDOWN(자재단가대비표!N86,0) -> 10100 | F13: =ROUNDDOWN(D13*E13,1) -> 3636 | K13: =E13+G13+I13 -> 10100 | L13: =F13+H13+J13 -> 3636 | O13: 01 | P13: 기계경비 | Q13: 1
A14: 판재 | B14: 외송 일반(㎥) | C14: M3 | D14: 0.0315 | E14: =ROUNDDOWN(자재단가대비표!N99,0) -> 396900 | F14: =ROUNDDOWN(D14*E14,1) -> 12502.3 | K14: =E14+G14+I14 -> 396900 | L14: =F14+H14+J14 -> 12502.3 | O14: 01 | P14: 기계경비 | Q14: 1
A15: 보통인부 | C15: 인 | D15: 0.42 | G15: =ROUNDDOWN(자재단가대비표!N119,0) -> 87805 | H15: =ROUNDDOWN(D15*G15,1) -> 36878.1 | K15: =E15+G15+I15 -> 87805 | L15: =F15+H15+J15 -> 36878.1 | O15: 02 | P15: 기계경비 | Q15: 1
A16: 합 계 | F16: =ROUNDDOWN(SUMIF($Q$6:$Q$15, 1,$F$6:$F$15),0) -> 47231 | H16: =ROUNDDOWN(SUMIF($Q$6:$Q$15, 1,$H$6:$H$15),0) -> 36878 | J16: =ROUNDDOWN(SUMIF($Q$6:$Q$15, 1,$J$6:$J$15),0) -> 0 | L16: =F16+H16+J16 -> 84109
A17: 일위 2호 폐기물상차 | B17: 인력 | C17: TON
A18: 보통인부 | C18: 인 | D18: 0.1 | G18: =ROUNDDOWN(자재단가대비표!N119,0) -> 87805 | H18: =ROUNDDOWN(D18*G18,1) -> 8780.5 | K18: =E18+G18+I18 -> 87805 | L18: =F18+H18+J18 -> 8780.5 | O18: 02 | P18: 기계경비 | Q18: 1
A19: 합 계 | F19: =ROUNDDOWN(SUMIF($Q$18:$Q$18, 1,$F$18:$F$18),0) -> 0 | H19: =ROUNDDOWN(SUMIF($Q$18:$Q$18, 1,$H$18:$H$18),0) -> 8780 | J19: =ROUNDDOWN(SUMIF($Q$18:$Q$18, 1,$J$18:$J$18),0) -> 0 | L19: =F19+H19+J19 -> 8780
A20: 일위 3호 건축물현장정리 | B20: 보수공사 | C20: M2 | M20: 품셈2-10
A21: 보통인부 | C21: 인 | D21: 0.01 | G21: =ROUNDDOWN(자재단가대비표!N119,0) -> 87805 | H21: =ROUNDDOWN(D21*G21,1) -> 878 | K21: =E21+G21+I21 -> 87805 | L21: =F21+H21+J21 -> 878 | O21: 02 | P21: 기계경비 | Q21: 1
A22: 비닐재 | C22: M2 | D22: 0.25 | E22: 750 | F22: =ROUNDDOWN(D22*E22,1) -> 187.5
A23: 합 계 | F23: =F21+F22 -> 187.5 | H23: =H21+H22 -> 878 | J23: =ROUNDDOWN(SUMIF($Q$21:$Q$21, 1,$J$21:$J$21),0) -> 0 | L23: =F23+H23+J23 -> 1065.5
A24: 일위 4호 0.5B 시멘트벽돌쌓기 | B24: 3.6m이하, 시멘트모래포함 | C24: 매 | M24: 건축8-1-2
A25: 모르타르 | B25: 배합용적비 1:3, 시멘트모래포함 | C25: M3 | D25: 0.00025 | E25: =ROUNDDOWN(일위대가표!F32,0) -> 65220 | F25: =ROUNDDOWN(D25*E25,1) -> 16.3 | K25: =E25+G25+I25 -> 65220 | L25: =F25+H25+J25 -> 16.3 | M25: 일위 5호 | P25: 기계경비 | Q25: 1
A26: 조적공 | C26: 인 | D26: 0.0011 | G26: =ROUNDDOWN(자재단가대비표!N123,0) -> 125105 | H26: =ROUNDDOWN(D26*G26,1) -> 137.6 | K26: =E26+G26+I26 -> 125105 | L26: =F26+H26+J26 -> 137.6 | O26: 02 | P26: 기계경비 | Q26: 1
A27: 보통인부 | C27: 인 | D27: 0.0003 | G27: =ROUNDDOWN(자재단가대비표!N119,0) -> 87805 | H27: =ROUNDDOWN(D27*G27,1) -> 26.3 | K27: =E27+G27+I27 -> 87805 | L27: =F27+H27+J27 -> 26.3 | O27: 02 | P27: 기계경비 | Q27: 1
A28: 합 계 | F28: =ROUNDDOWN(SUMIF($Q$25:$Q$27, 1,$F$25:$F$27),0) -> 16 | H28: =ROUNDDOWN(SUMIF($Q$25:$Q$27, 1,$H$25:$H$27),0) -> 163 | J28: =ROUNDDOWN(SUMIF($Q$25:$Q$27, 1,$J$25:$J$27),0) -> 0 | L28: =F28+H28+J28 -> 179
A29: 일위 5호 모르타르 | B29: 배합용적비 1:3, 시멘트모래포함 | C29: M3 | M29: 건축15-1-1
A30: 시멘트 | B30: 40kg 포장품 | C30: KG | D30: 510 | E30: =ROUNDDOWN(자재단가대비표!N64,0) -> 102 | F30: =ROUNDDOWN(D30*E30,1) -> 52020 | K30: =E30+G30+I30 -> 102 | L30: =F30+H30+J30 -> 52020 | O30: 01 | P30: 기계경비 | Q30: 1
