Workbook

Sheet 원가계산서
A1: 공 사 원 가 계 산 서
A2: 공사명 : 서울지방우정청 이전공사(건축)
A3: 구 분 비 목 | D3: 구 성 비 | E3: 금 액 | F3: 비 고
A5: 순 공 사 원 가 | B5: 재료비 | C5: 직 접 재 료 비 | E5: =집계표!F24 -> 0 | G5: A1 | I5: =E5 -> 0
C6: 간 접 재 료 비 | E6: =ROUNDDOWN(SUMIF($G$5:$G$26,"A1",$E$5:$E$26)*J6,0) -> 0 | G6: A2 | I6: =E6 -> 0
C7: 작업설.부산물 등(△) | G7: A3 | I7: =E7 -> 0
C8: 소 계 | E8: =SUM(E5:E6)-ABS(SUMIF($G$5:$G$26,"A3",$E$5:$E$26)) -> 0 | G8: A | I8: =E8 -> 0
B9: 노무비 | C9: 직 접 노 무 비 | E9: =집계표!H24 -> 0 | G9: B1 | I9: =E9 -> 0
C10: 간 접 노 무 비 | D10: ="직.노*"&H10*100&"%" -> 직.노*9.1% | E10: =TRUNC(E9*0.091) -> 0 | F10: 최대 9.1% | G10: B2 | H10: 0.091 | I10: =ROUNDDOWN(SUMIF($G$5:$G$26,"B1",$I$5:$I$26)*H10,0) -> 0 | J10: 0.091
C11: 소 계 | E11: =SUM(E9:E10) -> 0 | G11: B | I11: =E11 -> 0
B12: 경 비 | C12: 기 계 경 비 | E12: =집계표!J24 -> 0 | G12: C4 | I12: =E12 -> 0
C13: 산 재 보 험 료 | D13: ="(노)*"&H13*100&"%" -> (노)*3.8% | E13: =TRUNC(E11*0.038) -> 0 | F13: 3.8% 법정 | G13: C10 | H13: 0.038 | I13: =ROUNDDOWN((SUMIF($G$5:$G$26,"B",$I$5:$I$26))*H13,0) -> 0 | J13: 0.038
C14: 고 용 보 험 료 | D14: ="(노)*"&H14*100&"%" -> (노)*0.87% | E14: =TRUNC(E11*0.0087) -> 0 | F14: 0.87% 법정 | G14: C11 | H14: 0.0087 | I14: =ROUNDDOWN((SUMIF($G$5:$G$26,"B",$I$5:$I$26))*H14,0) -> 0 | J14: 0.0087
C15: 산업안전 보건관리비 | D15: ="(재+직.노)*"&H15*100&"%" -> (재+직.노)*2.93% | E15: =TRUNC((E8+E9)*0.0293) -> 0 | F15: 2.93% 법정 | G15: C15 | H15: 0.0293 | I15: =ROUNDDOWN((SUMIF($G$5:$G$26,"A",$I$5:$I$26)+SUMIF($G$5:$G$26,"B1",$I$5:$I$26))*H15,0) -> 0 | J15: 0.0293
C16: 기 타 경 비 | D16: ="(재+노)*"&H16*100&"%" -> (재+노)*4.05% | E16: =TRUNC((E8+E11)*0.0405) -> 0 | F16: 최대 4.05% | G16: C26 | H16: 0.0405 | I16: =ROUNDDOWN((SUMIF($G$5:$G$26,"A",$I$5:$I$26)+SUMIF($G$5:$G$26,"B",$I$5:$I$26))*H16,0) -> 0 | J16: 0.0405
C17: 환 경 보 전 비 | D17: ="(재+직.노+기.경)*"&H17*100&"%" -> (재+직.노+기.경)*0.3% | E17: =TRUNC((E8+E9+E12)*0.003) -> 0 | F17: 0.3% 법정 | G17: C28 | H17: 0.003 | I17: =ROUNDDOWN((SUMIF($G$5:$G$26,"A",$I$5:$I$26)+SUMIF($G$5:$G$26,"B1",$I$5:$I$26)+SUMIF($G$5:$G$26,"C4",$I$5:$I$26))*H17,0) -> 0 | J17: 0.003
C18: 소 계 | E18: =SUM(E12:E17) -> 0 | G18: C | I18: =E18 -> 0
B19: 계 | E19: =E8+E11+E18 -> 0 | G19: X | I19: =E19 -> 0
A20: 일 반 관 리 비 | D20: ="(재+노+경)*"&H20*100&"%" -> (재+노+경)*6% | E20: =TRUNC((E8+E11+E18)*0.06) -> 0 | F20: 최대 6% | G20: D | H20: 0.06 | I20: =ROUNDDOWN((SUMIF($G$5:$G$26,"A",$I$5:$I$26)+SUMIF($G$5:$G$26,"B",$I$5:$I$26)+SUMIF($G$5:$G$26,"C",$I$5:$I$26))*H20,0) -> 0 | J20: 0.06
A21: 이 윤 | D21: ="(노+경+일)*"&H21*100&"%" -> (노+경+일)*11.68% | E21: =TRUNC((E11+E18+E20)*0.1168) -> 0 | F21: 최대 11.68% | G21: E | H21: 0.1168 | I21: =ROUND((SUMIF($G$5:$G$26,"B",$I$5:$I$26)+SUMIF($G$5:$G$26,"C",$I$5:$I$26)+SUMIF($G$5:$G$26,"D",$I$5:$I$26))*H21, 0)+K21 -> 0 | J21: 0.1168
A22: 폐 기 물 처 리 비 | E22: =집계표!L17 -> 0 | G22: L | I22: =E22 -> 0
A23: 총 원 가 | E23: =SUM(E19:E22) -> 0 | G23: F | I23: =SUM(I19:I22) -> 0
A24: 부 가 가 치 세 | D24: ="(총원가)*"&H24*100&"%" -> (총원가)*10% | E24: =E23*10% -> 0 | G24: H | H24: 0.1 | I24: =ROUNDDOWN((SUMIF($G$5:$G$26,"F",$I$5:$I$26))*H24,0) -> 0 | J24: 0.1
A25: 도 급 금 액 | E25: =INT(I25/1000)*1000 -> 0 | G25: Y | I25: =ROUNDDOWN(SUMIF($G$5:$G$26,"F",$I$5:$I$26)+SUMIF($G$5:$G$26,"H",$I$5:$I$26),0) -> 0

Sheet 집계표
A1: 집 계 표
A2: 공사명 : 광화문우체국대수선공사
A3: 품 명 | B3: 규 격 | C3: 단위 | D3: 수 량 | E3: 재 료 비 | G3: 노 무 비 | I3: 경 비 | K3: 합 계 | M3: 비고
E4: 단 가 | F4: 금 액 | G4: 단 가 | H4: 금 액 | I4: 단 가 | J4: 금 액 | K4: 단 가 | L4: 금 액 | N4: 손료요율 | O4: 손료구분 | P4: 적용구분 | Q4: 합계구분 | R4: 기계경비 | S4: 운반비 | T4: 작업부산물 | U4: 관급 | V4: 외주비 | W4: 장비비 | X4: 폐기물처리비 | Y4: 가설비 | Z4: 잡비제외분 | AA4: 사급자재대 | AB4: 관급자재대 | AC4: 사용자항목1 | AD4: 사용자항목2 | AE4: 사용자항목3 | AF4: 사용자항목4 | AG4: 사용자항목5 | AH4: 사용자항목6 | AI4: 사용자항목7 | AJ4: 사용자항목8 | AK4: 사용자항목9 | AL4: 간접재료비
A5: 1. 가설공사 | C5: 식 | D5: 1 | E5: =내역서!F24 -> 0 | F5: =D5*E5 -> 0 | G5: =내역서!H24 -> 0 | H5: =D5*G5 -> 0 | I5: =내역서!J24 -> 0 | J5: =D5*I5 -> 0 | K5: =E5+G5+I5 -> 0 | L5: =F5+H5+J5 -> 0 | Q5: 1 | R5: =내역서!R24*D5 -> 0 | S5: =내역서!S24*D5 -> 0 | T5: =내역서!T24*D5 -> 0 | U5: =내역서!U24*D5 -> 0 | V5: =내역서!V24*D5 -> 0 | W5: =내역서!W24*D5 -> 0 | X5: =내역서!X24*D5 -> 0 | Y5: =내역서!Y24*D5 -> 0 | Z5: =내역서!Z24*D5 -> 0 | AA5: =내역서!AA24*D5 -> 0 | AB5: =내역서!AB24*D5 -> 0 | AC5: =내역서!AC24*D5 -> 0 | AD5: =내역서!AD24*D5 -> 0 | AE5: =내역서!AE24*D5 -> 0 | AF5: =내역서!AF24*D5 -> 0 | AG5: =내역서!AG24*D5 -> 0 | AH5: =내역서!AH24*D5 -> 0 | AI5: =내역서!AI24*D5 -> 0 | AJ5: =내역서!AJ24*D5 -> 0 | AK5: =내역서!AK24*D5 -> 0 | AL5: =내역서!AL24*D5 -> 0
A6: 2. 조적공사 | C6: 식 | D6: 1 | E6: =내역서!F44 -> 0 | F6: =D6*E6 -> 0 | G6: =내역서!H44 -> 0 | H6: =D6*G6 -> 0 | I6: =내역서!J44 -> 0 | J6: =D6*I6 -> 0 | K6: =E6+G6+I6 -> 0 | L6: =F6+H6+J6 -> 0 | Q6: 1 | R6: =내역서!R44*D6 -> 0 | S6: =내역서!S44*D6 -> 0 | T6: =내역서!T44*D6 -> 0 | U6: =내역서!U44*D6 -> 0 | V6: =내역서!V44*D6 -> 0 | W6: =내역서!W44*D6 -> 0 | X6: =내역서!X44*D6 -> 0 | Y6: =내역서!Y44*D6 -> 0 | Z6: =내역서!Z44*D6 -> 0 | AA6: =내역서!AA44*D6 -> 0 | AB6: =내역서!AB44*D6 -> 0 | AC6: =내역서!AC44*D6 -> 0 | AD6: =내역서!AD44*D6 -> 0 | AE6: =내역서!AE44*D6 -> 0 | AF6: =내역서!AF44*D6 -> 0 | AG6: =내역서!AG44*D6 -> 0 | AH6: =내역서!AH44*D6 -> 0 | AI6: =내역서!AI44*D6 -> 0 | AJ6: =내역서!AJ44*D6 -> 0 | AK6: =내역서!AK44*D6 -> 0 | AL6: =내역서!AL44*D6 -> 0
A7: 3. 방수및미장공사 | C7: 식 | D7: 1 | E7: =내역서!F64 -> 0 | F7: =D7*E7 -> 0 | G7: =내역서!H64 -> 0 | H7: =D7*G7 -> 0 | I7: =내역서!J64 -> 0 | J7: =D7*I7 -> 0 | K7: =E7+G7+I7 -> 0 | L7: =F7+H7+J7 -> 0 | Q7: 1 | R7: =내역서!R64*D7 -> 0 | S7: =내역서!S64*D7 -> 0 | T7: =내역서!T64*D7 -> 0 | U7: =내역서!U64*D7 -> 0 | V7: =내역서!V64*D7 -> 0 | W7: =내역서!W64*D7 -> 0 | X7: =내역서!X64*D7 -> 0 | Y7: =내역서!Y64*D7 -> 0 | Z7: =내역서!Z64*D7 -> 0 | AA7: =내역서!AA64*D7 -> 0 | AB7: =내역서!AB64*D7 -> 0 | AC7: =내역서!AC64*D7 -> 0 | AD7: =내역서!AD64*D7 -> 0 | AE7: =내역서!AE64*D7 -> 0 | AF7: =내역서!AF64*D7 -> 0 | AG7: =내역서!AG64*D7 -> 0 | AH7: =내역서!AH64*D7 -> 0 | AI7: =내역서!AI64*D7 -> 0 | AJ7: =내역서!AJ64*D7 -> 0 | AK7: =내역서!AK64*D7 -> 0 | AL7: =내역서!AL64*D7 -> 0
A8: 4. 타일공사 | C8: 식 | D8: 1 | E8: =내역서!F84 -> 0 | F8: =D8*E8 -> 0 | G8: =내역서!H84 -> 0 | H8: =D8*G8 -> 0 | I8: =내역서!J84 -> 0 | J8: =D8*I8 -> 0 | K8: =E8+G8+I8 -> 0 | L8: =F8+H8+J8 -> 0 | Q8: 1 | R8: =내역서!R84*D8 -> 0 | S8: =내역서!S84*D8 -> 0 | T8: =내역서!T84*D8 -> 0 | U8: =내역서!U84*D8 -> 0 | V8: =내역서!V84*D8 -> 0 | W8: =내역서!W84*D8 -> 0 | X8: =내역서!X84*D8 -> 0 | Y8: =내역서!Y84*D8 -> 0 | Z8: =내역서!Z84*D8 -> 0 | AA8: =내역서!AA84*D8 -> 0 | AB8: =내역서!AB84*D8 -> 0 | AC8: =내역서!AC84*D8 -> 0 | AD8: =내역서!AD84*D8 -> 0 | AE8: =내역서!AE84*D8 -> 0 | AF8: =내역서!AF84*D8 -> 0 | AG8: =내역서!AG84*D8 -> 0 | AH8: =내역서!AH84*D8 -> 0 | AI8: =내역서!AI84*D8 -> 0 | AJ8: =내역서!AJ84*D8 -> 0 | AK8: =내역서!AK84*D8 -> 0 | AL8: =내역서!AL84*D8 -> 0
A9: 5. 창호공사 | C9: 식 | D9: 1 | E9: =내역서!F104 -> 0 | F9: =D9*E9 -> 0 | G9: =내역서!H104 -> 0 | H9: =D9*G9 -> 0 | I9: =내역서!J104 -> 0 | J9: =D9*I9 -> 0 | K9: =E9+G9+I9 -> 0 | L9: =F9+H9+J9 -> 0 | Q9: 1 | R9: =내역서!R104*D9 -> 0 | S9: =내역서!S104*D9 -> 0 | T9: =내역서!T104*D9 -> 0 | U9: =내역서!U104*D9 -> 0 | V9: =내역서!V104*D9 -> 0 | W9: =내역서!W104*D9 -> 0 | X9: =내역서!X104*D9 -> 0 | Y9: =내역서!Y104*D9 -> 0 | Z9: =내역서!Z104*D9 -> 0 | AA9: =내역서!AA104*D9 -> 0 | AB9: =내역서!AB104*D9 -> 0 | AC9: =내역서!AC104*D9 -> 0 | AD9: =내역서!AD104*D9 -> 0 | AE9: =내역서!AE104*D9 -> 0 | AF9: =내역서!AF104*D9 -> 0 | AG9: =내역서!AG104*D9 -> 0 | AH9: =내역서!AH104*D9 -> 0 | AI9: =내역서!AI104*D9 -> 0 | AJ9: =내역서!AJ104*D9 -> 0 | AK9: =내역서!AK104*D9 -> 0 | AL9: =내역서!AL104*D9 -> 0
A10: 6. 유리공사 | C10: 식 | D10: 1 | E10: =내역서!F124 -> 0 | F10: =D10*E10 -> 0 | G10: =내역서!H124 -> 0 | H10: =D10*G10 -> 0 | I10: =내역서!J124 -> 0 | J10: =D10*I10 -> 0 | K10: =E10+G10+I10 -> 0 | L10: =F10+H10+J10 -> 0 | Q10: 1 | R10: =내역서!R124*D10 -> 0 | S10: =내역서!S124*D10 -> 0 | T10: =내역서!T124*D10 -> 0 | U10: =내역서!U124*D10 -> 0 | V10: =내역서!V124*D10 -> 0 | W10: =내역서!W124*D10 -> 0 | X10: =내역서!X124*D10 -> 0 | Y10: =내역서!Y124*D10 -> 0 | Z10: =내역서!Z124*D10 -> 0 | AA10: =내역서!AA124*D10 -> 0 | AB10: =내역서!AB124*D10 -> 0 | AC10: =내역서!AC124*D10 -> 0 | AD10: =내역서!AD124*D10 -> 0 | AE10: =내역서!AE124*D10 -> 0 | AF10: =내역서!AF124*D10 -> 0 | AG10: =내역서!AG124*D10 -> 0 | AH10: =내역서!AH124*D10 -> 0 | AI10: =내역서!AI124*D10 -> 0 | AJ10: =내역서!AJ124*D10 -> 0 | AK10: =내역서!AK124*D10 -> 0 | AL10: =내역서!AL124*D10 -> 0
A11: 7. 수장공사 | C11: 식 | D11: 1 | E11: =내역서!F145 -> 0 | F11: =D11*E11 -> 0 | G11: =내역서!H145 -> 0 | H11: =D11*G11 -> 0 | I11: =내역서!J145 -> 0 | J11: =D11*I11 -> 0 | K11: =E11+G11+I11 -> 0 | L11: =F11+H11+J11 -> 0 | Q11: 1 | R11: =내역서!R145*D11 -> 0 | S11: =내역서!S145*D11 -> 0 | T11: =내역서!T145*D11 -> 0 | U11: =내역서!U145*D11 -> 0 | V11: =내역서!V145*D11 -> 0 | W11: =내역서!W145*D11 -> 0 | X11: =내역서!X145*D11 -> 0 | Y11: =내역서!Y145*D11 -> 0 | Z11: =내역서!Z145*D11 -> 0 | AA11: =내역서!AA145*D11 -> 0 | AB11: =내역서!AB145*D11 -> 0 | AC11: =내역서!AC145*D11 -> 0 | AD11: =내역서!AD145*D11 -> 0 | AE11: =내역서!AE145*D11 -> 0 | AF11: =내역서!AF145*D11 -> 0 | AG11: =내역서!AG145*D11 -> 0 | AH11: =내역서!AH145*D11 -> 0 | AI11: =내역서!AI145*D11 -> 0 | AJ11: =내역서!AJ145*D11 -> 0 | AK11: =내역서!AK145*D11 -> 0 | AL11: =내역서!AL145*D11 -> 0
A12: 8. 마감공사 | C12: 식 | D12: 1 | E12: =내역서!F165 -> 0 | F12: =D12*E12 -> 0 | G12: =내역서!H165 -> 0 | H12: =D12*G12 -> 0 | I12: =내역서!J165 -> 0 | J12: =D12*I12 -> 0 | K12: =E12+G12+I12 -> 0 | L12: =F12+H12+J12 -> 0 | Q12: 1 | R12: =내역서!R165*D12 -> 0 | S12: =내역서!S165*D12 -> 0 | T12: =내역서!T165*D12 -> 0 | U12: =내역서!U165*D12 -> 0 | V12: =내역서!V165*D12 -> 0 | W12: =내역서!W165*D12 -> 0 | X12: =내역서!X165*D12 -> 0 | Y12: =내역서!Y165*D12 -> 0 | Z12: =내역서!Z165*D12 -> 0 | AA12: =내역서!AA165*D12 -> 0 | AB12: =내역서!AB165*D12 -> 0 | AC12: =내역서!AC165*D12 -> 0 | AD12: =내역서!AD165*D12 -> 0 | AE12: =내역서!AE165*D12 -> 0 | AF12: =내역서!AF165*D12 -> 0 | AG12: =내역서!AG165*D12 -> 0 | AH12: =내역서!AH165*D12 -> 0 | AI12: =내역서!AI165*D12 -> 0 | AJ12: =내역서!AJ165*D12 -> 0 | AK12: =내역서!AK165*D12 -> 0 | AL12: =내역서!AL165*D12 -> 0
A13: 9. 철거공사 | C13: 식 | D13: 1 | E13: =내역서!F185 -> 0 | F13: =D13*E13 -> 0 | G13: =내역서!H185 -> 0 | H13: =D13*G13 -> 0 | I13: =내역서!J185 -> 0 | J13: =D13*I13 -> 0 | K13: =E13+G13+I13 -> 0 | L13: =F13+H13+J13 -> 0 | Q13: 1 | R13: =내역서!R185*D13 -> 0 | S13: =내역서!S185*D13 -> 0 | T13: =내역서!T185*D13 -> 0 | U13: =내역서!U185*D13 -> 0 | V13: =내역서!V185*D13 -> 0 | W13: =내역서!W185*D13 -> 0 | X13: =내역서!X185*D13 -> 0 | Y13: =내역서!Y185*D13 -> 0 | Z13: =내역서!Z185*D13 -> 0 | AA13: =내역서!AA185*D13 -> 0 | AB13: =내역서!AB185*D13 -> 0 | AC13: =내역서!AC185*D13 -> 0 | AD13: =내역서!AD185*D13 -> 0 | AE13: =내역서!AE185*D13 -> 0 | AF13: =내역서!AF185*D13 -> 0 | AG13: =내역서!AG185*D13 -> 0 | AH13: =내역서!AH185*D13 -> 0 | AI13: =내역서!AI185*D13 -> 0 | AJ13: =내역서!AJ185*D13 -> 0 | AK13: =내역서!AK185*D13 -> 0 | AL13: =내역서!AL185*D13 -> 0
A14: 10. 위생기구 | C14: 식 | D14: 1 | E14: =내역서!F225 -> 0 | F14: =D14*E14 -> 0 | G14: =내역서!H225 -> 0 | H14: =D14*G14 -> 0 | I14: =내역서!J225 -> 0 | J14: =D14*I14 -> 0 | K14: =E14+G14+I14 -> 0 | L14: =F14+H14+J14 -> 0 | Q14: 1 | R14: =내역서!#REF!*D14 -> #REF! | S14: =내역서!#REF!*D14 -> #REF! | T14: =내역서!#REF!*D14 -> #REF! | U14: =내역서!#REF!*D14 -> #REF! | V14: =내역서!#REF!*D14 -> #REF! | W14: =내역서!#REF!*D14 -> #REF! | X14: =내역서!#REF!*D14 -> #REF! | Y14: =내역서!#REF!*D14 -> #REF! | Z14: =내역서!#REF!*D14 -> #REF! | AA14: =내역서!#REF!*D14 -> #REF! | AB14: =내역서!#REF!*D14 -> #REF! | AC14: =내역서!#REF!*D14 -> #REF! | AD14: =내역서!#REF!*D14 -> #REF! | AE14: =내역서!#REF!*D14 -> #REF! | AF14: =내역서!#REF!*D14 -> #REF! | AG14: =내역서!#REF!*D14 -> #REF! | AH14: =내역서!#REF!*D14 -> #REF! | AI14: =내역서!#REF!*D14 -> #REF! | AJ14: =내역서!#REF!*D14 -> #REF! | AK14: =내역서!#REF!*D14 -> #REF! | AL14: =내역서!#REF!*D14 -> #REF!
A15: 11. 급수공사 | C15: 식 | D15: 1 | E15: =내역서!F245 -> 0 | F15: =D15*E15 -> 0 | G15: =내역서!H245 -> 0 | H15: =D15*G15 -> 0 | I15: =내역서!J245 -> 0 | J15: =D15*I15 -> 0 | K15: =E15+G15+I15 -> 0 | L15: =F15+H15+J15 -> 0 | Q15: 1 | R15: =내역서!#REF!*D15 -> #REF! | S15: =내역서!#REF!*D15 -> #REF! | T15: =내역서!#REF!*D15 -> #REF! | U15: =내역서!#REF!*D15 -> #REF! | V15: =내역서!#REF!*D15 -> #REF! | W15: =내역서!#REF!*D15 -> #REF! | X15: =내역서!#REF!*D15 -> #REF! | Y15: =내역서!#REF!*D15 -> #REF! | Z15: =내역서!#REF!*D15 -> #REF! | AA15: =내역서!#REF!*D15 -> #REF! | AB15: =내역서!#REF!*D15 -> #REF! | AC15: =내역서!#REF!*D15 -> #REF! | AD15: =내역서!#REF!*D15 -> #REF! | AE15: =내역서!#REF!*D15 -> #REF! | AF15: =내역서!#REF!*D15 -> #REF! | AG15: =내역서!#REF!*D15 -> #REF! | AH15: =내역서!#REF!*D15 -> #REF! | AI15: =내역서!#REF!*D15 -> #REF! | AJ15: =내역서!#REF!*D15 -> #REF! | AK15: =내역서!#REF!*D15 -> #REF! | AL15: =내역서!#REF!*D15 -> #REF!
A16: 12. 배수배관 | C16: 식 | D16: 1 | E16: =내역서!F265 -> 0 | F16: =D16*E16 -> 0 | G16: =내역서!H265 -> 0 | H16: =D16*G16 -> 0 | I16: =내역서!J265 -> 0 | J16: =D16*I16 -> 0 | K16: =E16+G16+I16 -> 0 | L16: =F16+H16+J16 -> 0 | Q16: 1 | R16: =내역서!#REF!*D16 -> #REF! | S16: =내역서!#REF!*D16 -> #REF! | T16: =내역서!#REF!*D16 -> #REF! | U16: =내역서!#REF!*D16 -> #REF! | V16: =내역서!#REF!*D16 -> #REF! | W16: =내역서!#REF!*D16 -> #REF! | X16: =내역서!#REF!*D16 -> #REF! | Y16: =내역서!#REF!*D16 -> #REF! | Z16: =내역서!#REF!*D16 -> #REF! | AA16: =내역서!#REF!*D16 -> #REF! | AB16: =내역서!#REF!*D16 -> #REF! | AC16: =내역서!#REF!*D16 -> #REF! | AD16: =내역서!#REF!*D16 -> #REF! | AE16: =내역서!#REF!*D16 -> #REF! | AF16: =내역서!#REF!*D16 -> #REF! | AG16: =내역서!#REF!*D16 -> #REF! | AH16: =내역서!#REF!*D16 -> #REF! | AI16: =내역서!#REF!*D16 -> #REF! | AJ16: =내역서!#REF!*D16 -> #REF! | AK16: =내역서!#REF!*D16 -> #REF! | AL16: =내역서!#REF!*D16 -> #REF!
A17: 13. 폐기물처리비 | C17: 식 | D17: 1 | E17: =내역서!F285 -> 0 | F17: =D17*E17 -> 0 | G17: =내역서!H285 -> 0 | H17: =D17*G17 -> 0 | I17: =내역서!J285 -> 0 | J17: =D17*I17 -> 0 | K17: =E17+G17+I17 -> 0 | L17: =F17+H17+J17 -> 0 | Q17: 0 | R17: =내역서!R285*D17 -> 0 | S17: =내역서!S285*D17 -> 0 | T17: =내역서!T285*D17 -> 0 | U17: =내역서!U285*D17 -> 0 | V17: =내역서!V285*D17 -> 0 | W17: =내역서!W285*D17 -> 0 | X17: =내역서!X285*D17 -> 0 | Y17: =내역서!Y285*D17 -> 0 | Z17: =내역서!Z285*D17 -> 0 | AA17: =내역서!AA285*D17 -> 0 | AB17: =내역서!AB285*D17 -> 0 | AC17: =내역서!AC285*D17 -> 0 | AD17: =내역서!AD285*D17 -> 0 | AE17: =내역서!AE285*D17 -> 0 | AF17: =내역서!AF285*D17 -> 0 | AG17: =내역서!AG285*D17 -> 0 | AH17: =내역서!AH285*D17 -> 0 | AI17: =내역서!AI285*D17 -> 0 | AJ17: =내역서!AJ285*D17 -> 0 | AK17: =내역서!AK285*D17 -> 0 | AL17: =내역서!AL285*D17 -> 0
A24: [합계] | F24: =SUM(F5:F16) -> 0 | H24: =SUM(H5:H16) -> 0 | J24: =SUM(J5:J16) -> 0 | L24: =F24+H24+J24 -> 0 | R24: =SUM($R$5:$R$23) -> #REF! | S24: =SUM($S$5:$S$23) -> #REF! | T24: =SUM($T$5:$T$23) -> #REF! | U24: =SUM($U$5:$U$23) -> #REF! | V24: =SUM($V$5:$V$23) -> #REF! | W24: =SUM($W$5:$W$23) -> #REF! | X24: =SUM($X$5:$X$23) -> #REF! | Y24: =SUM($Y$5:$Y$23) -> #REF! | Z24: =SUM($Z$5:$Z$23) -> #REF! | AA24: =SUM($AA$5:$AA$23) -> #REF! | AB24: =SUM($AB$5:$AB$23) -> #REF! | AC24: =SUM($AC$5:$AC$23) -> #REF! | AD24: =SUM($AD$5:$AD$23) -> #REF! | AE24: =SUM($AE$5:$AE$23) -> #REF! | AF24: =SUM($AF$5:$AF$23) -> #REF! | AG24: =SUM($AG$5:$AG$23) -> #REF! | AH24: =SUM($AH$5:$AH$23) -> #REF! | AI24: =SUM($AI$5:$AI$23) -> #REF! | AJ24: =SUM($AJ$5:$AJ$23) -> #REF! | AK24: =SUM($AK$5:$AK$23) -> #REF! | AL24: =SUM($AL$5:$AL$23) -> #REF!

Sheet 내역서
A1: 내 역 서
A2: 공사명 : 광화문우체국대수선공사
A3: 품 명 | B3: 규 격 | C3: 단위 | D3: 수 량 | E3: 재 료 비 | G3: 노 무 비 | I3: 경 비 | K3: 합 계 | M3: 비고
E4: 단 가 | F4: 금 액 | G4: 단 가 | H4: 금 액 | I4: 단 가 | J4: 금 액 | K4: 단 가 | L4: 금 액 | N4: 손료요율 | O4: 손료구분 | P4: 적용구분 | Q4: 합계구분 | R4: 기계경비 | S4: 운반비 | T4: 작업부산물 | U4: 관급 | V4: 외주비 | W4: 장비비 | X4: 폐기물처리비 | Y4: 가설비 | Z4: 잡비제외분 | AA4: 사급자재대 | AB4: 관급자재대 | AC4: 사용자항목1 | AD4: 사용자항목2 | AE4: 사용자항목3 | AF4: 사용자항목4 | AG4: 사용자항목5 | AH4: 사용자항목6 | AI4: 사용자항목7 | AJ4: 사용자항목8 | AK4: 사용자항목9 | AL4: 간접재료비
A5: 1. 가설공사
A6: 이동식강관말비계 | B6: 3개월,1단(2m) | C6: 1대 | D6: 10 | F6: =ROUNDDOWN(D6*E6,0) -> 0 | H6: =ROUNDDOWN(D6*G6,0) -> 0 | J6: =ROUNDDOWN(D6*I6,0) -> 0 | K6: =E6+G6+I6 -> 0 | L6: =F6+H6+J6 -> 0 | P6: 기계경비 | Q6: 1 | R6: =IF(P6="기계경비",J6,0) -> 0 | S6: =IF(P6="운반비",J6,0) -> 0 | T6: =IF(P6="작업부산물",F6,0) -> 0 | U6: =IF(P6="관급",ROUNDDOWN(D6*E6,0),0)+IF(P6="지급",ROUNDDOWN(D6*E6,0),0) -> 0 | V6: =IF(P6="외주비",F6+H6+J6,0) -> 0 | W6: =IF(P6="장비비",F6+H6+J6,0) -> 0 | X6: =IF(P6="폐기물처리비",J6,0) -> 0 | Y6: =IF(P6="가설비",J6,0) -> 0 | Z6: =IF(P6="잡비제외분",F6,0) -> 0 | AA6: =IF(P6="사급자재대",L6,0) -> 0 | AB6: =IF(P6="관급자재대",L6,0) -> 0 | AC6: =IF(P6="사용자항목1",L6,0) -> 0 | AD6: =IF(P6="사용자항목2",L6,0) -> 0 | AE6: =IF(P6="사용자항목3",L6,0) -> 0 | AF6: =IF(P6="사용자항목4",L6,0) -> 0 | AG6: =IF(P6="사용자항목5",L6,0) -> 0 | AH6: =IF(P6="사용자항목6",L6,0) -> 0 | AI6: =IF(P6="사용자항목7",L6,0) -> 0 | AJ6: =IF(P6="사용자항목8",L6,0) -> 0 | AK6: =IF(P6="사용자항목9",L6,0) -> 0
A7: 건축물보양 및 현장정리 | B7: 비닐보양 포함,보수공사 | C7: M2 | D7: 2590 | F7: =ROUNDDOWN(D7*E7,0) -> 0 | H7: =ROUNDDOWN(D7*G7,0) -> 0 | J7: =ROUNDDOWN(D7*I7,0) -> 0 | K7: =E7+G7+I7 -> 0 | L7: =F7+H7+J7 -> 0 | P7: 기계경비 | Q7: 1 | R7: =IF(P7="기계경비",J7,0) -> 0 | S7: =IF(P7="운반비",J7,0) -> 0 | T7: =IF(P7="작업부산물",F7,0) -> 0 | U7: =IF(P7="관급",ROUNDDOWN(D7*E7,0),0)+IF(P7="지급",ROUNDDOWN(D7*E7,0),0) -> 0 | V7: =IF(P7="외주비",F7+H7+J7,0) -> 0 | W7: =IF(P7="장비비",F7+H7+J7,0) -> 0 | X7: =IF(P7="폐기물처리비",J7,0) -> 0 | Y7: =IF(P7="가설비",J7,0) -> 0 | Z7: =IF(P7="잡비제외분",F7,0) -> 0 | AA7: =IF(P7="사급자재대",L7,0) -> 0 | AB7: =IF(P7="관급자재대",L7,0) -> 0 | AC7: =IF(P7="사용자항목1",L7,0) -> 0 | AD7: =IF(P7="사용자항목2",L7,0) -> 0 | AE7: =IF(P7="사용자항목3",L7,0) -> 0 | AF7: =IF(P7="사용자항목4",L7,0) -> 0 | AG7: =IF(P7="사용자항목5",L7,0) -> 0 | AH7: =IF(P7="사용자항목6",L7,0) -> 0 | AI7: =IF(P7="사용자항목7",L7,0) -> 0 | AJ7: =IF(P7="사용자항목8",L7,0) -> 0 | AK7: =IF(P7="사용자항목9",L7,0) -> 0
A8: 먹메김 | B8: 일반 | C8: M2 | D8: =D129+D140+D148+D149+D150+D151+D152 -> 787 | F8: =ROUNDDOWN(D8*E8,0) -> 0 | H8: =ROUNDDOWN(D8*G8,0) -> 0 | J8: =ROUNDDOWN(D8*I8,0) -> 0 | K8: =E8+G8+I8 -> 0 | L8: =F8+H8+J8 -> 0 | P8: 기계경비 | Q8: 1 | R8: =IF(P8="기계경비",J8,0) -> 0 | S8: =IF(P8="운반비",J8,0) -> 0 | T8: =IF(P8="작업부산물",F8,0) -> 0 | U8: =IF(P8="관급",ROUNDDOWN(D8*E8,0),0)+IF(P8="지급",ROUNDDOWN(D8*E8,0),0) -> 0 | V8: =IF(P8="외주비",F8+H8+J8,0) -> 0 | W8: =IF(P8="장비비",F8+H8+J8,0) -> 0 | X8: =IF(P8="폐기물처리비",J8,0) -> 0 | Y8: =IF(P8="가설비",J8,0) -> 0 | Z8: =IF(P8="잡비제외분",F8,0) -> 0 | AA8: =IF(P8="사급자재대",L8,0) -> 0 | AB8: =IF(P8="관급자재대",L8,0) -> 0 | AC8: =IF(P8="사용자항목1",L8,0) -> 0 | AD8: =IF(P8="사용자항목2",L8,0) -> 0 | AE8: =IF(P8="사용자항목3",L8,0) -> 0 | AF8: =IF(P8="사용자항목4",L8,0) -> 0 | AG8: =IF(P8="사용자항목5",L8,0) -> 0 | AH8: =IF(P8="사용자항목6",L8,0) -> 0 | AI8: =IF(P8="사용자항목7",L8,0) -> 0 | AJ8: =IF(P8="사용자항목8",L8,0) -> 0 | AK8: =IF(P8="사용자항목9",L8,0) -> 0
P10: 기계경비 | Q10: 1 | R10: =IF(P10="기계경비",J10,0) -> 0 | S10: =IF(P10="운반비",J10,0) -> 0 | T10: =IF(P10="작업부산물",F10,0) -> 0 | U10: =IF(P10="관급",ROUNDDOWN(D10*E10,0),0)+IF(P10="지급",ROUNDDOWN(D10*E10,0),0) -> 0 | V10: =IF(P10="외주비",F10+H10+J10,0) -> 0 | W10: =IF(P10="장비비",F10+H10+J10,0) -> 0 | X10: =IF(P10="폐기물처리비",J10,0) -> 0 | Y10: =IF(P10="가설비",J10,0) -> 0 | Z10: =IF(P10="잡비제외분",F10,0) -> 0 | AA10: =IF(P10="사급자재대",L10,0) -> 0 | AB10: =IF(P10="관급자재대",L10,0) -> 0 | AC10: =IF(P10="사용자항목1",L10,0) -> 0 | AD10: =IF(P10="사용자항목2",L10,0) -> 0 | AE10: =IF(P10="사용자항목3",L10,0) -> 0 | AF10: =IF(P10="사용자항목4",L10,0) -> 0 | AG10: =IF(P10="사용자항목5",L10,0) -> 0 | AH10: =IF(P10="사용자항목6",L10,0) -> 0 | AI10: =IF(P10="사용자항목7",L10,0) -> 0 | AJ10: =IF(P10="사용자항목8",L10,0) -> 0 | AK10: =IF(P10="사용자항목9",L10,0) -> 0
A24: [소계] | F24: =SUM(F6:F8) -> 0 | H24: =SUM(H6:H8) -> 0 | J24: =SUMIF($Q$5:$Q$23, 1,$J$5:$J$23) -> 0 | L24: =F24+H24+J24 -> 0 | R24: =SUM($R$5:$R$23) -> 0 | S24: =SUM($S$5:$S$23) -> 0 | T24: =SUM($T$5:$T$23) -> 0 | U24: =SUM($U$5:$U$23) -> 0 | V24: =SUM($V$5:$V$23) -> 0 | W24: =SUM($W$5:$W$23) -> 0 | X24: =SUM($X$5:$X$23) -> 0 | Y24: =SUM($Y$5:$Y$23) -> 0 | Z24: =SUM($Z$5:$Z$23) -> 0 | AA24: =SUM($AA$5:$AA$23) -> 0 | AB24: =SUM($AB$5:$AB$23) -> 0 | AC24: =SUM($AC$5:$AC$23) -> 0 | AD24: =SUM($AD$5:$AD$23) -> 0 | AE24: =SUM($AE$5:$AE$23) -> 0 | AF24: =SUM($AF$5:$AF$23) -> 0 | AG24: =SUM($AG$5:$AG$23) -> 0 | AH24: =SUM($AH$5:$AH$23) -> 0 | AI24: =SUM($AI$5:$AI$23) -> 0 | AJ24: =SUM($AJ$5:$AJ$23) -> 0 | AK24: =SUM($AK$5:$AK$23) -> 0 | AL24: =SUM($AL$5:$AL$23) -> 0
A25: 2. 조적공사
A26: 시멘트벽돌 | C26: 매 | D26: 3125 | F26: =ROUNDDOWN(D26*E26,0) -> 0 | H26: =ROUNDDOWN(D26*G26,0) -> 0 | J26: =ROUNDDOWN(D26*I26,0) -> 0 | K26: =E26+G26+I26 -> 0 | L26: =F26+H26+J26 -> 0 | O26: 01 | P26: 기계경비 | Q26: 1 | R26: =IF(P26="기계경비",J26,0) -> 0 | S26: =IF(P26="운반비",J26,0) -> 0 | T26: =IF(P26="작업부산물",F26,0) -> 0 | U26: =IF(P26="관급",ROUNDDOWN(D26*E26,0),0)+IF(P26="지급",ROUNDDOWN(D26*E26,0),0) -> 0 | V26: =IF(P26="외주비",F26+H26+J26,0) -> 0 | W26: =IF(P26="장비비",F26+H26+J26,0) -> 0 | X26: =IF(P26="폐기물처리비",J26,0) -> 0 | Y26: =IF(P26="가설비",J26,0) -> 0 | Z26: =IF(P26="잡비제외분",F26,0) -> 0 | AA26: =IF(P26="사급자재대",L26,0) -> 0 | AB26: =IF(P26="관급자재대",L26,0) -> 0 | AC26: =IF(P26="사용자항목1",L26,0) -> 0 | AD26: =IF(P26="사용자항목2",L26,0) -> 0 | AE26: =IF(P26="사용자항목3",L26,0) -> 0 | AF26: =IF(P26="사용자항목4",L26,0) -> 0 | AG26: =IF(P26="사용자항목5",L26,0) -> 0 | AH26: =IF(P26="사용자항목6",L26,0) -> 0 | AI26: =IF(P26="사용자항목7",L26,0) -> 0 | AJ26: =IF(P26="사용자항목8",L26,0) -> 0 | AK26: =IF(P26="사용자항목9",L26,0) -> 0
A27: 0.5B 시멘트벽돌쌓기 | B27: 3.6m이하, 시멘트모래포함 | C27: 매 | D27: 464 | F27: =ROUNDDOWN(D27*E27,0) -> 0 | H27: =ROUNDDOWN(D27*G27,0) -> 0 | J27: =ROUNDDOWN(D27*I27,0) -> 0 | K27: =E27+G27+I27 -> 0 | L27: =F27+H27+J27 -> 0 | P27: 기계경비 | Q27: 1 | R27: =IF(P27="기계경비",J27,0) -> 0 | S27: =IF(P27="운반비",J27,0) -> 0 | T27: =IF(P27="작업부산물",F27,0) -> 0 | U27: =IF(P27="관급",ROUNDDOWN(D27*E27,0),0)+IF(P27="지급",ROUNDDOWN(D27*E27,0),0) -> 0 | V27: =IF(P27="외주비",F27+H27+J27,0) -> 0 | W27: =IF(P27="장비비",F27+H27+J27,0) -> 0 | X27: =IF(P27="폐기물처리비",J27,0) -> 0 | Y27: =IF(P27="가설비",J27,0) -> 0 | Z27: =IF(P27="잡비제외분",F27,0) -> 0 | AA27: =IF(P27="사급자재대",L27,0) -> 0 | AB27: =IF(P27="관급자재대",L27,0) -> 0 | AC27: =IF(P27="사용자항목1",L27,0) -> 0 | AD27: =IF(P27="사용자항목2",L27,0) -> 0 | AE27: =IF(P27="사용자항목3",L27,0) -> 0 | AF27: =IF(P27="사용자항목4",L27,0) -> 0 | AG27: =IF(P27="사용자항목5",L27,0) -> 0 | AH27: =IF(P27="사용자항목6",L27,0) -> 0 | AI27: =IF(P27="사용자항목7",L27,0) -> 0 | AJ27: =IF(P27="사용자항목8",L27,0) -> 0 | AK27: =IF(P27="사용자항목9",L27,0) -> 0
A28: 1.0B 시멘트벽돌쌓기 | B28: 3.6m이하, 시멘트모래포함 | C28: 매 | D28: 2495 | F28: =ROUNDDOWN(D28*E28,0) -> 0 | H28: =ROUNDDOWN(D28*G28,0) -> 0 | J28: =ROUNDDOWN(D28*I28,0) -> 0 | K28: =E28+G28+I28 -> 0 | L28: =F28+H28+J28 -> 0 | P28: 기계경비 | Q28: 1 | R28: =IF(P28="기계경비",J28,0) -> 0 | S28: =IF(P28="운반비",J28,0) -> 0 | T28: =IF(P28="작업부산물",F28,0) -> 0 | U28: =IF(P28="관급",ROUNDDOWN(D28*E28,0),0)+IF(P28="지급",ROUNDDOWN(D28*E28,0),0) -> 0 | V28: =IF(P28="외주비",F28+H28+J28,0) -> 0 | W28: =IF(P28="장비비",F28+H28+J28,0) -> 0 | X28: =IF(P28="폐기물처리비",J28,0) -> 0 | Y28: =IF(P28="가설비",J28,0) -> 0 | Z28: =IF(P28="잡비제외분",F28,0) -> 0 | AA28: =IF(P28="사급자재대",L28,0) -> 0 | AB28: =IF(P28="관급자재대",L28,0) -> 0 | AC28: =IF(P28="사용자항목1",L28,0) -> 0 | AD28: =IF(P28="사용자항목2",L28,0) -> 0 | AE28: =IF(P28="사용자항목3",L28,0) -> 0 | AF28: =IF(P28="사용자항목4",L28,0) -> 0 | AG28: =IF(P28="사용자항목5",L28,0) -> 0 | AH28: =IF(P28="사용자항목6",L28,0) -> 0 | AI28: =IF(P28="사용자항목7",L28,0) -> 0 | AJ28: =IF(P28="사용자항목8",L28,0) -> 0 | AK28: =IF(P28="사용자항목9",L28,0) -> 0
A29: 벽돌소운반 | B29: 인력, 5층이상 | C29: 매 | D29: 2976 | F29: =ROUNDDOWN(D29*E29,0) -> 0 | H29: =ROUNDDOWN(D29*G29,0) -> 0 | J29: =ROUNDDOWN(D29*I29,0) -> 0 | K29: =E29+G29+I29 -> 0 | L29: =F29+H29+J29 -> 0 | P29: 기계경비 | Q29: 1 | R29: =IF(P29="기계경비",J29,0) -> 0 | S29: =IF(P29="운반비",J29,0) -> 0 | T29: =IF(P29="작업부산물",F29,0) -> 0 | U29: =IF(P29="관급",ROUNDDOWN(D29*E29,0),0)+IF(P29="지급",ROUNDDOWN(D29*E29,0),0) -> 0 | V29: =IF(P29="외주비",F29+H29+J29,0) -> 0 | W29: =IF(P29="장비비",F29+H29+J29,0) -> 0 | X29: =IF(P29="폐기물처리비",J29,0) -> 0 | Y29: =IF(P29="가설비",J29,0) -> 0 | Z29: =IF(P29="잡비제외분",F29,0) -> 0 | AA29: =IF(P29="사급자재대",L29,0) -> 0 | AB29: =IF(P29="관급자재대",L29,0) -> 0 | AC29: =IF(P29="사용자항목1",L29,0) -> 0 | AD29: =IF(P29="사용자항목2",L29,0) -> 0 | AE29: =IF(P29="사용자항목3",L29,0) -> 0 | AF29: =IF(P29="사용자항목4",L29,0) -> 0 | AG29: =IF(P29="사용자항목5",L29,0) -> 0 | AH29: =IF(P29="사용자항목6",L29,0) -> 0 | AI29: =IF(P29="사용자항목7",L29,0) -> 0 | AJ29: =IF(P29="사용자항목8",L29,0) -> 0 | AK29: =IF(P29="사용자항목9",L29,0) -> 0
A44: [소계] | F44: =SUMIF($Q$25:$Q$43, 1,$F$25:$F$43) -> 0 | H44: =SUMIF($Q$25:$Q$43, 1,$H$25:$H$43) -> 0 | J44: =SUMIF($Q$25:$Q$43, 1,$J$25:$J$43) -> 0 | L44: =F44+H44+J44 -> 0 | R44: =SUM($R$25:$R$43) -> 0 | S44: =SUM($S$25:$S$43) -> 0 | T44: =SUM($T$25:$T$43) -> 0 | U44: =SUM($U$25:$U$43) -> 0 | V44: =SUM($V$25:$V$43) -> 0 | W44: =SUM($W$25:$W$43) -> 0 | X44: =SUM($X$25:$X$43) -> 0 | Y44: =SUM($Y$25:$Y$43) -> 0 | Z44: =SUM($Z$25:$Z$43) -> 0 | AA44: =SUM($AA$25:$AA$43) -> 0 | AB44: =SUM($AB$25:$AB$43) -> 0 | AC44: =SUM($AC$25:$AC$43) -> 0 | AD44: =SUM($AD$25:$AD$43) -> 0 | AE44: =SUM($AE$25:$AE$43) -> 0 | AF44: =SUM($AF$25:$AF$43) -> 0 | AG44: =SUM($AG$25:$AG$43) -> 0 | AH44: =SUM($AH$25:$AH$43) -> 0 | AI44: =SUM($AI$25:$AI$43) -> 0 | AJ44: =SUM($AJ$25:$AJ$43) -> 0 | AK44: =SUM($AK$25:$AK$43) -> 0 | AL44: =SUM($AL$25:$AL$43) -> 0
A45: 3. 방수및미장공사
A46: 시멘트액체방수 | B46: 1종 | C46: M2 | D46: 20 | F46: =ROUNDDOWN(D46*E46,0) -> 0 | H46: =ROUNDDOWN(D46*G46,0) -> 0 | J46: =ROUNDDOWN(D46*I46,0) -> 0 | K46: =E46+G46+I46 -> 0 | L46: =F46+H46+J46 -> 0 | P46: 기계경비 | Q46: 1 | R46: =IF(P46="기계경비",J46,0) -> 0 | S46: =IF(P46="운반비",J46,0) -> 0 | T46: =IF(P46="작업부산물",F46,0) -> 0 | U46: =IF(P46="관급",ROUNDDOWN(D46*E46,0),0)+IF(P46="지급",ROUNDDOWN(D46*E46,0),0) -> 0 | V46: =IF(P46="외주비",F46+H46+J46,0) -> 0 | W46: =IF(P46="장비비",F46+H46+J46,0) -> 0 | X46: =IF(P46="폐기물처리비",J46,0) -> 0 | Y46: =IF(P46="가설비",J46,0) -> 0 | Z46: =IF(P46="잡비제외분",F46,0) -> 0 | AA46: =IF(P46="사급자재대",L46,0) -> 0 | AB46: =IF(P46="관급자재대",L46,0) -> 0 | AC46: =IF(P46="사용자항목1",L46,0) -> 0 | AD46: =IF(P46="사용자항목2",L46,0) -> 0 | AE46: =IF(P46="사용자항목3",L46,0) -> 0 | AF46: =IF(P46="사용자항목4",L46,0) -> 0 | AG46: =IF(P46="사용자항목5",L46,0) -> 0 | AH46: =IF(P46="사용자항목6",L46,0) -> 0 | AI46: =IF(P46="사용자항목7",L46,0) -> 0 | AJ46: =IF(P46="사용자항목8",L46,0) -> 0 | AK46: =IF(P46="사용자항목9",L46,0) -> 0
A47: 도막방수 | B47: 비노출,바닥 | C47: M2 | D47: =37+20 -> 57 | F47: =ROUNDDOWN(D47*E47,0) -> 0 | H47: =ROUNDDOWN(D47*G47,0) -> 0 | J47: =ROUNDDOWN(D47*I47,0) -> 0 | K47: =E47+G47+I47 -> 0 | L47: =F47+H47+J47 -> 0 | P47: 기계경비 | Q47: 1 | R47: =IF(P47="기계경비",J47,0) -> 0 | S47: =IF(P47="운반비",J47,0) -> 0 | T47: =IF(P47="작업부산물",F47,0) -> 0 | U47: =IF(P47="관급",ROUNDDOWN(D47*E47,0),0)+IF(P47="지급",ROUNDDOWN(D47*E47,0),0) -> 0 | V47: =IF(P47="외주비",F47+H47+J47,0) -> 0 | W47: =IF(P47="장비비",F47+H47+J47,0) -> 0 | X47: =IF(P47="폐기물처리비",J47,0) -> 0 | Y47: =IF(P47="가설비",J47,0) -> 0 | Z47: =IF(P47="잡비제외분",F47,0) -> 0 | AA47: =IF(P47="사급자재대",L47,0) -> 0 | AB47: =IF(P47="관급자재대",L47,0) -> 0 | AC47: =IF(P47="사용자항목1",L47,0) -> 0 | AD47: =IF(P47="사용자항목2",L47,0) -> 0 | AE47: =IF(P47="사용자항목3",L47,0) -> 0 | AF47: =IF(P47="사용자항목4",L47,0) -> 0 | AG47: =IF(P47="사용자항목5",L47,0) -> 0 | AH47: =IF(P47="사용자항목6",L47,0) -> 0 | AI47: =IF(P47="사용자항목7",L47,0) -> 0 | AJ47: =IF(P47="사용자항목8",L47,0) -> 0 | AK47: =IF(P47="사용자항목9",L47,0) -> 0
A48: 바탕고르기 | B48: 바닥24mm | C48: M2 | D48: 4 | F48: =ROUNDDOWN(D48*E48,0) -> 0 | H48: =ROUNDDOWN(D48*G48,0) -> 0 | J48: =ROUNDDOWN(D48*I48,0) -> 0 | K48: =E48+G48+I48 -> 0 | L48: =F48+H48+J48 -> 0 | P48: 기계경비 | Q48: 1 | R48: =IF(P48="기계경비",J48,0) -> 0 | S48: =IF(P48="운반비",J48,0) -> 0 | T48: =IF(P48="작업부산물",F48,0) -> 0 | U48: =IF(P48="관급",ROUNDDOWN(D48*E48,0),0)+IF(P48="지급",ROUNDDOWN(D48*E48,0),0) -> 0 | V48: =IF(P48="외주비",F48+H48+J48,0) -> 0 | W48: =IF(P48="장비비",F48+H48+J48,0) -> 0 | X48: =IF(P48="폐기물처리비",J48,0) -> 0 | Y48: =IF(P48="가설비",J48,0) -> 0 | Z48: =IF(P48="잡비제외분",F48,0) -> 0 | AA48: =IF(P48="사급자재대",L48,0) -> 0 | AB48: =IF(P48="관급자재대",L48,0) -> 0 | AC48: =IF(P48="사용자항목1",L48,0) -> 0 | AD48: =IF(P48="사용자항목2",L48,0) -> 0 | AE48: =IF(P48="사용자항목3",L48,0) -> 0 | AF48: =IF(P48="사용자항목4",L48,0) -> 0 | AG48: =IF(P48="사용자항목5",L48,0) -> 0 | AH48: =IF(P48="사용자항목6",L48,0) -> 0 | AI48: =IF(P48="사용자항목7",L48,0) -> 0 | AJ48: =IF(P48="사용자항목8",L48,0) -> 0 | AK48: =IF(P48="사용자항목9",L48,0) -> 0
A49: 바탕고르기 | B49: 벽18mm | C49: M2 | D49: 12 | F49: =ROUNDDOWN(D49*E49,0) -> 0 | H49: =ROUNDDOWN(D49*G49,0) -> 0 | J49: =ROUNDDOWN(D49*I49,0) -> 0 | K49: =E49+G49+I49 -> 0 | L49: =F49+H49+J49 -> 0 | P49: 기계경비 | Q49: 1 | R49: =IF(P49="기계경비",J49,0) -> 0 | S49: =IF(P49="운반비",J49,0) -> 0 | T49: =IF(P49="작업부산물",F49,0) -> 0 | U49: =IF(P49="관급",ROUNDDOWN(D49*E49,0),0)+IF(P49="지급",ROUNDDOWN(D49*E49,0),0) -> 0 | V49: =IF(P49="외주비",F49+H49+J49,0) -> 0 | W49: =IF(P49="장비비",F49+H49+J49,0) -> 0 | X49: =IF(P49="폐기물처리비",J49,0) -> 0 | Y49: =IF(P49="가설비",J49,0) -> 0 | Z49: =IF(P49="잡비제외분",F49,0) -> 0 | AA49: =IF(P49="사급자재대",L49,0) -> 0 | AB49: =IF(P49="관급자재대",L49,0) -> 0 | AC49: =IF(P49="사용자항목1",L49,0) -> 0 | AD49: =IF(P49="사용자항목2",L49,0) -> 0 | AE49: =IF(P49="사용자항목3",L49,0) -> 0 | AF49: =IF(P49="사용자항목4",L49,0) -> 0 | AG49: =IF(P49="사용자항목5",L49,0) -> 0 | AH49: =IF(P49="사용자항목6",L49,0) -> 0 | AI49: =IF(P49="사용자항목7",L49,0) -> 0 | AJ49: =IF(P49="사용자항목8",L49,0) -> 0 | AK49: =IF(P49="사용자항목9",L49,0) -> 0
A50: 모르타르바름(3.6m이하) | B50: 벽체,T:18mm | C50: M2 | D50: 30 | F50: =ROUNDDOWN(D50*E50,0) -> 0 | H50: =ROUNDDOWN(D50*G50,0) -> 0 | J50: =ROUNDDOWN(D50*I50,0) -> 0 | K50: =E50+G50+I50 -> 0 | L50: =F50+H50+J50 -> 0 | P50: 기계경비 | Q50: 1 | R50: =IF(P50="기계경비",J50,0) -> 0 | S50: =IF(P50="운반비",J50,0) -> 0 | T50: =IF(P50="작업부산물",F50,0) -> 0 | U50: =IF(P50="관급",ROUNDDOWN(D50*E50,0),0)+IF(P50="지급",ROUNDDOWN(D50*E50,0),0) -> 0 | V50: =IF(P50="외주비",F50+H50+J50,0) -> 0 | W50: =IF(P50="장비비",F50+H50+J50,0) -> 0 | X50: =IF(P50="폐기물처리비",J50,0) -> 0 | Y50: =IF(P50="가설비",J50,0) -> 0 | Z50: =IF(P50="잡비제외분",F50,0) -> 0 | AA50: =IF(P50="사급자재대",L50,0) -> 0 | AB50: =IF(P50="관급자재대",L50,0) -> 0 | AC50: =IF(P50="사용자항목1",L50,0) -> 0 | AD50: =IF(P50="사용자항목2",L50,0) -> 0 | AE50: =IF(P50="사용자항목3",L50,0) -> 0 | AF50: =IF(P50="사용자항목4",L50,0) -> 0 | AG50: =IF(P50="사용자항목5",L50,0) -> 0 | AH50: =IF(P50="사용자항목6",L50,0) -> 0 | AI50: =IF(P50="사용자항목7",L50,0) -> 0 | AJ50: =IF(P50="사용자항목8",L50,0) -> 0 | AK50: =IF(P50="사용자항목9",L50,0) -> 0
A51: 모르타르충전 | B51: 창틀주위 | C51: M | D51: 20 | F51: =ROUNDDOWN(D51*E51,0) -> 0 | H51: =ROUNDDOWN(D51*G51,0) -> 0 | J51: =ROUNDDOWN(D51*I51,0) -> 0 | K51: =E51+G51+I51 -> 0 | L51: =F51+H51+J51 -> 0 | P51: 기계경비 | Q51: 1 | R51: =IF(P51="기계경비",J51,0) -> 0 | S51: =IF(P51="운반비",J51,0) -> 0 | T51: =IF(P51="작업부산물",F51,0) -> 0 | U51: =IF(P51="관급",ROUNDDOWN(D51*E51,0),0)+IF(P51="지급",ROUNDDOWN(D51*E51,0),0) -> 0 | V51: =IF(P51="외주비",F51+H51+J51,0) -> 0 | W51: =IF(P51="장비비",F51+H51+J51,0) -> 0 | X51: =IF(P51="폐기물처리비",J51,0) -> 0 | Y51: =IF(P51="가설비",J51,0) -> 0 | Z51: =IF(P51="잡비제외분",F51,0) -> 0 | AA51: =IF(P51="사급자재대",L51,0) -> 0 | AB51: =IF(P51="관급자재대",L51,0) -> 0 | AC51: =IF(P51="사용자항목1",L51,0) -> 0 | AD51: =IF(P51="사용자항목2",L51,0) -> 0 | AE51: =IF(P51="사용자항목3",L51,0) -> 0 | AF51: =IF(P51="사용자항목4",L51,0) -> 0 | AG51: =IF(P51="사용자항목5",L51,0) -> 0 | AH51: =IF(P51="사용자항목6",L51,0) -> 0 | AI51: =IF(P51="사용자항목7",L51,0) -> 0 | AJ51: =IF(P51="사용자항목8",L51,0) -> 0 | AK51: =IF(P51="사용자항목9",L51,0) -> 0
P52: 기계경비 | Q52: 1 | R52: =IF(P52="기계경비",J52,0) -> 0 | S52: =IF(P52="운반비",J52,0) -> 0 | T52: =IF(P52="작업부산물",F52,0) -> 0 | U52: =IF(P52="관급",ROUNDDOWN(D52*E52,0),0)+IF(P52="지급",ROUNDDOWN(D52*E52,0),0) -> 0 | V52: =IF(P52="외주비",F52+H52+J52,0) -> 0 | W52: =IF(P52="장비비",F52+H52+J52,0) -> 0 | X52: =IF(P52="폐기물처리비",J52,0) -> 0 | Y52: =IF(P52="가설비",J52,0) -> 0 | Z52: =IF(P52="잡비제외분",F52,0) -> 0 | AA52: =IF(P52="사급자재대",L52,0) -> 0 | AB52: =IF(P52="관급자재대",L52,0) -> 0 | AC52: =IF(P52="사용자항목1",L52,0) -> 0 | AD52: =IF(P52="사용자항목2",L52,0) -> 0 | AE52: =IF(P52="사용자항목3",L52,0) -> 0 | AF52: =IF(P52="사용자항목4",L52,0) -> 0 | AG52: =IF(P52="사용자항목5",L52,0) -> 0 | AH52: =IF(P52="사용자항목6",L52,0) -> 0 | AI52: =IF(P52="사용자항목7",L52,0) -> 0 | AJ52: =IF(P52="사용자항목8",L52,0) -> 0 | AK52: =IF(P52="사용자항목9",L52,0) -> 0
A64: [소계] | F64: =SUMIF($Q$45:$Q$63, 1,$F$45:$F$63) -> 0 | H64: =SUMIF($Q$45:$Q$63, 1,$H$45:$H$63) -> 0 | J64: =SUMIF($Q$45:$Q$63, 1,$J$45:$J$63) -> 0 | L64: =F64+H64+J64 -> 0 | R64: =SUM($R$45:$R$63) -> 0 | S64: =SUM($S$45:$S$63) -> 0 | T64: =SUM($T$45:$T$63) -> 0 | U64: =SUM($U$45:$U$63) -> 0 | V64: =SUM($V$45:$V$63) -> 0 | W64: =SUM($W$45:$W$63) -> 0 | X64: =SUM($X$45:$X$63) -> 0 | Y64: =SUM($Y$45:$Y$63) -> 0 | Z64: =SUM($Z$45:$Z$63) -> 0 | AA64: =SUM($AA$45:$AA$63) -> 0 | AB64: =SUM($AB$45:$AB$63) -> 0 | AC64: =SUM($AC$45:$AC$63) -> 0 | AD64: =SUM($AD$45:$AD$63) -> 0 | AE64: =SUM($AE$45:$AE$63) -> 0 | AF64: =SUM($AF$45:$AF$63) -> 0 | AG64: =SUM($AG$45:$AG$63) -> 0 | AH64: =SUM($AH$45:$AH$63) -> 0 | AI64: =SUM($AI$45:$AI$63) -> 0 | AJ64: =SUM($AJ$45:$AJ$63) -> 0 | AK64: =SUM($AK$45:$AK$63) -> 0 | AL64: =SUM($AL$45:$AL$63) -> 0
A65: 4. 타일공사
A66: 자기질타일 | B66: 무유색소, 300*300*8~11 | C66: M2 | D66: 10 | F66: =ROUNDDOWN(D66*E66,0) -> 0 | H66: =ROUNDDOWN(D66*G66,0) -> 0 | J66: =ROUNDDOWN(D66*I66,0) -> 0 | K66: =E66+G66+I66 -> 0 | L66: =F66+H66+J66 -> 0 | O66: 01 | P66: 기계경비 | Q66: 1 | R66: =IF(P66="기계경비",J66,0) -> 0 | S66: =IF(P66="운반비",J66,0) -> 0 | T66: =IF(P66="작업부산물",F66,0) -> 0 | U66: =IF(P66="관급",ROUNDDOWN(D66*E66,0),0)+IF(P66="지급",ROUNDDOWN(D66*E66,0),0) -> 0 | V66: =IF(P66="외주비",F66+H66+J66,0) -> 0 | W66: =IF(P66="장비비",F66+H66+J66,0) -> 0 | X66: =IF(P66="폐기물처리비",J66,0) -> 0 | Y66: =IF(P66="가설비",J66,0) -> 0 | Z66: =IF(P66="잡비제외분",F66,0) -> 0 | AA66: =IF(P66="사급자재대",L66,0) -> 0 | AB66: =IF(P66="관급자재대",L66,0) -> 0 | AC66: =IF(P66="사용자항목1",L66,0) -> 0 | AD66: =IF(P66="사용자항목2",L66,0) -> 0 | AE66: =IF(P66="사용자항목3",L66,0) -> 0 | AF66: =IF(P66="사용자항목4",L66,0) -> 0 | AG66: =IF(P66="사용자항목5",L66,0) -> 0 | AH66: =IF(P66="사용자항목6",L66,0) -> 0 | AI66: =IF(P66="사용자항목7",L66,0) -> 0 | AJ66: =IF(P66="사용자항목8",L66,0) -> 0 | AK66: =IF(P66="사용자항목9",L66,0) -> 0
A67: 타일압착붙임(5mm) | B67: 바닥, 타일 0.04~0.10㎡ 이하 | C67: M2 | D67: 10 | F67: =ROUNDDOWN(D67*E67,0) -> 0 | H67: =ROUNDDOWN(D67*G67,0) -> 0 | J67: =ROUNDDOWN(D67*I67,0) -> 0 | K67: =E67+G67+I67 -> 0 | L67: =F67+H67+J67 -> 0 | P67: 기계경비 | Q67: 1 | R67: =IF(P67="기계경비",J67,0) -> 0 | S67: =IF(P67="운반비",J67,0) -> 0 | T67: =IF(P67="작업부산물",F67,0) -> 0 | U67: =IF(P67="관급",ROUNDDOWN(D67*E67,0),0)+IF(P67="지급",ROUNDDOWN(D67*E67,0),0) -> 0 | V67: =IF(P67="외주비",F67+H67+J67,0) -> 0 | W67: =IF(P67="장비비",F67+H67+J67,0) -> 0 | X67: =IF(P67="폐기물처리비",J67,0) -> 0 | Y67: =IF(P67="가설비",J67,0) -> 0 | Z67: =IF(P67="잡비제외분",F67,0) -> 0 | AA67: =IF(P67="사급자재대",L67,0) -> 0 | AB67: =IF(P67="관급자재대",L67,0) -> 0 | AC67: =IF(P67="사용자항목1",L67,0) -> 0 | AD67: =IF(P67="사용자항목2",L67,0) -> 0 | AE67: =IF(P67="사용자항목3",L67,0) -> 0 | AF67: =IF(P67="사용자항목4",L67,0) -> 0 | AG67: =IF(P67="사용자항목5",L67,0) -> 0 | AH67: =IF(P67="사용자항목6",L67,0) -> 0 | AI67: =IF(P67="사용자항목7",L67,0) -> 0 | AJ67: =IF(P67="사용자항목8",L67,0) -> 0 | AK67: =IF(P67="사용자항목9",L67,0) -> 0
A68: 자기질타일 | B68: 무유연마, 300*600*8~10 | C68: M2 | D68: 41 | F68: =ROUNDDOWN(D68*E68,0) -> 0 | H68: =ROUNDDOWN(D68*G68,0) -> 0 | J68: =ROUNDDOWN(D68*I68,0) -> 0 | K68: =E68+G68+I68 -> 0 | L68: =F68+H68+J68 -> 0 | O68: 01 | P68: 기계경비 | Q68: 1 | R68: =IF(P68="기계경비",J68,0) -> 0 | S68: =IF(P68="운반비",J68,0) -> 0 | T68: =IF(P68="작업부산물",F68,0) -> 0 | U68: =IF(P68="관급",ROUNDDOWN(D68*E68,0),0)+IF(P68="지급",ROUNDDOWN(D68*E68,0),0) -> 0 | V68: =IF(P68="외주비",F68+H68+J68,0) -> 0 | W68: =IF(P68="장비비",F68+H68+J68,0) -> 0 | X68: =IF(P68="폐기물처리비",J68,0) -> 0 | Y68: =IF(P68="가설비",J68,0) -> 0 | Z68: =IF(P68="잡비제외분",F68,0) -> 0 | AA68: =IF(P68="사급자재대",L68,0) -> 0 | AB68: =IF(P68="관급자재대",L68,0) -> 0 | AC68: =IF(P68="사용자항목1",L68,0) -> 0 | AD68: =IF(P68="사용자항목2",L68,0) -> 0 | AE68: =IF(P68="사용자항목3",L68,0) -> 0 | AF68: =IF(P68="사용자항목4",L68,0) -> 0 | AG68: =IF(P68="사용자항목5",L68,0) -> 0 | AH68: =IF(P68="사용자항목6",L68,0) -> 0 | AI68: =IF(P68="사용자항목7",L68,0) -> 0 | AJ68: =IF(P68="사용자항목8",L68,0) -> 0 | AK68: =IF(P68="사용자항목9",L68,0) -> 0
A69: 타일압착붙임(5mm) | B69: 벽, 타일 0.11~0.20㎡ 이하 | C69: M2 | D69: 39 | F69: =ROUNDDOWN(D69*E69,0) -> 0 | H69: =ROUNDDOWN(D69*G69,0) -> 0 | J69: =ROUNDDOWN(D69*I69,0) -> 0 | K69: =E69+G69+I69 -> 0 | L69: =F69+H69+J69 -> 0 | P69: 기계경비 | Q69: 1 | R69: =IF(P69="기계경비",J69,0) -> 0 | S69: =IF(P69="운반비",J69,0) -> 0 | T69: =IF(P69="작업부산물",F69,0) -> 0 | U69: =IF(P69="관급",ROUNDDOWN(D69*E69,0),0)+IF(P69="지급",ROUNDDOWN(D69*E69,0),0) -> 0 | V69: =IF(P69="외주비",F69+H69+J69,0) -> 0 | W69: =IF(P69="장비비",F69+H69+J69,0) -> 0 | X69: =IF(P69="폐기물처리비",J69,0) -> 0 | Y69: =IF(P69="가설비",J69,0) -> 0 | Z69: =IF(P69="잡비제외분",F69,0) -> 0 | AA69: =IF(P69="사급자재대",L69,0) -> 0 | AB69: =IF(P69="관급자재대",L69,0) -> 0 | AC69: =IF(P69="사용자항목1",L69,0) -> 0 | AD69: =IF(P69="사용자항목2",L69,0) -> 0 | AE69: =IF(P69="사용자항목3",L69,0) -> 0 | AF69: =IF(P69="사용자항목4",L69,0) -> 0 | AG69: =IF(P69="사용자항목5",L69,0) -> 0 | AH69: =IF(P69="사용자항목6",L69,0) -> 0 | AI69: =IF(P69="사용자항목7",L69,0) -> 0 | AJ69: =IF(P69="사용자항목8",L69,0) -> 0 | AK69: =IF(P69="사용자항목9",L69,0) -> 0
A70: 바탕고르기 | B70: 바닥45mm | C70: M2 | D70: 6 | F70: =ROUNDDOWN(D70*E70,0) -> 0 | H70: =ROUNDDOWN(D70*G70,0) -> 0 | J70: =ROUNDDOWN(D70*I70,0) -> 0 | K70: =E70+G70+I70 -> 0 | L70: =F70+H70+J70 -> 0 | P70: 기계경비 | Q70: 1 | R70: =IF(P70="기계경비",J70,0) -> 0 | S70: =IF(P70="운반비",J70,0) -> 0 | T70: =IF(P70="작업부산물",F70,0) -> 0 | U70: =IF(P70="관급",ROUNDDOWN(D70*E70,0),0)+IF(P70="지급",ROUNDDOWN(D70*E70,0),0) -> 0 | V70: =IF(P70="외주비",F70+H70+J70,0) -> 0 | W70: =IF(P70="장비비",F70+H70+J70,0) -> 0 | X70: =IF(P70="폐기물처리비",J70,0) -> 0 | Y70: =IF(P70="가설비",J70,0) -> 0 | Z70: =IF(P70="잡비제외분",F70,0) -> 0 | AA70: =IF(P70="사급자재대",L70,0) -> 0 | AB70: =IF(P70="관급자재대",L70,0) -> 0 | AC70: =IF(P70="사용자항목1",L70,0) -> 0 | AD70: =IF(P70="사용자항목2",L70,0) -> 0 | AE70: =IF(P70="사용자항목3",L70,0) -> 0 | AF70: =IF(P70="사용자항목4",L70,0) -> 0 | AG70: =IF(P70="사용자항목5",L70,0) -> 0 | AH70: =IF(P70="사용자항목6",L70,0) -> 0 | AI70: =IF(P70="사용자항목7",L70,0) -> 0 | AJ70: =IF(P70="사용자항목8",L70,0) -> 0 | AK70: =IF(P70="사용자항목9",L70,0) -> 0
A84: [소계] | F84: =SUMIF($Q$65:$Q$83, 1,$F$65:$F$83) -> 0 | H84: =SUMIF($Q$65:$Q$83, 1,$H$65:$H$83) -> 0 | J84: =SUMIF($Q$65:$Q$83, 1,$J$65:$J$83) -> 0 | L84: =F84+H84+J84 -> 0 | R84: =SUM($R$65:$R$83) -> 0 | S84: =SUM($S$65:$S$83) -> 0 | T84: =SUM($T$65:$T$83) -> 0 | U84: =SUM($U$65:$U$83) -> 0 | V84: =SUM($V$65:$V$83) -> 0 | W84: =SUM($W$65:$W$83) -> 0 | X84: =SUM($X$65:$X$83) -> 0 | Y84: =SUM($Y$65:$Y$83) -> 0 | Z84: =SUM($Z$65:$Z$83) -> 0 | AA84: =SUM($AA$65:$AA$83) -> 0 | AB84: =SUM($AB$65:$AB$83) -> 0 | AC84: =SUM($AC$65:$AC$83) -> 0 | AD84: =SUM($AD$65:$AD$83) -> 0 | AE84: =SUM($AE$65:$AE$83) -> 0 | AF84: =SUM($AF$65:$AF$83) -> 0 | AG84: =SUM($AG$65:$AG$83) -> 0 | AH84: =SUM($AH$65:$AH$83) -> 0 | AI84: =SUM($AI$65:$AI$83) -> 0 | AJ84: =SUM($AJ$65:$AJ$83) -> 0 | AK84: =SUM($AK$65:$AK$83) -> 0 | AL84: =SUM($AL$65:$AL$83) -> 0
A85: 5. 창호공사
A86: WD_1 청장실 | B86: 1800*2400 | C86: 개소 | D86: 1 | F86: =ROUNDDOWN(D86*E86,0) -> 0 | H86: =ROUNDDOWN(D86*G86,0) -> 0 | J86: =ROUNDDOWN(D86*I86,0) -> 0 | K86: =E86+G86+I86 -> 0 | L86: =F86+H86+J86 -> 0 | P86: 기계경비 | Q86: 1 | R86: =IF(P86="기계경비",J86,0) -> 0 | S86: =IF(P86="운반비",J86,0) -> 0 | T86: =IF(P86="작업부산물",F86,0) -> 0 | U86: =IF(P86="관급",ROUNDDOWN(D86*E86,0),0)+IF(P86="지급",ROUNDDOWN(D86*E86,0),0) -> 0 | V86: =IF(P86="외주비",F86+H86+J86,0) -> 0 | W86: =IF(P86="장비비",F86+H86+J86,0) -> 0 | X86: =IF(P86="폐기물처리비",J86,0) -> 0 | Y86: =IF(P86="가설비",J86,0) -> 0 | Z86: =IF(P86="잡비제외분",F86,0) -> 0 | AA86: =IF(P86="사급자재대",L86,0) -> 0 | AB86: =IF(P86="관급자재대",L86,0) -> 0 | AC86: =IF(P86="사용자항목1",L86,0) -> 0 | AD86: =IF(P86="사용자항목2",L86,0) -> 0 | AE86: =IF(P86="사용자항목3",L86,0) -> 0 | AF86: =IF(P86="사용자항목4",L86,0) -> 0 | AG86: =IF(P86="사용자항목5",L86,0) -> 0 | AH86: =IF(P86="사용자항목6",L86,0) -> 0 | AI86: =IF(P86="사용자항목7",L86,0) -> 0 | AJ86: =IF(P86="사용자항목8",L86,0) -> 0 | AK86: =IF(P86="사용자항목9",L86,0) -> 0
A87: WD_2 청장실 | B87: 900*2400 | C87: 개소 | D87: 1 | F87: =ROUNDDOWN(D87*E87,0) -> 0 | H87: =ROUNDDOWN(D87*G87,0) -> 0 | J87: =ROUNDDOWN(D87*I87,0) -> 0 | K87: =E87+G87+I87 -> 0 | L87: =F87+H87+J87 -> 0 | P87: 기계경비 | Q87: 1 | R87: =IF(P87="기계경비",J87,0) -> 0 | S87: =IF(P87="운반비",J87,0) -> 0 | T87: =IF(P87="작업부산물",F87,0) -> 0 | U87: =IF(P87="관급",ROUNDDOWN(D87*E87,0),0)+IF(P87="지급",ROUNDDOWN(D87*E87,0),0) -> 0 | V87: =IF(P87="외주비",F87+H87+J87,0) -> 0 | W87: =IF(P87="장비비",F87+H87+J87,0) -> 0 | X87: =IF(P87="폐기물처리비",J87,0) -> 0 | Y87: =IF(P87="가설비",J87,0) -> 0 | Z87: =IF(P87="잡비제외분",F87,0) -> 0 | AA87: =IF(P87="사급자재대",L87,0) -> 0 | AB87: =IF(P87="관급자재대",L87,0) -> 0 | AC87: =IF(P87="사용자항목1",L87,0) -> 0 | AD87: =IF(P87="사용자항목2",L87,0) -> 0 | AE87: =IF(P87="사용자항목3",L87,0) -> 0 | AF87: =IF(P87="사용자항목4",L87,0) -> 0 | AG87: =IF(P87="사용자항목5",L87,0) -> 0 | AH87: =IF(P87="사용자항목6",L87,0) -> 0 | AI87: =IF(P87="사용자항목7",L87,0) -> 0 | AJ87: =IF(P87="사용자항목8",L87,0) -> 0 | AK87: =IF(P87="사용자항목9",L87,0) -> 0
A88: WD_3 부속실 | B88: 900*2400 | C88: 개소 | D88: 1 | F88: =ROUNDDOWN(D88*E88,0) -> 0 | H88: =ROUNDDOWN(D88*G88,0) -> 0 | J88: =ROUNDDOWN(D88*I88,0) -> 0 | K88: =E88+G88+I88 -> 0 | L88: =F88+H88+J88 -> 0 | P88: 기계경비 | Q88: 1 | R88: =IF(P88="기계경비",J88,0) -> 0 | S88: =IF(P88="운반비",J88,0) -> 0 | T88: =IF(P88="작업부산물",F88,0) -> 0 | U88: =IF(P88="관급",ROUNDDOWN(D88*E88,0),0)+IF(P88="지급",ROUNDDOWN(D88*E88,0),0) -> 0 | V88: =IF(P88="외주비",F88+H88+J88,0) -> 0 | W88: =IF(P88="장비비",F88+H88+J88,0) -> 0 | X88: =IF(P88="폐기물처리비",J88,0) -> 0 | Y88: =IF(P88="가설비",J88,0) -> 0 | Z88: =IF(P88="잡비제외분",F88,0) -> 0 | AA88: =IF(P88="사급자재대",L88,0) -> 0 | AB88: =IF(P88="관급자재대",L88,0) -> 0 | AC88: =IF(P88="사용자항목1",L88,0) -> 0 | AD88: =IF(P88="사용자항목2",L88,0) -> 0 | AE88: =IF(P88="사용자항목3",L88,0) -> 0 | AF88: =IF(P88="사용자항목4",L88,0) -> 0 | AG88: =IF(P88="사용자항목5",L88,0) -> 0 | AH88: =IF(P88="사용자항목6",L88,0) -> 0 | AI88: =IF(P88="사용자항목7",L88,0) -> 0 | AJ88: =IF(P88="사용자항목8",L88,0) -> 0 | AK88: =IF(P88="사용자항목9",L88,0) -> 0
A89: WD_4 부속실 | B89: 1800*2100 | C89: 개소 | D89: 1 | F89: =ROUNDDOWN(D89*E89,0) -> 0 | H89: =ROUNDDOWN(D89*G89,0) -> 0 | J89: =ROUNDDOWN(D89*I89,0) -> 0 | K89: =E89+G89+I89 -> 0 | L89: =F89+H89+J89 -> 0 | P89: 기계경비 | Q89: 1 | R89: =IF(P89="기계경비",J89,0) -> 0 | S89: =IF(P89="운반비",J89,0) -> 0 | T89: =IF(P89="작업부산물",F89,0) -> 0 | U89: =IF(P89="관급",ROUNDDOWN(D89*E89,0),0)+IF(P89="지급",ROUNDDOWN(D89*E89,0),0) -> 0 | V89: =IF(P89="외주비",F89+H89+J89,0) -> 0 | W89: =IF(P89="장비비",F89+H89+J89,0) -> 0 | X89: =IF(P89="폐기물처리비",J89,0) -> 0 | Y89: =IF(P89="가설비",J89,0) -> 0 | Z89: =IF(P89="잡비제외분",F89,0) -> 0 | AA89: =IF(P89="사급자재대",L89,0) -> 0 | AB89: =IF(P89="관급자재대",L89,0) -> 0 | AC89: =IF(P89="사용자항목1",L89,0) -> 0 | AD89: =IF(P89="사용자항목2",L89,0) -> 0 | AE89: =IF(P89="사용자항목3",L89,0) -> 0 | AF89: =IF(P89="사용자항목4",L89,0) -> 0 | AG89: =IF(P89="사용자항목5",L89,0) -> 0 | AH89: =IF(P89="사용자항목6",L89,0) -> 0 | AI89: =IF(P89="사용자항목7",L89,0) -> 0 | AJ89: =IF(P89="사용자항목8",L89,0) -> 0 | AK89: =IF(P89="사용자항목9",L89,0) -> 0
A90: WD_5 전실 | B90: 800*2100 | C90: 개소 | D90: 4 | F90: =ROUNDDOWN(D90*E90,0) -> 0 | H90: =ROUNDDOWN(D90*G90,0) -> 0 | J90: =ROUNDDOWN(D90*I90,0) -> 0 | K90: =E90+G90+I90 -> 0 | L90: =F90+H90+J90 -> 0 | P90: 기계경비 | Q90: 1 | R90: =IF(P90="기계경비",J90,0) -> 0 | S90: =IF(P90="운반비",J90,0) -> 0 | T90: =IF(P90="작업부산물",F90,0) -> 0 | U90: =IF(P90="관급",ROUNDDOWN(D90*E90,0),0)+IF(P90="지급",ROUNDDOWN(D90*E90,0),0) -> 0 | V90: =IF(P90="외주비",F90+H90+J90,0) -> 0 | W90: =IF(P90="장비비",F90+H90+J90,0) -> 0 | X90: =IF(P90="폐기물처리비",J90,0) -> 0 | Y90: =IF(P90="가설비",J90,0) -> 0 | Z90: =IF(P90="잡비제외분",F90,0) -> 0 | AA90: =IF(P90="사급자재대",L90,0) -> 0 | AB90: =IF(P90="관급자재대",L90,0) -> 0 | AC90: =IF(P90="사용자항목1",L90,0) -> 0 | AD90: =IF(P90="사용자항목2",L90,0) -> 0 | AE90: =IF(P90="사용자항목3",L90,0) -> 0 | AF90: =IF(P90="사용자항목4",L90,0) -> 0 | AG90: =IF(P90="사용자항목5",L90,0) -> 0 | AH90: =IF(P90="사용자항목6",L90,0) -> 0 | AI90: =IF(P90="사용자항목7",L90,0) -> 0 | AJ90: =IF(P90="사용자항목8",L90,0) -> 0 | AK90: =IF(P90="사용자항목9",L90,0) -> 0
A91: 목재도어설치 | B91: SGP,편개(하드웨어포함) | C91: EA | D91: 23 | F91: =ROUNDDOWN(D91*E91,0) -> 0 | H91: =ROUNDDOWN(D91*G91,0) -> 0 | J91: =ROUNDDOWN(D91*I91,0) -> 0 | K91: =E91+G91+I91 -> 0 | L91: =F91+H91+J91 -> 0 | O91: 01 | P91: 기계경비 | Q91: 1 | R91: =IF(P91="기계경비",J91,0) -> 0 | S91: =IF(P91="운반비",J91,0) -> 0 | T91: =IF(P91="작업부산물",F91,0) -> 0 | U91: =IF(P91="관급",ROUNDDOWN(D91*E91,0),0)+IF(P91="지급",ROUNDDOWN(D91*E91,0),0) -> 0 | V91: =IF(P91="외주비",F91+H91+J91,0) -> 0 | W91: =IF(P91="장비비",F91+H91+J91,0) -> 0 | X91: =IF(P91="폐기물처리비",J91,0) -> 0 | Y91: =IF(P91="가설비",J91,0) -> 0 | Z91: =IF(P91="잡비제외분",F91,0) -> 0 | AA91: =IF(P91="사급자재대",L91,0) -> 0 | AB91: =IF(P91="관급자재대",L91,0) -> 0 | AC91: =IF(P91="사용자항목1",L91,0) -> 0 | AD91: =IF(P91="사용자항목2",L91,0) -> 0 | AE91: =IF(P91="사용자항목3",L91,0) -> 0 | AF91: =IF(P91="사용자항목4",L91,0) -> 0 | AG91: =IF(P91="사용자항목5",L91,0) -> 0 | AH91: =IF(P91="사용자항목6",L91,0) -> 0 | AI91: =IF(P91="사용자항목7",L91,0) -> 0 | AJ91: =IF(P91="사용자항목8",L91,0) -> 0 | AK91: =IF(P91="사용자항목9",L91,0) -> 0
A92: 우레탄폼 충전 | B92: 창호주위 (건식벽) | C92: m | D92: 18 | F92: =ROUNDDOWN(D92*E92,0) -> 0 | H92: =ROUNDDOWN(D92*G92,0) -> 0 | J92: =ROUNDDOWN(D92*I92,0) -> 0 | K92: =E92+G92+I92 -> 0 | L92: =F92+H92+J92 -> 0 | O92: 01 | P92: 기계경비 | Q92: 1 | R92: =IF(P92="기계경비",J92,0) -> 0 | S92: =IF(P92="운반비",J92,0) -> 0 | T92: =IF(P92="작업부산물",F92,0) -> 0 | U92: =IF(P92="관급",ROUNDDOWN(D92*E92,0),0)+IF(P92="지급",ROUNDDOWN(D92*E92,0),0) -> 0 | V92: =IF(P92="외주비",F92+H92+J92,0) -> 0 | W92: =IF(P92="장비비",F92+H92+J92,0) -> 0 | X92: =IF(P92="폐기물처리비",J92,0) -> 0 | Y92: =IF(P92="가설비",J92,0) -> 0 | Z92: =IF(P92="잡비제외분",F92,0) -> 0 | AA92: =IF(P92="사급자재대",L92,0) -> 0 | AB92: =IF(P92="관급자재대",L92,0) -> 0 | AC92: =IF(P92="사용자항목1",L92,0) -> 0 | AD92: =IF(P92="사용자항목2",L92,0) -> 0 | AE92: =IF(P92="사용자항목3",L92,0) -> 0 | AF92: =IF(P92="사용자항목4",L92,0) -> 0 | AG92: =IF(P92="사용자항목5",L92,0) -> 0 | AH92: =IF(P92="사용자항목6",L92,0) -> 0 | AI92: =IF(P92="사용자항목7",L92,0) -> 0 | AJ92: =IF(P92="사용자항목8",L92,0) -> 0 | AK92: =IF(P92="사용자항목9",L92,0) -> 0
A93: 수밀코킹(5mm각) | B93: 실리콘 | C93: M | D93: 38 | F93: =ROUNDDOWN(D93*E93,0) -> 0 | H93: =ROUNDDOWN(D93*G93,0) -> 0 | J93: =ROUNDDOWN(D93*I93,0) -> 0 | K93: =E93+G93+I93 -> 0 | L93: =F93+H93+J93 -> 0 | P93: 기계경비 | Q93: 1 | R93: =IF(P93="기계경비",J93,0) -> 0 | S93: =IF(P93="운반비",J93,0) -> 0 | T93: =IF(P93="작업부산물",F93,0) -> 0 | U93: =IF(P93="관급",ROUNDDOWN(D93*E93,0),0)+IF(P93="지급",ROUNDDOWN(D93*E93,0),0) -> 0 | V93: =IF(P93="외주비",F93+H93+J93,0) -> 0 | W93: =IF(P93="장비비",F93+H93+J93,0) -> 0 | X93: =IF(P93="폐기물처리비",J93,0) -> 0 | Y93: =IF(P93="가설비",J93,0) -> 0 | Z93: =IF(P93="잡비제외분",F93,0) -> 0 | AA93: =IF(P93="사급자재대",L93,0) -> 0 | AB93: =IF(P93="관급자재대",L93,0) -> 0 | AC93: =IF(P93="사용자항목1",L93,0) -> 0 | AD93: =IF(P93="사용자항목2",L93,0) -> 0 | AE93: =IF(P93="사용자항목3",L93,0) -> 0 | AF93: =IF(P93="사용자항목4",L93,0) -> 0 | AG93: =IF(P93="사용자항목5",L93,0) -> 0 | AH93: =IF(P93="사용자항목6",L93,0) -> 0 | AI93: =IF(P93="사용자항목7",L93,0) -> 0 | AJ93: =IF(P93="사용자항목8",L93,0) -> 0 | AK93: =IF(P93="사용자항목9",L93,0) -> 0
A94: 재료분리대(바닥) | B94: W25*H20*1.5tSST | C94: M | D94: 7 | F94: =ROUNDDOWN(D94*E94,0) -> 0 | H94: =ROUNDDOWN(D94*G94,0) -> 0 | J94: =ROUNDDOWN(D94*I94,0) -> 0 | K94: =E94+G94+I94 -> 0 | L94: =F94+H94+J94 -> 0 | P94: 기계경비 | Q94: 1 | R94: =IF(P94="기계경비",J94,0) -> 0 | S94: =IF(P94="운반비",J94,0) -> 0 | T94: =IF(P94="작업부산물",F94,0) -> 0 | U94: =IF(P94="관급",ROUNDDOWN(D94*E94,0),0)+IF(P94="지급",ROUNDDOWN(D94*E94,0),0) -> 0 | V94: =IF(P94="외주비",F94+H94+J94,0) -> 0 | W94: =IF(P94="장비비",F94+H94+J94,0) -> 0 | X94: =IF(P94="폐기물처리비",J94,0) -> 0 | Y94: =IF(P94="가설비",J94,0) -> 0 | Z94: =IF(P94="잡비제외분",F94,0) -> 0 | AA94: =IF(P94="사급자재대",L94,0) -> 0 | AB94: =IF(P94="관급자재대",L94,0) -> 0 | AC94: =IF(P94="사용자항목1",L94,0) -> 0 | AD94: =IF(P94="사용자항목2",L94,0) -> 0 | AE94: =IF(P94="사용자항목3",L94,0) -> 0 | AF94: =IF(P94="사용자항목4",L94,0) -> 0 | AG94: =IF(P94="사용자항목5",L94,0) -> 0 | AH94: =IF(P94="사용자항목6",L94,0) -> 0 | AI94: =IF(P94="사용자항목7",L94,0) -> 0 | AJ94: =IF(P94="사용자항목8",L94,0) -> 0 | AK94: =IF(P94="사용자항목9",L94,0) -> 0
A95: 재료분리대(바닥) | B95: 디럭스타일용,양면마감,AL | C95: M | D95: =INT(19.5*1.8*1.1) -> 38 | F95: =ROUNDDOWN(D95*E95,0) -> 0 | H95: =ROUNDDOWN(D95*G95,0) -> 0 | J95: =ROUNDDOWN(D95*I95,0) -> 0 | K95: =E95+G95+I95 -> 0 | L95: =F95+H95+J95 -> 0
A104: [소계] | F104: =SUM(F86:F103) -> 0 | H104: =SUM(H86:H103) -> 0 | J104: =SUM(J86:J103) -> 0 | L104: =F104+H104+J104 -> 0 | R104: =SUM($R$85:$R$103) -> 0 | S104: =SUM($S$85:$S$103) -> 0 | T104: =SUM($T$85:$T$103) -> 0 | U104: =SUM($U$85:$U$103) -> 0 | V104: =SUM($V$85:$V$103) -> 0 | W104: =SUM($W$85:$W$103) -> 0 | X104: =SUM($X$85:$X$103) -> 0 | Y104: =SUM($Y$85:$Y$103) -> 0 | Z104: =SUM($Z$85:$Z$103) -> 0 | AA104: =SUM($AA$85:$AA$103) -> 0 | AB104: =SUM($AB$85:$AB$103) -> 0 | AC104: =SUM($AC$85:$AC$103) -> 0 | AD104: =SUM($AD$85:$AD$103) -> 0 | AE104: =SUM($AE$85:$AE$103) -> 0 | AF104: =SUM($AF$85:$AF$103) -> 0 | AG104: =SUM($AG$85:$AG$103) -> 0 | AH104: =SUM($AH$85:$AH$103) -> 0 | AI104: =SUM($AI$85:$AI$103) -> 0 | AJ104: =SUM($AJ$85:$AJ$103) -> 0 | AK104: =SUM($AK$85:$AK$103) -> 0 | AL104: =SUM($AL$85:$AL$103) -> 0
A105: 6. 유리공사
A106: 맑은유리 | B106: 5mm | C106: M2 | D106: 39 | F106: =ROUNDDOWN(D106*E106,0) -> 0 | H106: =ROUNDDOWN(D106*G106,0) -> 0 | J106: =ROUNDDOWN(D106*I106,0) -> 0 | K106: =E106+G106+I106 -> 0 | L106: =F106+H106+J106 -> 0 | O106: 01 | P106: 기계경비 | Q106: 1 | R106: =IF(P106="기계경비",J106,0) -> 0 | S106: =IF(P106="운반비",J106,0) -> 0 | T106: =IF(P106="작업부산물",F106,0) -> 0 | U106: =IF(P106="관급",ROUNDDOWN(D106*E106,0),0)+IF(P106="지급",ROUNDDOWN(D106*E106,0),0) -> 0 | V106: =IF(P106="외주비",F106+H106+J106,0) -> 0 | W106: =IF(P106="장비비",F106+H106+J106,0) -> 0 | X106: =IF(P106="폐기물처리비",J106,0) -> 0 | Y106: =IF(P106="가설비",J106,0) -> 0 | Z106: =IF(P106="잡비제외분",F106,0) -> 0 | AA106: =IF(P106="사급자재대",L106,0) -> 0 | AB106: =IF(P106="관급자재대",L106,0) -> 0 | AC106: =IF(P106="사용자항목1",L106,0) -> 0 | AD106: =IF(P106="사용자항목2",L106,0) -> 0 | AE106: =IF(P106="사용자항목3",L106,0) -> 0 | AF106: =IF(P106="사용자항목4",L106,0) -> 0 | AG106: =IF(P106="사용자항목5",L106,0) -> 0 | AH106: =IF(P106="사용자항목6",L106,0) -> 0 | AI106: =IF(P106="사용자항목7",L106,0) -> 0 | AJ106: =IF(P106="사용자항목8",L106,0) -> 0 | AK106: =IF(P106="사용자항목9",L106,0) -> 0
A107: 유리끼우기(판유리) | B107: 5mm이하 | C107: M2 | D107: 39 | F107: =ROUNDDOWN(D107*E107,0) -> 0 | H107: =ROUNDDOWN(D107*G107,0) -> 0 | J107: =ROUNDDOWN(D107*I107,0) -> 0 | K107: =E107+G107+I107 -> 0 | L107: =F107+H107+J107 -> 0 | P107: 기계경비 | Q107: 1 | R107: =IF(P107="기계경비",J107,0) -> 0 | S107: =IF(P107="운반비",J107,0) -> 0 | T107: =IF(P107="작업부산물",F107,0) -> 0 | U107: =IF(P107="관급",ROUNDDOWN(D107*E107,0),0)+IF(P107="지급",ROUNDDOWN(D107*E107,0),0) -> 0 | V107: =IF(P107="외주비",F107+H107+J107,0) -> 0 | W107: =IF(P107="장비비",F107+H107+J107,0) -> 0 | X107: =IF(P107="폐기물처리비",J107,0) -> 0 | Y107: =IF(P107="가설비",J107,0) -> 0 | Z107: =IF(P107="잡비제외분",F107,0) -> 0 | AA107: =IF(P107="사급자재대",L107,0) -> 0 | AB107: =IF(P107="관급자재대",L107,0) -> 0 | AC107: =IF(P107="사용자항목1",L107,0) -> 0 | AD107: =IF(P107="사용자항목2",L107,0) -> 0 | AE107: =IF(P107="사용자항목3",L107,0) -> 0 | AF107: =IF(P107="사용자항목4",L107,0) -> 0 | AG107: =IF(P107="사용자항목5",L107,0) -> 0 | AH107: =IF(P107="사용자항목6",L107,0) -> 0 | AI107: =IF(P107="사용자항목7",L107,0) -> 0 | AJ107: =IF(P107="사용자항목8",L107,0) -> 0 | AK107: =IF(P107="사용자항목9",L107,0) -> 0
A108: 유리주위코킹 | B108: 5*5,실리콘 | C108: M | D108: 560 | F108: =ROUNDDOWN(D108*E108,0) -> 0 | H108: =ROUNDDOWN(D108*G108,0) -> 0 | J108: =ROUNDDOWN(D108*I108,0) -> 0 | K108: =E108+G108+I108 -> 0 | L108: =F108+H108+J108 -> 0 | P108: 기계경비 | Q108: 1 | R108: =IF(P108="기계경비",J108,0) -> 0 | S108: =IF(P108="운반비",J108,0) -> 0 | T108: =IF(P108="작업부산물",F108,0) -> 0 | U108: =IF(P108="관급",ROUNDDOWN(D108*E108,0),0)+IF(P108="지급",ROUNDDOWN(D108*E108,0),0) -> 0 | V108: =IF(P108="외주비",F108+H108+J108,0) -> 0 | W108: =IF(P108="장비비",F108+H108+J108,0) -> 0 | X108: =IF(P108="폐기물처리비",J108,0) -> 0 | Y108: =IF(P108="가설비",J108,0) -> 0 | Z108: =IF(P108="잡비제외분",F108,0) -> 0 | AA108: =IF(P108="사급자재대",L108,0) -> 0 | AB108: =IF(P108="관급자재대",L108,0) -> 0 | AC108: =IF(P108="사용자항목1",L108,0) -> 0 | AD108: =IF(P108="사용자항목2",L108,0) -> 0 | AE108: =IF(P108="사용자항목3",L108,0) -> 0 | AF108: =IF(P108="사용자항목4",L108,0) -> 0 | AG108: =IF(P108="사용자항목5",L108,0) -> 0 | AH108: =IF(P108="사용자항목6",L108,0) -> 0 | AI108: =IF(P108="사용자항목7",L108,0) -> 0 | AJ108: =IF(P108="사용자항목8",L108,0) -> 0 | AK108: =IF(P108="사용자항목9",L108,0) -> 0
A124: [소계] | F124: =SUMIF($Q$105:$Q$123, 1,$F$105:$F$123) -> 0 | H124: =SUMIF($Q$105:$Q$123, 1,$H$105:$H$123) -> 0 | J124: =SUMIF($Q$105:$Q$123, 1,$J$105:$J$123) -> 0 | L124: =F124+H124+J124 -> 0 | R124: =SUM($R$105:$R$123) -> 0 | S124: =SUM($S$105:$S$123) -> 0 | T124: =SUM($T$105:$T$123) -> 0 | U124: =SUM($U$105:$U$123) -> 0 | V124: =SUM($V$105:$V$123) -> 0 | W124: =SUM($W$105:$W$123) -> 0 | X124: =SUM($X$105:$X$123) -> 0 | Y124: =SUM($Y$105:$Y$123) -> 0 | Z124: =SUM($Z$105:$Z$123) -> 0 | AA124: =SUM($AA$105:$AA$123) -> 0 | AB124: =SUM($AB$105:$AB$123) -> 0 | AC124: =SUM($AC$105:$AC$123) -> 0 | AD124: =SUM($AD$105:$AD$123) -> 0 | AE124: =SUM($AE$105:$AE$123) -> 0 | AF124: =SUM($AF$105:$AF$123) -> 0 | AG124: =SUM($AG$105:$AG$123) -> 0 | AH124: =SUM($AH$105:$AH$123) -> 0 | AI124: =SUM($AI$105:$AI$123) -> 0 | AJ124: =SUM($AJ$105:$AJ$123) -> 0 | AK124: =SUM($AK$105:$AK$123) -> 0 | AL124: =SUM($AL$105:$AL$123) -> 0
A125: 7. 수장공사
A126: SMC천정재 | B126: 1.2*300*300 | C126: M2 | D126: 10 | F126: =ROUNDDOWN(D126*E126,0) -> 0 | H126: =ROUNDDOWN(D126*G126,0) -> 0 | J126: =ROUNDDOWN(D126*I126,0) -> 0 | K126: =E126+G126+I126 -> 0 | L126: =F126+H126+J126 -> 0 | O126: 01 | P126: 기계경비 | Q126: 1 | R126: =IF(P126="기계경비",J126,0) -> 0 | S126: =IF(P126="운반비",J126,0) -> 0 | T126: =IF(P126="작업부산물",F126,0) -> 0 | U126: =IF(P126="관급",ROUNDDOWN(D126*E126,0),0)+IF(P126="지급",ROUNDDOWN(D126*E126,0),0) -> 0 | V126: =IF(P126="외주비",F126+H126+J126,0) -> 0 | W126: =IF(P126="장비비",F126+H126+J126,0) -> 0 | X126: =IF(P126="폐기물처리비",J126,0) -> 0 | Y126: =IF(P126="가설비",J126,0) -> 0 | Z126: =IF(P126="잡비제외분",F126,0) -> 0 | AA126: =IF(P126="사급자재대",L126,0) -> 0 | AB126: =IF(P126="관급자재대",L126,0) -> 0 | AC126: =IF(P126="사용자항목1",L126,0) -> 0 | AD126: =IF(P126="사용자항목2",L126,0) -> 0 | AE126: =IF(P126="사용자항목3",L126,0) -> 0 | AF126: =IF(P126="사용자항목4",L126,0) -> 0 | AG126: =IF(P126="사용자항목5",L126,0) -> 0 | AH126: =IF(P126="사용자항목6",L126,0) -> 0 | AI126: =IF(P126="사용자항목7",L126,0) -> 0 | AJ126: =IF(P126="사용자항목8",L126,0) -> 0 | AK126: =IF(P126="사용자항목9",L126,0) -> 0
A127: 암면텍스붙임 | B127: 12mm천정,텍스포함 | C127: M2 | D127: 900 | F127: =ROUNDDOWN(D127*E127,0) -> 0 | H127: =ROUNDDOWN(D127*G127,0) -> 0 | J127: =ROUNDDOWN(D127*I127,0) -> 0 | K127: =E127+G127+I127 -> 0 | L127: =F127+H127+J127 -> 0 | P127: 기계경비 | Q127: 1 | R127: =IF(P127="기계경비",J127,0) -> 0 | S127: =IF(P127="운반비",J127,0) -> 0 | T127: =IF(P127="작업부산물",F127,0) -> 0 | U127: =IF(P127="관급",ROUNDDOWN(D127*E127,0),0)+IF(P127="지급",ROUNDDOWN(D127*E127,0),0) -> 0 | V127: =IF(P127="외주비",F127+H127+J127,0) -> 0 | W127: =IF(P127="장비비",F127+H127+J127,0) -> 0 | X127: =IF(P127="폐기물처리비",J127,0) -> 0 | Y127: =IF(P127="가설비",J127,0) -> 0 | Z127: =IF(P127="잡비제외분",F127,0) -> 0 | AA127: =IF(P127="사급자재대",L127,0) -> 0 | AB127: =IF(P127="관급자재대",L127,0) -> 0 | AC127: =IF(P127="사용자항목1",L127,0) -> 0 | AD127: =IF(P127="사용자항목2",L127,0) -> 0 | AE127: =IF(P127="사용자항목3",L127,0) -> 0 | AF127: =IF(P127="사용자항목4",L127,0) -> 0 | AG127: =IF(P127="사용자항목5",L127,0) -> 0 | AH127: =IF(P127="사용자항목6",L127,0) -> 0 | AI127: =IF(P127="사용자항목7",L127,0) -> 0 | AJ127: =IF(P127="사용자항목8",L127,0) -> 0 | AK127: =IF(P127="사용자항목9",L127,0) -> 0
A128: 목조벽틀설치 | B128: 30*30,450*450 | C128: M2 | D128: 4 | F128: =ROUNDDOWN(D128*E128,0) -> 0 | H128: =ROUNDDOWN(D128*G128,0) -> 0 | J128: =ROUNDDOWN(D128*I128,0) -> 0 | K128: =E128+G128+I128 -> 0 | L128: =F128+H128+J128 -> 0 | P128: 기계경비 | Q128: 1 | R128: =IF(P128="기계경비",J128,0) -> 0 | S128: =IF(P128="운반비",J128,0) -> 0 | T128: =IF(P128="작업부산물",F128,0) -> 0 | U128: =IF(P128="관급",ROUNDDOWN(D128*E128,0),0)+IF(P128="지급",ROUNDDOWN(D128*E128,0),0) -> 0 | V128: =IF(P128="외주비",F128+H128+J128,0) -> 0 | W128: =IF(P128="장비비",F128+H128+J128,0) -> 0 | X128: =IF(P128="폐기물처리비",J128,0) -> 0 | Y128: =IF(P128="가설비",J128,0) -> 0 | Z128: =IF(P128="잡비제외분",F128,0) -> 0 | AA128: =IF(P128="사급자재대",L128,0) -> 0 | AB128: =IF(P128="관급자재대",L128,0) -> 0 | AC128: =IF(P128="사용자항목1",L128,0) -> 0 | AD128: =IF(P128="사용자항목2",L128,0) -> 0 | AE128: =IF(P128="사용자항목3",L128,0) -> 0 | AF128: =IF(P128="사용자항목4",L128,0) -> 0 | AG128: =IF(P128="사용자항목5",L128,0) -> 0 | AH128: =IF(P128="사용자항목6",L128,0) -> 0 | AI128: =IF(P128="사용자항목7",L128,0) -> 0 | AJ128: =IF(P128="사용자항목8",L128,0) -> 0 | AK128: =IF(P128="사용자항목9",L128,0) -> 0
A129: 메탈스터드설치공사(C-100) | B129: 0.8T 100*45 | C129: M2 | D129: 42 | F129: =ROUNDDOWN(D129*E129,0) -> 0 | H129: =ROUNDDOWN(D129*G129,0) -> 0 | J129: =ROUNDDOWN(D129*I129,0) -> 0 | K129: =E129+G129+I129 -> 0 | L129: =F129+H129+J129 -> 0 | P129: 기계경비 | Q129: 1 | R129: =IF(P129="기계경비",J129,0) -> 0 | S129: =IF(P129="운반비",J129,0) -> 0 | T129: =IF(P129="작업부산물",F129,0) -> 0 | U129: =IF(P129="관급",ROUNDDOWN(D129*E129,0),0)+IF(P129="지급",ROUNDDOWN(D129*E129,0),0) -> 0 | V129: =IF(P129="외주비",F129+H129+J129,0) -> 0 | W129: =IF(P129="장비비",F129+H129+J129,0) -> 0 | X129: =IF(P129="폐기물처리비",J129,0) -> 0 | Y129: =IF(P129="가설비",J129,0) -> 0 | Z129: =IF(P129="잡비제외분",F129,0) -> 0 | AA129: =IF(P129="사급자재대",L129,0) -> 0 | AB129: =IF(P129="관급자재대",L129,0) -> 0 | AC129: =IF(P129="사용자항목1",L129,0) -> 0 | AD129: =IF(P129="사용자항목2",L129,0) -> 0 | AE129: =IF(P129="사용자항목3",L129,0) -> 0 | AF129: =IF(P129="사용자항목4",L129,0) -> 0 | AG129: =IF(P129="사용자항목5",L129,0) -> 0 | AH129: =IF(P129="사용자항목6",L129,0) -> 0 | AI129: =IF(P129="사용자항목7",L129,0) -> 0 | AJ129: =IF(P129="사용자항목8",L129,0) -> 0 | AK129: =IF(P129="사용자항목9",L129,0) -> 0
A130: 석고판못붙임(바탕용,벽) | B130: 일반 9mm | C130: M2 | D130: 85 | F130: =ROUNDDOWN(D130*E130,0) -> 0 | H130: =ROUNDDOWN(D130*G130,0) -> 0 | J130: =ROUNDDOWN(D130*I130,0) -> 0 | K130: =E130+G130+I130 -> 0 | L130: =F130+H130+J130 -> 0 | P130: 기계경비 | Q130: 1 | R130: =IF(P130="기계경비",J130,0) -> 0 | S130: =IF(P130="운반비",J130,0) -> 0 | T130: =IF(P130="작업부산물",F130,0) -> 0 | U130: =IF(P130="관급",ROUNDDOWN(D130*E130,0),0)+IF(P130="지급",ROUNDDOWN(D130*E130,0),0) -> 0 | V130: =IF(P130="외주비",F130+H130+J130,0) -> 0 | W130: =IF(P130="장비비",F130+H130+J130,0) -> 0 | X130: =IF(P130="폐기물처리비",J130,0) -> 0 | Y130: =IF(P130="가설비",J130,0) -> 0 | Z130: =IF(P130="잡비제외분",F130,0) -> 0 | AA130: =IF(P130="사급자재대",L130,0) -> 0 | AB130: =IF(P130="관급자재대",L130,0) -> 0 | AC130: =IF(P130="사용자항목1",L130,0) -> 0 | AD130: =IF(P130="사용자항목2",L130,0) -> 0 | AE130: =IF(P130="사용자항목3",L130,0) -> 0 | AF130: =IF(P130="사용자항목4",L130,0) -> 0 | AG130: =IF(P130="사용자항목5",L130,0) -> 0 | AH130: =IF(P130="사용자항목6",L130,0) -> 0 | AI130: =IF(P130="사용자항목7",L130,0) -> 0 | AJ130: =IF(P130="사용자항목8",L130,0) -> 0 | AK130: =IF(P130="사용자항목9",L130,0) -> 0
A131: 석고판못붙임(치장용,벽) | B131: 일반 9mm | C131: M2 | D131: 6 | F131: =ROUNDDOWN(D131*E131,0) -> 0 | H131: =ROUNDDOWN(D131*G131,0) -> 0 | J131: =ROUNDDOWN(D131*I131,0) -> 0 | K131: =E131+G131+I131 -> 0 | L131: =F131+H131+J131 -> 0 | P131: 기계경비 | Q131: 1 | R131: =IF(P131="기계경비",J131,0) -> 0 | S131: =IF(P131="운반비",J131,0) -> 0 | T131: =IF(P131="작업부산물",F131,0) -> 0 | U131: =IF(P131="관급",ROUNDDOWN(D131*E131,0),0)+IF(P131="지급",ROUNDDOWN(D131*E131,0),0) -> 0 | V131: =IF(P131="외주비",F131+H131+J131,0) -> 0 | W131: =IF(P131="장비비",F131+H131+J131,0) -> 0 | X131: =IF(P131="폐기물처리비",J131,0) -> 0 | Y131: =IF(P131="가설비",J131,0) -> 0 | Z131: =IF(P131="잡비제외분",F131,0) -> 0 | AA131: =IF(P131="사급자재대",L131,0) -> 0 | AB131: =IF(P131="관급자재대",L131,0) -> 0 | AC131: =IF(P131="사용자항목1",L131,0) -> 0 | AD131: =IF(P131="사용자항목2",L131,0) -> 0 | AE131: =IF(P131="사용자항목3",L131,0) -> 0 | AF131: =IF(P131="사용자항목4",L131,0) -> 0 | AG131: =IF(P131="사용자항목5",L131,0) -> 0 | AH131: =IF(P131="사용자항목6",L131,0) -> 0 | AI131: =IF(P131="사용자항목7",L131,0) -> 0 | AJ131: =IF(P131="사용자항목8",L131,0) -> 0 | AK131: =IF(P131="사용자항목9",L131,0) -> 0
A132: 합판붙이기 | B132: 벽, 5MM | C132: M2 | D132: 11 | F132: =ROUNDDOWN(D132*E132,0) -> 0 | H132: =ROUNDDOWN(D132*G132,0) -> 0 | J132: =ROUNDDOWN(D132*I132,0) -> 0 | K132: =E132+G132+I132 -> 0 | L132: =F132+H132+J132 -> 0 | P132: 기계경비 | Q132: 1 | R132: =IF(P132="기계경비",J132,0) -> 0 | S132: =IF(P132="운반비",J132,0) -> 0 | T132: =IF(P132="작업부산물",F132,0) -> 0 | U132: =IF(P132="관급",ROUNDDOWN(D132*E132,0),0)+IF(P132="지급",ROUNDDOWN(D132*E132,0),0) -> 0 | V132: =IF(P132="외주비",F132+H132+J132,0) -> 0 | W132: =IF(P132="장비비",F132+H132+J132,0) -> 0 | X132: =IF(P132="폐기물처리비",J132,0) -> 0 | Y132: =IF(P132="가설비",J132,0) -> 0 | Z132: =IF(P132="잡비제외분",F132,0) -> 0 | AA132: =IF(P132="사급자재대",L132,0) -> 0 | AB132: =IF(P132="관급자재대",L132,0) -> 0 | AC132: =IF(P132="사용자항목1",L132,0) -> 0 | AD132: =IF(P132="사용자항목2",L132,0) -> 0 | AE132: =IF(P132="사용자항목3",L132,0) -> 0 | AF132: =IF(P132="사용자항목4",L132,0) -> 0 | AG132: =IF(P132="사용자항목5",L132,0) -> 0 | AH132: =IF(P132="사용자항목6",L132,0) -> 0 | AI132: =IF(P132="사용자항목7",L132,0) -> 0 | AJ132: =IF(P132="사용자항목8",L132,0) -> 0 | AK132: =IF(P132="사용자항목9",L132,0) -> 0
A133: 벽,MDF붙임 | B133: MDF포함 | C133: M2 | D133: 132 | F133: =ROUNDDOWN(D133*E133,0) -> 0 | H133: =ROUNDDOWN(D133*G133,0) -> 0 | J133: =ROUNDDOWN(D133*I133,0) -> 0 | K133: =E133+G133+I133 -> 0 | L133: =F133+H133+J133 -> 0 | P133: 기계경비 | Q133: 1 | R133: =IF(P133="기계경비",J133,0) -> 0 | S133: =IF(P133="운반비",J133,0) -> 0 | T133: =IF(P133="작업부산물",F133,0) -> 0 | U133: =IF(P133="관급",ROUNDDOWN(D133*E133,0),0)+IF(P133="지급",ROUNDDOWN(D133*E133,0),0) -> 0 | V133: =IF(P133="외주비",F133+H133+J133,0) -> 0 | W133: =IF(P133="장비비",F133+H133+J133,0) -> 0 | X133: =IF(P133="폐기물처리비",J133,0) -> 0 | Y133: =IF(P133="가설비",J133,0) -> 0 | Z133: =IF(P133="잡비제외분",F133,0) -> 0 | AA133: =IF(P133="사급자재대",L133,0) -> 0 | AB133: =IF(P133="관급자재대",L133,0) -> 0 | AC133: =IF(P133="사용자항목1",L133,0) -> 0 | AD133: =IF(P133="사용자항목2",L133,0) -> 0 | AE133: =IF(P133="사용자항목3",L133,0) -> 0 | AF133: =IF(P133="사용자항목4",L133,0) -> 0 | AG133: =IF(P133="사용자항목5",L133,0) -> 0 | AH133: =IF(P133="사용자항목6",L133,0) -> 0 | AI133: =IF(P133="사용자항목7",L133,0) -> 0 | AJ133: =IF(P133="사용자항목8",L133,0) -> 0 | AK133: =IF(P133="사용자항목9",L133,0) -> 0
A134: 인테리어표면마감재 | B134: 0.42*1220mm FW (목무늬방염) | C134: M2 | D134: 229 | F134: =ROUNDDOWN(D134*E134,0) -> 0 | H134: =ROUNDDOWN(D134*G134,0) -> 0 | J134: =ROUNDDOWN(D134*I134,0) -> 0 | K134: =E134+G134+I134 -> 0 | L134: =F134+H134+J134 -> 0 | O134: 01 | P134: 기계경비 | Q134: 1 | R134: =IF(P134="기계경비",J134,0) -> 0 | S134: =IF(P134="운반비",J134,0) -> 0 | T134: =IF(P134="작업부산물",F134,0) -> 0 | U134: =IF(P134="관급",ROUNDDOWN(D134*E134,0),0)+IF(P134="지급",ROUNDDOWN(D134*E134,0),0) -> 0 | V134: =IF(P134="외주비",F134+H134+J134,0) -> 0 | W134: =IF(P134="장비비",F134+H134+J134,0) -> 0 | X134: =IF(P134="폐기물처리비",J134,0) -> 0 | Y134: =IF(P134="가설비",J134,0) -> 0 | Z134: =IF(P134="잡비제외분",F134,0) -> 0 | AA134: =IF(P134="사급자재대",L134,0) -> 0 | AB134: =IF(P134="관급자재대",L134,0) -> 0 | AC134: =IF(P134="사용자항목1",L134,0) -> 0 | AD134: =IF(P134="사용자항목2",L134,0) -> 0 | AE134: =IF(P134="사용자항목3",L134,0) -> 0 | AF134: =IF(P134="사용자항목4",L134,0) -> 0 | AG134: =IF(P134="사용자항목5",L134,0) -> 0 | AH134: =IF(P134="사용자항목6",L134,0) -> 0 | AI134: =IF(P134="사용자항목7",L134,0) -> 0 | AJ134: =IF(P134="사용자항목8",L134,0) -> 0 | AK134: =IF(P134="사용자항목9",L134,0) -> 0
A135: 방염벽지 | B135: 실크 | C135: M2 | D135: =INT(D136*1.1) -> 350 | F135: =ROUNDDOWN(D135*E135,0) -> 0 | H135: =ROUNDDOWN(D135*G135,0) -> 0 | J135: =ROUNDDOWN(D135*I135,0) -> 0 | K135: =E135+G135+I135 -> 0 | L135: =F135+H135+J135 -> 0 | O135: 01 | P135: 기계경비 | Q135: 1 | R135: =IF(P135="기계경비",J135,0) -> 0 | S135: =IF(P135="운반비",J135,0) -> 0 | T135: =IF(P135="작업부산물",F135,0) -> 0 | U135: =IF(P135="관급",ROUNDDOWN(D135*E135,0),0)+IF(P135="지급",ROUNDDOWN(D135*E135,0),0) -> 0 | V135: =IF(P135="외주비",F135+H135+J135,0) -> 0 | W135: =IF(P135="장비비",F135+H135+J135,0) -> 0 | X135: =IF(P135="폐기물처리비",J135,0) -> 0 | Y135: =IF(P135="가설비",J135,0) -> 0 | Z135: =IF(P135="잡비제외분",F135,0) -> 0 | AA135: =IF(P135="사급자재대",L135,0) -> 0 | AB135: =IF(P135="관급자재대",L135,0) -> 0 | AC135: =IF(P135="사용자항목1",L135,0) -> 0 | AD135: =IF(P135="사용자항목2",L135,0) -> 0 | AE135: =IF(P135="사용자항목3",L135,0) -> 0 | AF135: =IF(P135="사용자항목4",L135,0) -> 0 | AG135: =IF(P135="사용자항목5",L135,0) -> 0 | AH135: =IF(P135="사용자항목6",L135,0) -> 0 | AI135: =IF(P135="사용자항목7",L135,0) -> 0 | AJ135: =IF(P135="사용자항목8",L135,0) -> 0 | AK135: =IF(P135="사용자항목9",L135,0) -> 0
A136: 벽지바름 | C136: M2 | D136: =INT(200+(6*4)*2.4+(4.6+7.1)*2.4+(9+5.1)*2.4) -> 319 | F136: =ROUNDDOWN(D136*E136,0) -> 0 | H136: =ROUNDDOWN(D136*G136,0) -> 0 | J136: =ROUNDDOWN(D136*I136,0) -> 0 | K136: =E136+G136+I136 -> 0 | L136: =F136+H136+J136 -> 0 | P136: 기계경비 | Q136: 1 | R136: =IF(P136="기계경비",J136,0) -> 0 | S136: =IF(P136="운반비",J136,0) -> 0 | T136: =IF(P136="작업부산물",F136,0) -> 0 | U136: =IF(P136="관급",ROUNDDOWN(D136*E136,0),0)+IF(P136="지급",ROUNDDOWN(D136*E136,0),0) -> 0 | V136: =IF(P136="외주비",F136+H136+J136,0) -> 0 | W136: =IF(P136="장비비",F136+H136+J136,0) -> 0 | X136: =IF(P136="폐기물처리비",J136,0) -> 0 | Y136: =IF(P136="가설비",J136,0) -> 0 | Z136: =IF(P136="잡비제외분",F136,0) -> 0 | AA136: =IF(P136="사급자재대",L136,0) -> 0 | AB136: =IF(P136="관급자재대",L136,0) -> 0 | AC136: =IF(P136="사용자항목1",L136,0) -> 0 | AD136: =IF(P136="사용자항목2",L136,0) -> 0 | AE136: =IF(P136="사용자항목3",L136,0) -> 0 | AF136: =IF(P136="사용자항목4",L136,0) -> 0 | AG136: =IF(P136="사용자항목5",L136,0) -> 0 | AH136: =IF(P136="사용자항목6",L136,0) -> 0 | AI136: =IF(P136="사용자항목7",L136,0) -> 0 | AJ136: =IF(P136="사용자항목8",L136,0) -> 0 | AK136: =IF(P136="사용자항목9",L136,0) -> 0
A137: 비닐타일(디럭스) | B137: 450*450*3.0mm (왁스사용) | C137: M2 | D137: =3270-338 -> 2932 | F137: =ROUNDDOWN(D137*E137,0) -> 0 | H137: =ROUNDDOWN(D137*G137,0) -> 0 | J137: =ROUNDDOWN(D137*I137,0) -> 0 | K137: =E137+G137+I137 -> 0 | L137: =F137+H137+J137 -> 0 | P137: 기계경비 | Q137: 1 | R137: =IF(P137="기계경비",J137,0) -> 0 | S137: =IF(P137="운반비",J137,0) -> 0 | T137: =IF(P137="작업부산물",F137,0) -> 0 | U137: =IF(P137="관급",ROUNDDOWN(D137*E137,0),0)+IF(P137="지급",ROUNDDOWN(D137*E137,0),0) -> 0 | V137: =IF(P137="외주비",F137+H137+J137,0) -> 0 | W137: =IF(P137="장비비",F137+H137+J137,0) -> 0 | X137: =IF(P137="폐기물처리비",J137,0) -> 0 | Y137: =IF(P137="가설비",J137,0) -> 0 | Z137: =IF(P137="잡비제외분",F137,0) -> 0 | AA137: =IF(P137="사급자재대",L137,0) -> 0 | AB137: =IF(P137="관급자재대",L137,0) -> 0 | AC137: =IF(P137="사용자항목1",L137,0) -> 0 | AD137: =IF(P137="사용자항목2",L137,0) -> 0 | AE137: =IF(P137="사용자항목3",L137,0) -> 0 | AF137: =IF(P137="사용자항목4",L137,0) -> 0 | AG137: =IF(P137="사용자항목5",L137,0) -> 0 | AH137: =IF(P137="사용자항목6",L137,0) -> 0 | AI137: =IF(P137="사용자항목7",L137,0) -> 0 | AJ137: =IF(P137="사용자항목8",L137,0) -> 0 | AK137: =IF(P137="사용자항목9",L137,0) -> 0
A138: 카펫트타일붙임 | B138: 500*500*7.0mm(LOOP) | C138: M2 | D138: =218-34 -> 184 | F138: =ROUNDDOWN(D138*E138,0) -> 0 | H138: =ROUNDDOWN(D138*G138,0) -> 0 | J138: =ROUNDDOWN(D138*I138,0) -> 0 | K138: =E138+G138+I138 -> 0 | L138: =F138+H138+J138 -> 0 | P138: 기계경비 | Q138: 1 | R138: =IF(P138="기계경비",J138,0) -> 0 | S138: =IF(P138="운반비",J138,0) -> 0 | T138: =IF(P138="작업부산물",F138,0) -> 0 | U138: =IF(P138="관급",ROUNDDOWN(D138*E138,0),0)+IF(P138="지급",ROUNDDOWN(D138*E138,0),0) -> 0 | V138: =IF(P138="외주비",F138+H138+J138,0) -> 0 | W138: =IF(P138="장비비",F138+H138+J138,0) -> 0 | X138: =IF(P138="폐기물처리비",J138,0) -> 0 | Y138: =IF(P138="가설비",J138,0) -> 0 | Z138: =IF(P138="잡비제외분",F138,0) -> 0 | AA138: =IF(P138="사급자재대",L138,0) -> 0 | AB138: =IF(P138="관급자재대",L138,0) -> 0 | AC138: =IF(P138="사용자항목1",L138,0) -> 0 | AD138: =IF(P138="사용자항목2",L138,0) -> 0 | AE138: =IF(P138="사용자항목3",L138,0) -> 0 | AF138: =IF(P138="사용자항목4",L138,0) -> 0 | AG138: =IF(P138="사용자항목5",L138,0) -> 0 | AH138: =IF(P138="사용자항목6",L138,0) -> 0 | AI138: =IF(P138="사용자항목7",L138,0) -> 0 | AJ138: =IF(P138="사용자항목8",L138,0) -> 0 | AK138: =IF(P138="사용자항목9",L138,0) -> 0
A139: 굽도리 | B139: 비닐, 2*100mm | C139: M | D139: 474 | F139: =ROUNDDOWN(D139*E139,0) -> 0 | H139: =ROUNDDOWN(D139*G139,0) -> 0 | J139: =ROUNDDOWN(D139*I139,0) -> 0 | K139: =E139+G139+I139 -> 0 | L139: =F139+H139+J139 -> 0 | O139: 01 | P139: 기계경비 | Q139: 1 | R139: =IF(P139="기계경비",J139,0) -> 0 | S139: =IF(P139="운반비",J139,0) -> 0 | T139: =IF(P139="작업부산물",F139,0) -> 0 | U139: =IF(P139="관급",ROUNDDOWN(D139*E139,0),0)+IF(P139="지급",ROUNDDOWN(D139*E139,0),0) -> 0 | V139: =IF(P139="외주비",F139+H139+J139,0) -> 0 | W139: =IF(P139="장비비",F139+H139+J139,0) -> 0 | X139: =IF(P139="폐기물처리비",J139,0) -> 0 | Y139: =IF(P139="가설비",J139,0) -> 0 | Z139: =IF(P139="잡비제외분",F139,0) -> 0 | AA139: =IF(P139="사급자재대",L139,0) -> 0 | AB139: =IF(P139="관급자재대",L139,0) -> 0 | AC139: =IF(P139="사용자항목1",L139,0) -> 0 | AD139: =IF(P139="사용자항목2",L139,0) -> 0 | AE139: =IF(P139="사용자항목3",L139,0) -> 0 | AF139: =IF(P139="사용자항목4",L139,0) -> 0 | AG139: =IF(P139="사용자항목5",L139,0) -> 0 | AH139: =IF(P139="사용자항목6",L139,0) -> 0 | AI139: =IF(P139="사용자항목7",L139,0) -> 0 | AJ139: =IF(P139="사용자항목8",L139,0) -> 0 | AK139: =IF(P139="사용자항목9",L139,0) -> 0
A140: 경량칸막이설치 | B140: 일반석고2PLY+STUD+방수석고2PLY | C140: M2 | D140: 37 | F140: =ROUNDDOWN(D140*E140,0) -> 0 | H140: =ROUNDDOWN(D140*G140,0) -> 0 | J140: =ROUNDDOWN(D140*I140,0) -> 0 | K140: =E140+G140+I140 -> 0 | L140: =F140+H140+J140 -> 0 | P140: 기계경비 | Q140: 1 | R140: =IF(P140="기계경비",J140,0) -> 0 | S140: =IF(P140="운반비",J140,0) -> 0 | T140: =IF(P140="작업부산물",F140,0) -> 0 | U140: =IF(P140="관급",ROUNDDOWN(D140*E140,0),0)+IF(P140="지급",ROUNDDOWN(D140*E140,0),0) -> 0 | V140: =IF(P140="외주비",F140+H140+J140,0) -> 0 | W140: =IF(P140="장비비",F140+H140+J140,0) -> 0 | X140: =IF(P140="폐기물처리비",J140,0) -> 0 | Y140: =IF(P140="가설비",J140,0) -> 0 | Z140: =IF(P140="잡비제외분",F140,0) -> 0 | AA140: =IF(P140="사급자재대",L140,0) -> 0 | AB140: =IF(P140="관급자재대",L140,0) -> 0 | AC140: =IF(P140="사용자항목1",L140,0) -> 0 | AD140: =IF(P140="사용자항목2",L140,0) -> 0 | AE140: =IF(P140="사용자항목3",L140,0) -> 0 | AF140: =IF(P140="사용자항목4",L140,0) -> 0 | AG140: =IF(P140="사용자항목5",L140,0) -> 0 | AH140: =IF(P140="사용자항목6",L140,0) -> 0 | AI140: =IF(P140="사용자항목7",L140,0) -> 0 | AJ140: =IF(P140="사용자항목8",L140,0) -> 0 | AK140: =IF(P140="사용자항목9",L140,0) -> 0
A141: FABRIC 흡음판 설치 | B141: 50T*1000*2000 | C141: M2 | D141: 17 | F141: =ROUNDDOWN(D141*E141,0) -> 0 | H141: =ROUNDDOWN(D141*G141,0) -> 0 | J141: =ROUNDDOWN(D141*I141,0) -> 0 | K141: =E141+G141+I141 -> 0 | L141: =F141+H141+J141 -> 0 | P141: 기계경비 | Q141: 1 | R141: =IF(P141="기계경비",J141,0) -> 0 | S141: =IF(P141="운반비",J141,0) -> 0 | T141: =IF(P141="작업부산물",F141,0) -> 0 | U141: =IF(P141="관급",ROUNDDOWN(D141*E141,0),0)+IF(P141="지급",ROUNDDOWN(D141*E141,0),0) -> 0 | V141: =IF(P141="외주비",F141+H141+J141,0) -> 0 | W141: =IF(P141="장비비",F141+H141+J141,0) -> 0 | X141: =IF(P141="폐기물처리비",J141,0) -> 0 | Y141: =IF(P141="가설비",J141,0) -> 0 | Z141: =IF(P141="잡비제외분",F141,0) -> 0 | AA141: =IF(P141="사급자재대",L141,0) -> 0 | AB141: =IF(P141="관급자재대",L141,0) -> 0 | AC141: =IF(P141="사용자항목1",L141,0) -> 0 | AD141: =IF(P141="사용자항목2",L141,0) -> 0 | AE141: =IF(P141="사용자항목3",L141,0) -> 0 | AF141: =IF(P141="사용자항목4",L141,0) -> 0 | AG141: =IF(P141="사용자항목5",L141,0) -> 0 | AH141: =IF(P141="사용자항목6",L141,0) -> 0 | AI141: =IF(P141="사용자항목7",L141,0) -> 0 | AJ141: =IF(P141="사용자항목8",L141,0) -> 0 | AK141: =IF(P141="사용자항목9",L141,0) -> 0
A142: AL몰딩설치 | B142: W형, 15*15*15*15*1.0mm | C142: M | D142: 142 | F142: =ROUNDDOWN(D142*E142,0) -> 0 | H142: =ROUNDDOWN(D142*G142,0) -> 0 | J142: =ROUNDDOWN(D142*I142,0) -> 0 | K142: =E142+G142+I142 -> 0 | L142: =F142+H142+J142 -> 0 | P142: 기계경비 | Q142: 1 | R142: =IF(P142="기계경비",J142,0) -> 0 | S142: =IF(P142="운반비",J142,0) -> 0 | T142: =IF(P142="작업부산물",F142,0) -> 0 | U142: =IF(P142="관급",ROUNDDOWN(D142*E142,0),0)+IF(P142="지급",ROUNDDOWN(D142*E142,0),0) -> 0 | V142: =IF(P142="외주비",F142+H142+J142,0) -> 0 | W142: =IF(P142="장비비",F142+H142+J142,0) -> 0 | X142: =IF(P142="폐기물처리비",J142,0) -> 0 | Y142: =IF(P142="가설비",J142,0) -> 0 | Z142: =IF(P142="잡비제외분",F142,0) -> 0 | AA142: =IF(P142="사급자재대",L142,0) -> 0 | AB142: =IF(P142="관급자재대",L142,0) -> 0 | AC142: =IF(P142="사용자항목1",L142,0) -> 0 | AD142: =IF(P142="사용자항목2",L142,0) -> 0 | AE142: =IF(P142="사용자항목3",L142,0) -> 0 | AF142: =IF(P142="사용자항목4",L142,0) -> 0 | AG142: =IF(P142="사용자항목5",L142,0) -> 0 | AH142: =IF(P142="사용자항목6",L142,0) -> 0 | AI142: =IF(P142="사용자항목7",L142,0) -> 0 | AJ142: =IF(P142="사용자항목8",L142,0) -> 0 | AK142: =IF(P142="사용자항목9",L142,0) -> 0
A143: 문선몰딩설치 | B143: MDF기성제품 | C143: M | D143: 15 | F143: =ROUNDDOWN(D143*E143,0) -> 0 | H143: =ROUNDDOWN(D143*G143,0) -> 0 | J143: =ROUNDDOWN(D143*I143,0) -> 0 | K143: =E143+G143+I143 -> 0 | L143: =F143+H143+J143 -> 0 | P143: 기계경비 | Q143: 1 | R143: =IF(P143="기계경비",J143,0) -> 0 | S143: =IF(P143="운반비",J143,0) -> 0 | T143: =IF(P143="작업부산물",F143,0) -> 0 | U143: =IF(P143="관급",ROUNDDOWN(D143*E143,0),0)+IF(P143="지급",ROUNDDOWN(D143*E143,0),0) -> 0 | V143: =IF(P143="외주비",F143+H143+J143,0) -> 0 | W143: =IF(P143="장비비",F143+H143+J143,0) -> 0 | X143: =IF(P143="폐기물처리비",J143,0) -> 0 | Y143: =IF(P143="가설비",J143,0) -> 0 | Z143: =IF(P143="잡비제외분",F143,0) -> 0 | AA143: =IF(P143="사급자재대",L143,0) -> 0 | AB143: =IF(P143="관급자재대",L143,0) -> 0 | AC143: =IF(P143="사용자항목1",L143,0) -> 0 | AD143: =IF(P143="사용자항목2",L143,0) -> 0 | AE143: =IF(P143="사용자항목3",L143,0) -> 0 | AF143: =IF(P143="사용자항목4",L143,0) -> 0 | AG143: =IF(P143="사용자항목5",L143,0) -> 0 | AH143: =IF(P143="사용자항목6",L143,0) -> 0 | AI143: =IF(P143="사용자항목7",L143,0) -> 0 | AJ143: =IF(P143="사용자항목8",L143,0) -> 0 | AK143: =IF(P143="사용자항목9",L143,0) -> 0
A145: [소계] | F145: =SUMIF($Q$125:$Q$143, 1,$F$125:$F$143) -> 0 | H145: =SUMIF($Q$125:$Q$143, 1,$H$125:$H$143) -> 0 | J145: =SUMIF($Q$125:$Q$143, 1,$J$125:$J$143) -> 0 | L145: =F145+H145+J145 -> 0 | R145: =SUM($R$125:$R$143) -> 0 | S145: =SUM($S$125:$S$143) -> 0 | T145: =SUM($T$125:$T$143) -> 0 | U145: =SUM($U$125:$U$143) -> 0 | V145: =SUM($V$125:$V$143) -> 0 | W145: =SUM($W$125:$W$143) -> 0 | X145: =SUM($X$125:$X$143) -> 0 | Y145: =SUM($Y$125:$Y$143) -> 0 | Z145: =SUM($Z$125:$Z$143) -> 0 | AA145: =SUM($AA$125:$AA$143) -> 0 | AB145: =SUM($AB$125:$AB$143) -> 0 | AC145: =SUM($AC$125:$AC$143) -> 0 | AD145: =SUM($AD$125:$AD$143) -> 0 | AE145: =SUM($AE$125:$AE$143) -> 0 | AF145: =SUM($AF$125:$AF$143) -> 0 | AG145: =SUM($AG$125:$AG$143) -> 0 | AH145: =SUM($AH$125:$AH$143) -> 0 | AI145: =SUM($AI$125:$AI$143) -> 0 | AJ145: =SUM($AJ$125:$AJ$143) -> 0 | AK145: =SUM($AK$125:$AK$143) -> 0 | AL145: =SUM($AL$125:$AL$143) -> 0
A146: 8. 마감공사
A147: 복도도장보수 | B147: 각층,수성페인트 | C147: 개소 | D147: 3 | F147: =ROUNDDOWN(D147*E147,0) -> 0 | H147: =ROUNDDOWN(D147*G147,0) -> 0 | J147: =ROUNDDOWN(D147*I147,0) -> 0 | K147: =E147+G147+I147 -> 0 | L147: =F147+H147+J147 -> 0 | P147: 기계경비 | Q147: 1 | R147: =IF(P147="기계경비",J147,0) -> 0 | S147: =IF(P147="운반비",J147,0) -> 0 | T147: =IF(P147="작업부산물",F147,0) -> 0 | U147: =IF(P147="관급",ROUNDDOWN(D147*E147,0),0)+IF(P147="지급",ROUNDDOWN(D147*E147,0),0) -> 0 | V147: =IF(P147="외주비",F147+H147+J147,0) -> 0 | W147: =IF(P147="장비비",F147+H147+J147,0) -> 0 | X147: =IF(P147="폐기물처리비",J147,0) -> 0 | Y147: =IF(P147="가설비",J147,0) -> 0 | Z147: =IF(P147="잡비제외분",F147,0) -> 0 | AA147: =IF(P147="사급자재대",L147,0) -> 0 | AB147: =IF(P147="관급자재대",L147,0) -> 0 | AC147: =IF(P147="사용자항목1",L147,0) -> 0 | AD147: =IF(P147="사용자항목2",L147,0) -> 0 | AE147: =IF(P147="사용자항목3",L147,0) -> 0 | AF147: =IF(P147="사용자항목4",L147,0) -> 0 | AG147: =IF(P147="사용자항목5",L147,0) -> 0 | AH147: =IF(P147="사용자항목6",L147,0) -> 0 | AI147: =IF(P147="사용자항목7",L147,0) -> 0 | AJ147: =IF(P147="사용자항목8",L147,0) -> 0 | AK147: =IF(P147="사용자항목9",L147,0) -> 0
A148: SGP칸막이 | B148: SGP칸막이 A형 | C148: M2 | D148: =Sheet1!D33 -> 214 | F148: =ROUNDDOWN(D148*E148,0) -> 0 | H148: =ROUNDDOWN(D148*G148,0) -> 0 | J148: =ROUNDDOWN(D148*I148,0) -> 0 | K148: =E148+G148+I148 -> 0 | L148: =F148+H148+J148 -> 0 | O148: 01 | P148: 기계경비 | Q148: 1 | R148: =IF(P148="기계경비",J148,0) -> 0 | S148: =IF(P148="운반비",J148,0) -> 0 | T148: =IF(P148="작업부산물",F148,0) -> 0 | U148: =IF(P148="관급",ROUNDDOWN(D148*E148,0),0)+IF(P148="지급",ROUNDDOWN(D148*E148,0),0) -> 0 | V148: =IF(P148="외주비",F148+H148+J148,0) -> 0 | W148: =IF(P148="장비비",F148+H148+J148,0) -> 0 | X148: =IF(P148="폐기물처리비",J148,0) -> 0 | Y148: =IF(P148="가설비",J148,0) -> 0 | Z148: =IF(P148="잡비제외분",F148,0) -> 0 | AA148: =IF(P148="사급자재대",L148,0) -> 0 | AB148: =IF(P148="관급자재대",L148,0) -> 0 | AC148: =IF(P148="사용자항목1",L148,0) -> 0 | AD148: =IF(P148="사용자항목2",L148,0) -> 0 | AE148: =IF(P148="사용자항목3",L148,0) -> 0 | AF148: =IF(P148="사용자항목4",L148,0) -> 0 | AG148: =IF(P148="사용자항목5",L148,0) -> 0 | AH148: =IF(P148="사용자항목6",L148,0) -> 0 | AI148: =IF(P148="사용자항목7",L148,0) -> 0 | AJ148: =IF(P148="사용자항목8",L148,0) -> 0 | AK148: =IF(P148="사용자항목9",L148,0) -> 0
A149: SGP칸막이 | B149: SGP칸막이 B형 | C149: M2 | D149: =ROUNDUP(Sheet1!E33-(0.9*2.1)*23,0) -> 273 | F149: =ROUNDDOWN(D149*E149,0) -> 0 | H149: =ROUNDDOWN(D149*G149,0) -> 0 | J149: =ROUNDDOWN(D149*I149,0) -> 0 | K149: =E149+G149+I149 -> 0 | L149: =F149+H149+J149 -> 0 | O149: 01 | P149: 기계경비 | Q149: 1 | R149: =IF(P149="기계경비",J149,0) -> 0 | S149: =IF(P149="운반비",J149,0) -> 0 | T149: =IF(P149="작업부산물",F149,0) -> 0 | U149: =IF(P149="관급",ROUNDDOWN(D149*E149,0),0)+IF(P149="지급",ROUNDDOWN(D149*E149,0),0) -> 0 | V149: =IF(P149="외주비",F149+H149+J149,0) -> 0 | W149: =IF(P149="장비비",F149+H149+J149,0) -> 0 | X149: =IF(P149="폐기물처리비",J149,0) -> 0 | Y149: =IF(P149="가설비",J149,0) -> 0 | Z149: =IF(P149="잡비제외분",F149,0) -> 0 | AA149: =IF(P149="사급자재대",L149,0) -> 0 | AB149: =IF(P149="관급자재대",L149,0) -> 0 | AC149: =IF(P149="사용자항목1",L149,0) -> 0 | AD149: =IF(P149="사용자항목2",L149,0) -> 0 | AE149: =IF(P149="사용자항목3",L149,0) -> 0 | AF149: =IF(P149="사용자항목4",L149,0) -> 0 | AG149: =IF(P149="사용자항목5",L149,0) -> 0 | AH149: =IF(P149="사용자항목6",L149,0) -> 0 | AI149: =IF(P149="사용자항목7",L149,0) -> 0 | AJ149: =IF(P149="사용자항목8",L149,0) -> 0 | AK149: =IF(P149="사용자항목9",L149,0) -> 0
A150: SGP칸막이 | B150: SGP칸막이 C형 | C150: M2 | D150: =Sheet1!F33 -> 24 | F150: =ROUNDDOWN(D150*E150,0) -> 0 | H150: =ROUNDDOWN(D150*G150,0) -> 0 | J150: =ROUNDDOWN(D150*I150,0) -> 0 | K150: =E150+G150+I150 -> 0 | L150: =F150+H150+J150 -> 0 | O150: 01 | P150: 기계경비 | Q150: 1 | R150: =IF(P150="기계경비",J150,0) -> 0 | S150: =IF(P150="운반비",J150,0) -> 0 | T150: =IF(P150="작업부산물",F150,0) -> 0 | U150: =IF(P150="관급",ROUNDDOWN(D150*E150,0),0)+IF(P150="지급",ROUNDDOWN(D150*E150,0),0) -> 0 | V150: =IF(P150="외주비",F150+H150+J150,0) -> 0 | W150: =IF(P150="장비비",F150+H150+J150,0) -> 0 | X150: =IF(P150="폐기물처리비",J150,0) -> 0 | Y150: =IF(P150="가설비",J150,0) -> 0 | Z150: =IF(P150="잡비제외분",F150,0) -> 0 | AA150: =IF(P150="사급자재대",L150,0) -> 0 | AB150: =IF(P150="관급자재대",L150,0) -> 0 | AC150: =IF(P150="사용자항목1",L150,0) -> 0 | AD150: =IF(P150="사용자항목2",L150,0) -> 0 | AE150: =IF(P150="사용자항목3",L150,0) -> 0 | AF150: =IF(P150="사용자항목4",L150,0) -> 0 | AG150: =IF(P150="사용자항목5",L150,0) -> 0 | AH150: =IF(P150="사용자항목6",L150,0) -> 0 | AI150: =IF(P150="사용자항목7",L150,0) -> 0 | AJ150: =IF(P150="사용자항목8",L150,0) -> 0 | AK150: =IF(P150="사용자항목9",L150,0) -> 0
A151: SGP칸막이 | B151: SGP칸막이 D형 | C151: M2 | D151: =Sheet1!G33 -> 68 | F151: =ROUNDDOWN(D151*E151,0) -> 0 | H151: =ROUNDDOWN(D151*G151,0) -> 0 | J151: =ROUNDDOWN(D151*I151,0) -> 0 | K151: =E151+G151+I151 -> 0 | L151: =F151+H151+J151 -> 0 | O151: 01 | P151: 기계경비 | Q151: 1 | R151: =IF(P151="기계경비",J151,0) -> 0 | S151: =IF(P151="운반비",J151,0) -> 0 | T151: =IF(P151="작업부산물",F151,0) -> 0 | U151: =IF(P151="관급",ROUNDDOWN(D151*E151,0),0)+IF(P151="지급",ROUNDDOWN(D151*E151,0),0) -> 0 | V151: =IF(P151="외주비",F151+H151+J151,0) -> 0 | W151: =IF(P151="장비비",F151+H151+J151,0) -> 0 | X151: =IF(P151="폐기물처리비",J151,0) -> 0 | Y151: =IF(P151="가설비",J151,0) -> 0 | Z151: =IF(P151="잡비제외분",F151,0) -> 0 | AA151: =IF(P151="사급자재대",L151,0) -> 0 | AB151: =IF(P151="관급자재대",L151,0) -> 0 | AC151: =IF(P151="사용자항목1",L151,0) -> 0 | AD151: =IF(P151="사용자항목2",L151,0) -> 0 | AE151: =IF(P151="사용자항목3",L151,0) -> 0 | AF151: =IF(P151="사용자항목4",L151,0) -> 0 | AG151: =IF(P151="사용자항목5",L151,0) -> 0 | AH151: =IF(P151="사용자항목6",L151,0) -> 0 | AI151: =IF(P151="사용자항목7",L151,0) -> 0 | AJ151: =IF(P151="사용자항목8",L151,0) -> 0 | AK151: =IF(P151="사용자항목9",L151,0) -> 0
A152: 메탈 스터드(C-50 이하) | B152: 50×45 @450 | C152: M2 | D152: 129 | F152: =ROUNDDOWN(D152*E152,0) -> 0 | H152: =ROUNDDOWN(D152*G152,0) -> 0 | J152: =ROUNDDOWN(D152*I152,0) -> 0 | K152: =E152+G152+I152 -> 0 | L152: =F152+H152+J152 -> 0 | P152: 기계경비 | Q152: 1 | R152: =IF(P152="기계경비",J152,0) -> 0 | S152: =IF(P152="운반비",J152,0) -> 0 | T152: =IF(P152="작업부산물",F152,0) -> 0 | U152: =IF(P152="관급",ROUNDDOWN(D152*E152,0),0)+IF(P152="지급",ROUNDDOWN(D152*E152,0),0) -> 0 | V152: =IF(P152="외주비",F152+H152+J152,0) -> 0 | W152: =IF(P152="장비비",F152+H152+J152,0) -> 0 | X152: =IF(P152="폐기물처리비",J152,0) -> 0 | Y152: =IF(P152="가설비",J152,0) -> 0 | Z152: =IF(P152="잡비제외분",F152,0) -> 0 | AA152: =IF(P152="사급자재대",L152,0) -> 0 | AB152: =IF(P152="관급자재대",L152,0) -> 0 | AC152: =IF(P152="사용자항목1",L152,0) -> 0 | AD152: =IF(P152="사용자항목2",L152,0) -> 0 | AE152: =IF(P152="사용자항목3",L152,0) -> 0 | AF152: =IF(P152="사용자항목4",L152,0) -> 0 | AG152: =IF(P152="사용자항목5",L152,0) -> 0 | AH152: =IF(P152="사용자항목6",L152,0) -> 0 | AI152: =IF(P152="사용자항목7",L152,0) -> 0 | AJ152: =IF(P152="사용자항목8",L152,0) -> 0 | AK152: =IF(P152="사용자항목9",L152,0) -> 0
A153: 씽크대설치(상,하부장) | B153: I형,L=1200 | C153: 개소 | D153: 2 | F153: =ROUNDDOWN(D153*E153,0) -> 0 | H153: =ROUNDDOWN(D153*G153,0) -> 0 | J153: =ROUNDDOWN(D153*I153,0) -> 0 | K153: =E153+G153+I153 -> 0 | L153: =F153+H153+J153 -> 0 | O153: 01 | P153: 기계경비 | Q153: 1 | R153: =IF(P153="기계경비",J153,0) -> 0 | S153: =IF(P153="운반비",J153,0) -> 0 | T153: =IF(P153="작업부산물",F153,0) -> 0 | U153: =IF(P153="관급",ROUNDDOWN(D153*E153,0),0)+IF(P153="지급",ROUNDDOWN(D153*E153,0),0) -> 0 | V153: =IF(P153="외주비",F153+H153+J153,0) -> 0 | W153: =IF(P153="장비비",F153+H153+J153,0) -> 0 | X153: =IF(P153="폐기물처리비",J153,0) -> 0 | Y153: =IF(P153="가설비",J153,0) -> 0 | Z153: =IF(P153="잡비제외분",F153,0) -> 0 | AA153: =IF(P153="사급자재대",L153,0) -> 0 | AB153: =IF(P153="관급자재대",L153,0) -> 0 | AC153: =IF(P153="사용자항목1",L153,0) -> 0 | AD153: =IF(P153="사용자항목2",L153,0) -> 0 | AE153: =IF(P153="사용자항목3",L153,0) -> 0 | AF153: =IF(P153="사용자항목4",L153,0) -> 0 | AG153: =IF(P153="사용자항목5",L153,0) -> 0 | AH153: =IF(P153="사용자항목6",L153,0) -> 0 | AI153: =IF(P153="사용자항목7",L153,0) -> 0 | AJ153: =IF(P153="사용자항목8",L153,0) -> 0 | AK153: =IF(P153="사용자항목9",L153,0) -> 0
A154: 수성페인트 로울러칠 | B154: 내벽 2회 1급,광택 | C154: M2 | D154: 1259 | F154: =ROUNDDOWN(D154*E154,0) -> 0 | H154: =ROUNDDOWN(D154*G154,0) -> 0 | J154: =ROUNDDOWN(D154*I154,0) -> 0 | K154: =E154+G154+I154 -> 0 | L154: =F154+H154+J154 -> 0 | P154: 기계경비 | Q154: 1 | R154: =IF(P154="기계경비",J154,0) -> 0 | S154: =IF(P154="운반비",J154,0) -> 0 | T154: =IF(P154="작업부산물",F154,0) -> 0 | U154: =IF(P154="관급",ROUNDDOWN(D154*E154,0),0)+IF(P154="지급",ROUNDDOWN(D154*E154,0),0) -> 0 | V154: =IF(P154="외주비",F154+H154+J154,0) -> 0 | W154: =IF(P154="장비비",F154+H154+J154,0) -> 0 | X154: =IF(P154="폐기물처리비",J154,0) -> 0 | Y154: =IF(P154="가설비",J154,0) -> 0 | Z154: =IF(P154="잡비제외분",F154,0) -> 0 | AA154: =IF(P154="사급자재대",L154,0) -> 0 | AB154: =IF(P154="관급자재대",L154,0) -> 0 | AC154: =IF(P154="사용자항목1",L154,0) -> 0 | AD154: =IF(P154="사용자항목2",L154,0) -> 0 | AE154: =IF(P154="사용자항목3",L154,0) -> 0 | AF154: =IF(P154="사용자항목4",L154,0) -> 0 | AG154: =IF(P154="사용자항목5",L154,0) -> 0 | AH154: =IF(P154="사용자항목6",L154,0) -> 0 | AI154: =IF(P154="사용자항목7",L154,0) -> 0 | AJ154: =IF(P154="사용자항목8",L154,0) -> 0 | AK154: =IF(P154="사용자항목9",L154,0) -> 0
A155: 마루귀틀설치(조달실적) | B155: 라왕60*120, 락카 | C155: M | D155: 6 | F155: =ROUNDDOWN(D155*E155,0) -> 0 | H155: =ROUNDDOWN(D155*G155,0) -> 0 | J155: =ROUNDDOWN(D155*I155,0) -> 0 | K155: =E155+G155+I155 -> 0 | L155: =F155+H155+J155 -> 0 | P155: 기계경비 | Q155: 1 | R155: =IF(P155="기계경비",J155,0) -> 0 | S155: =IF(P155="운반비",J155,0) -> 0 | T155: =IF(P155="작업부산물",F155,0) -> 0 | U155: =IF(P155="관급",ROUNDDOWN(D155*E155,0),0)+IF(P155="지급",ROUNDDOWN(D155*E155,0),0) -> 0 | V155: =IF(P155="외주비",F155+H155+J155,0) -> 0 | W155: =IF(P155="장비비",F155+H155+J155,0) -> 0 | X155: =IF(P155="폐기물처리비",J155,0) -> 0 | Y155: =IF(P155="가설비",J155,0) -> 0 | Z155: =IF(P155="잡비제외분",F155,0) -> 0 | AA155: =IF(P155="사급자재대",L155,0) -> 0 | AB155: =IF(P155="관급자재대",L155,0) -> 0 | AC155: =IF(P155="사용자항목1",L155,0) -> 0 | AD155: =IF(P155="사용자항목2",L155,0) -> 0 | AE155: =IF(P155="사용자항목3",L155,0) -> 0 | AF155: =IF(P155="사용자항목4",L155,0) -> 0 | AG155: =IF(P155="사용자항목5",L155,0) -> 0 | AH155: =IF(P155="사용자항목6",L155,0) -> 0 | AI155: =IF(P155="사용자항목7",L155,0) -> 0 | AJ155: =IF(P155="사용자항목8",L155,0) -> 0 | AK155: =IF(P155="사용자항목9",L155,0) -> 0
A156: 온돌마루틀설치 | B156: 멍애+장선+내수합판2PLY | C156: M2 | D156: 28 | F156: =ROUNDDOWN(D156*E156,0) -> 0 | H156: =ROUNDDOWN(D156*G156,0) -> 0 | J156: =ROUNDDOWN(D156*I156,0) -> 0 | K156: =E156+G156+I156 -> 0 | L156: =F156+H156+J156 -> 0 | P156: 기계경비 | Q156: 1 | R156: =IF(P156="기계경비",J156,0) -> 0 | S156: =IF(P156="운반비",J156,0) -> 0 | T156: =IF(P156="작업부산물",F156,0) -> 0 | U156: =IF(P156="관급",ROUNDDOWN(D156*E156,0),0)+IF(P156="지급",ROUNDDOWN(D156*E156,0),0) -> 0 | V156: =IF(P156="외주비",F156+H156+J156,0) -> 0 | W156: =IF(P156="장비비",F156+H156+J156,0) -> 0 | X156: =IF(P156="폐기물처리비",J156,0) -> 0 | Y156: =IF(P156="가설비",J156,0) -> 0 | Z156: =IF(P156="잡비제외분",F156,0) -> 0 | AA156: =IF(P156="사급자재대",L156,0) -> 0 | AB156: =IF(P156="관급자재대",L156,0) -> 0 | AC156: =IF(P156="사용자항목1",L156,0) -> 0 | AD156: =IF(P156="사용자항목2",L156,0) -> 0 | AE156: =IF(P156="사용자항목3",L156,0) -> 0 | AF156: =IF(P156="사용자항목4",L156,0) -> 0 | AG156: =IF(P156="사용자항목5",L156,0) -> 0 | AH156: =IF(P156="사용자항목6",L156,0) -> 0 | AI156: =IF(P156="사용자항목7",L156,0) -> 0 | AJ156: =IF(P156="사용자항목8",L156,0) -> 0 | AK156: =IF(P156="사용자항목9",L156,0) -> 0
A157: 전기온돌시스템 | B157: 단열재+전기판넬+컨트롤BOX | C157: M2 | D157: 28 | F157: =ROUNDDOWN(D157*E157,0) -> 0 | H157: =ROUNDDOWN(D157*G157,0) -> 0 | J157: =ROUNDDOWN(D157*I157,0) -> 0 | K157: =E157+G157+I157 -> 0 | L157: =F157+H157+J157 -> 0 | P157: 기계경비 | Q157: 1 | R157: =IF(P157="기계경비",J157,0) -> 0 | S157: =IF(P157="운반비",J157,0) -> 0 | T157: =IF(P157="작업부산물",F157,0) -> 0 | U157: =IF(P157="관급",ROUNDDOWN(D157*E157,0),0)+IF(P157="지급",ROUNDDOWN(D157*E157,0),0) -> 0 | V157: =IF(P157="외주비",F157+H157+J157,0) -> 0 | W157: =IF(P157="장비비",F157+H157+J157,0) -> 0 | X157: =IF(P157="폐기물처리비",J157,0) -> 0 | Y157: =IF(P157="가설비",J157,0) -> 0 | Z157: =IF(P157="잡비제외분",F157,0) -> 0 | AA157: =IF(P157="사급자재대",L157,0) -> 0 | AB157: =IF(P157="관급자재대",L157,0) -> 0 | AC157: =IF(P157="사용자항목1",L157,0) -> 0 | AD157: =IF(P157="사용자항목2",L157,0) -> 0 | AE157: =IF(P157="사용자항목3",L157,0) -> 0 | AF157: =IF(P157="사용자항목4",L157,0) -> 0 | AG157: =IF(P157="사용자항목5",L157,0) -> 0 | AH157: =IF(P157="사용자항목6",L157,0) -> 0 | AI157: =IF(P157="사용자항목7",L157,0) -> 0 | AJ157: =IF(P157="사용자항목8",L157,0) -> 0 | AK157: =IF(P157="사용자항목9",L157,0) -> 0
A158: 모노륨바닥깔기 | B158: T=3.0 | C158: M2 | D158: 28 | F158: =ROUNDDOWN(D158*E158,0) -> 0 | H158: =ROUNDDOWN(D158*G158,0) -> 0 | J158: =ROUNDDOWN(D158*I158,0) -> 0 | K158: =E158+G158+I158 -> 0 | L158: =F158+H158+J158 -> 0 | P158: 기계경비 | Q158: 1 | R158: =IF(P158="기계경비",J158,0) -> 0 | S158: =IF(P158="운반비",J158,0) -> 0 | T158: =IF(P158="작업부산물",F158,0) -> 0 | U158: =IF(P158="관급",ROUNDDOWN(D158*E158,0),0)+IF(P158="지급",ROUNDDOWN(D158*E158,0),0) -> 0 | V158: =IF(P158="외주비",F158+H158+J158,0) -> 0 | W158: =IF(P158="장비비",F158+H158+J158,0) -> 0 | X158: =IF(P158="폐기물처리비",J158,0) -> 0 | Y158: =IF(P158="가설비",J158,0) -> 0 | Z158: =IF(P158="잡비제외분",F158,0) -> 0 | AA158: =IF(P158="사급자재대",L158,0) -> 0 | AB158: =IF(P158="관급자재대",L158,0) -> 0 | AC158: =IF(P158="사용자항목1",L158,0) -> 0 | AD158: =IF(P158="사용자항목2",L158,0) -> 0 | AE158: =IF(P158="사용자항목3",L158,0) -> 0 | AF158: =IF(P158="사용자항목4",L158,0) -> 0 | AG158: =IF(P158="사용자항목5",L158,0) -> 0 | AH158: =IF(P158="사용자항목6",L158,0) -> 0 | AI158: =IF(P158="사용자항목7",L158,0) -> 0 | AJ158: =IF(P158="사용자항목8",L158,0) -> 0 | AK158: =IF(P158="사용자항목9",L158,0) -> 0
A159: 순간온수기 거치대설치 | B159: 천정상부 | C159: SET | D159: 1 | F159: =ROUNDDOWN(D159*E159,0) -> 0 | H159: =ROUNDDOWN(D159*G159,0) -> 0 | J159: =ROUNDDOWN(D159*I159,0) -> 0 | K159: =E159+G159+I159 -> 0 | L159: =F159+H159+J159 -> 0 | P159: 기계경비 | Q159: 1 | R159: =IF(P159="기계경비",J159,0) -> 0 | S159: =IF(P159="운반비",J159,0) -> 0 | T159: =IF(P159="작업부산물",F159,0) -> 0 | U159: =IF(P159="관급",ROUNDDOWN(D159*E159,0),0)+IF(P159="지급",ROUNDDOWN(D159*E159,0),0) -> 0 | V159: =IF(P159="외주비",F159+H159+J159,0) -> 0 | W159: =IF(P159="장비비",F159+H159+J159,0) -> 0 | X159: =IF(P159="폐기물처리비",J159,0) -> 0 | Y159: =IF(P159="가설비",J159,0) -> 0 | Z159: =IF(P159="잡비제외분",F159,0) -> 0 | AA159: =IF(P159="사급자재대",L159,0) -> 0 | AB159: =IF(P159="관급자재대",L159,0) -> 0 | AC159: =IF(P159="사용자항목1",L159,0) -> 0 | AD159: =IF(P159="사용자항목2",L159,0) -> 0 | AE159: =IF(P159="사용자항목3",L159,0) -> 0 | AF159: =IF(P159="사용자항목4",L159,0) -> 0 | AG159: =IF(P159="사용자항목5",L159,0) -> 0 | AH159: =IF(P159="사용자항목6",L159,0) -> 0 | AI159: =IF(P159="사용자항목7",L159,0) -> 0 | AJ159: =IF(P159="사용자항목8",L159,0) -> 0 | AK159: =IF(P159="사용자항목9",L159,0) -> 0
A160: 순간온수기 커버 설치 | B160: MDF위 필름 | C160: SET | D160: 1 | F160: =ROUNDDOWN(D160*E160,0) -> 0 | H160: =ROUNDDOWN(D160*G160,0) -> 0 | J160: =ROUNDDOWN(D160*I160,0) -> 0 | K160: =E160+G160+I160 -> 0 | L160: =F160+H160+J160 -> 0 | P160: 기계경비 | Q160: 1 | R160: =IF(P160="기계경비",J160,0) -> 0 | S160: =IF(P160="운반비",J160,0) -> 0 | T160: =IF(P160="작업부산물",F160,0) -> 0 | U160: =IF(P160="관급",ROUNDDOWN(D160*E160,0),0)+IF(P160="지급",ROUNDDOWN(D160*E160,0),0) -> 0 | V160: =IF(P160="외주비",F160+H160+J160,0) -> 0 | W160: =IF(P160="장비비",F160+H160+J160,0) -> 0 | X160: =IF(P160="폐기물처리비",J160,0) -> 0 | Y160: =IF(P160="가설비",J160,0) -> 0 | Z160: =IF(P160="잡비제외분",F160,0) -> 0 | AA160: =IF(P160="사급자재대",L160,0) -> 0 | AB160: =IF(P160="관급자재대",L160,0) -> 0 | AC160: =IF(P160="사용자항목1",L160,0) -> 0 | AD160: =IF(P160="사용자항목2",L160,0) -> 0 | AE160: =IF(P160="사용자항목3",L160,0) -> 0 | AF160: =IF(P160="사용자항목4",L160,0) -> 0 | AG160: =IF(P160="사용자항목5",L160,0) -> 0 | AH160: =IF(P160="사용자항목6",L160,0) -> 0 | AI160: =IF(P160="사용자항목7",L160,0) -> 0 | AJ160: =IF(P160="사용자항목8",L160,0) -> 0 | AK160: =IF(P160="사용자항목9",L160,0) -> 0
A165: [소계] | F165: =SUM(F147:F164) -> 0 | H165: =SUM(H147:H164) -> 0 | J165: =SUM(J147:J164) -> 0 | L165: =F165+H165+J165 -> 0 | R165: =SUM($R$146:$R$164) -> 0 | S165: =SUM($S$146:$S$164) -> 0 | T165: =SUM($T$146:$T$164) -> 0 | U165: =SUM($U$146:$U$164) -> 0 | V165: =SUM($V$146:$V$164) -> 0 | W165: =SUM($W$146:$W$164) -> 0 | X165: =SUM($X$146:$X$164) -> 0 | Y165: =SUM($Y$146:$Y$164) -> 0 | Z165: =SUM($Z$146:$Z$164) -> 0 | AA165: =SUM($AA$146:$AA$164) -> 0 | AB165: =SUM($AB$146:$AB$164) -> 0 | AC165: =SUM($AC$146:$AC$164) -> 0 | AD165: =SUM($AD$146:$AD$164) -> 0 | AE165: =SUM($AE$146:$AE$164) -> 0 | AF165: =SUM($AF$146:$AF$164) -> 0 | AG165: =SUM($AG$146:$AG$164) -> 0 | AH165: =SUM($AH$146:$AH$164) -> 0 | AI165: =SUM($AI$146:$AI$164) -> 0 | AJ165: =SUM($AJ$146:$AJ$164) -> 0 | AK165: =SUM($AK$146:$AK$164) -> 0 | AL165: =SUM($AL$146:$AL$164) -> 0
A166: 9. 철거공사
A167: 천정철거 | B167: 텍스,틀재사용 | C167: M2 | D167: 122 | F167: =ROUNDDOWN(D167*E167,0) -> 0 | H167: =ROUNDDOWN(D167*G167,0) -> 0 | J167: =ROUNDDOWN(D167*I167,0) -> 0 | K167: =E167+G167+I167 -> 0 | L167: =F167+H167+J167 -> 0 | P167: 기계경비 | Q167: 1 | R167: =IF(P167="기계경비",J167,0) -> 0 | S167: =IF(P167="운반비",J167,0) -> 0 | T167: =IF(P167="작업부산물",F167,0) -> 0 | U167: =IF(P167="관급",ROUNDDOWN(D167*E167,0),0)+IF(P167="지급",ROUNDDOWN(D167*E167,0),0) -> 0 | V167: =IF(P167="외주비",F167+H167+J167,0) -> 0 | W167: =IF(P167="장비비",F167+H167+J167,0) -> 0 | X167: =IF(P167="폐기물처리비",J167,0) -> 0 | Y167: =IF(P167="가설비",J167,0) -> 0 | Z167: =IF(P167="잡비제외분",F167,0) -> 0 | AA167: =IF(P167="사급자재대",L167,0) -> 0 | AB167: =IF(P167="관급자재대",L167,0) -> 0 | AC167: =IF(P167="사용자항목1",L167,0) -> 0 | AD167: =IF(P167="사용자항목2",L167,0) -> 0 | AE167: =IF(P167="사용자항목3",L167,0) -> 0 | AF167: =IF(P167="사용자항목4",L167,0) -> 0 | AG167: =IF(P167="사용자항목5",L167,0) -> 0 | AH167: =IF(P167="사용자항목6",L167,0) -> 0 | AI167: =IF(P167="사용자항목7",L167,0) -> 0 | AJ167: =IF(P167="사용자항목8",L167,0) -> 0 | AK167: =IF(P167="사용자항목9",L167,0) -> 0
A168: 천정틀철거 | B168: 반자틀 | C168: M2 | D168: =108+15+10 -> 133 | F168: =ROUNDDOWN(D168*E168,0) -> 0 | H168: =ROUNDDOWN(D168*G168,0) -> 0 | J168: =ROUNDDOWN(D168*I168,0) -> 0 | K168: =E168+G168+I168 -> 0 | L168: =F168+H168+J168 -> 0 | P168: 기계경비 | Q168: 1 | R168: =IF(P168="기계경비",J168,0) -> 0 | S168: =IF(P168="운반비",J168,0) -> 0 | T168: =IF(P168="작업부산물",F168,0) -> 0 | U168: =IF(P168="관급",ROUNDDOWN(D168*E168,0),0)+IF(P168="지급",ROUNDDOWN(D168*E168,0),0) -> 0 | V168: =IF(P168="외주비",F168+H168+J168,0) -> 0 | W168: =IF(P168="장비비",F168+H168+J168,0) -> 0 | X168: =IF(P168="폐기물처리비",J168,0) -> 0 | Y168: =IF(P168="가설비",J168,0) -> 0 | Z168: =IF(P168="잡비제외분",F168,0) -> 0 | AA168: =IF(P168="사급자재대",L168,0) -> 0 | AB168: =IF(P168="관급자재대",L168,0) -> 0 | AC168: =IF(P168="사용자항목1",L168,0) -> 0 | AD168: =IF(P168="사용자항목2",L168,0) -> 0 | AE168: =IF(P168="사용자항목3",L168,0) -> 0 | AF168: =IF(P168="사용자항목4",L168,0) -> 0 | AG168: =IF(P168="사용자항목5",L168,0) -> 0 | AH168: =IF(P168="사용자항목6",L168,0) -> 0 | AI168: =IF(P168="사용자항목7",L168,0) -> 0 | AJ168: =IF(P168="사용자항목8",L168,0) -> 0 | AK168: =IF(P168="사용자항목9",L168,0) -> 0
A169: 경량칸막이철거 | C169: M2 | D169: 300 | F169: =ROUNDDOWN(D169*E169,0) -> 0 | H169: =ROUNDDOWN(D169*G169,0) -> 0 | J169: =ROUNDDOWN(D169*I169,0) -> 0 | K169: =E169+G169+I169 -> 0 | L169: =F169+H169+J169 -> 0 | P169: 기계경비 | Q169: 1 | R169: =IF(P169="기계경비",J169,0) -> 0 | S169: =IF(P169="운반비",J169,0) -> 0 | T169: =IF(P169="작업부산물",F169,0) -> 0 | U169: =IF(P169="관급",ROUNDDOWN(D169*E169,0),0)+IF(P169="지급",ROUNDDOWN(D169*E169,0),0) -> 0 | V169: =IF(P169="외주비",F169+H169+J169,0) -> 0 | W169: =IF(P169="장비비",F169+H169+J169,0) -> 0 | X169: =IF(P169="폐기물처리비",J169,0) -> 0 | Y169: =IF(P169="가설비",J169,0) -> 0 | Z169: =IF(P169="잡비제외분",F169,0) -> 0 | AA169: =IF(P169="사급자재대",L169,0) -> 0 | AB169: =IF(P169="관급자재대",L169,0) -> 0 | AC169: =IF(P169="사용자항목1",L169,0) -> 0 | AD169: =IF(P169="사용자항목2",L169,0) -> 0 | AE169: =IF(P169="사용자항목3",L169,0) -> 0 | AF169: =IF(P169="사용자항목4",L169,0) -> 0 | AG169: =IF(P169="사용자항목5",L169,0) -> 0 | AH169: =IF(P169="사용자항목6",L169,0) -> 0 | AI169: =IF(P169="사용자항목7",L169,0) -> 0 | AJ169: =IF(P169="사용자항목8",L169,0) -> 0 | AK169: =IF(P169="사용자항목9",L169,0) -> 0
A170: 칸막이철거 | C170: M2 | D170: 2 | F170: =ROUNDDOWN(D170*E170,0) -> 0 | H170: =ROUNDDOWN(D170*G170,0) -> 0 | J170: =ROUNDDOWN(D170*I170,0) -> 0 | K170: =E170+G170+I170 -> 0 | L170: =F170+H170+J170 -> 0 | P170: 기계경비 | Q170: 1 | R170: =IF(P170="기계경비",J170,0) -> 0 | S170: =IF(P170="운반비",J170,0) -> 0 | T170: =IF(P170="작업부산물",F170,0) -> 0 | U170: =IF(P170="관급",ROUNDDOWN(D170*E170,0),0)+IF(P170="지급",ROUNDDOWN(D170*E170,0),0) -> 0 | V170: =IF(P170="외주비",F170+H170+J170,0) -> 0 | W170: =IF(P170="장비비",F170+H170+J170,0) -> 0 | X170: =IF(P170="폐기물처리비",J170,0) -> 0 | Y170: =IF(P170="가설비",J170,0) -> 0 | Z170: =IF(P170="잡비제외분",F170,0) -> 0 | AA170: =IF(P170="사급자재대",L170,0) -> 0 | AB170: =IF(P170="관급자재대",L170,0) -> 0 | AC170: =IF(P170="사용자항목1",L170,0) -> 0 | AD170: =IF(P170="사용자항목2",L170,0) -> 0 | AE170: =IF(P170="사용자항목3",L170,0) -> 0 | AF170: =IF(P170="사용자항목4",L170,0) -> 0 | AG170: =IF(P170="사용자항목5",L170,0) -> 0 | AH170: =IF(P170="사용자항목6",L170,0) -> 0 | AI170: =IF(P170="사용자항목7",L170,0) -> 0 | AJ170: =IF(P170="사용자항목8",L170,0) -> 0 | AK170: =IF(P170="사용자항목9",L170,0) -> 0
A171: 유리칸막이철거 | B171: 틀포함 | C171: M2 | D171: 28 | F171: =ROUNDDOWN(D171*E171,0) -> 0 | H171: =ROUNDDOWN(D171*G171,0) -> 0 | J171: =ROUNDDOWN(D171*I171,0) -> 0 | K171: =E171+G171+I171 -> 0 | L171: =F171+H171+J171 -> 0 | P171: 기계경비 | Q171: 1 | R171: =IF(P171="기계경비",J171,0) -> 0 | S171: =IF(P171="운반비",J171,0) -> 0 | T171: =IF(P171="작업부산물",F171,0) -> 0 | U171: =IF(P171="관급",ROUNDDOWN(D171*E171,0),0)+IF(P171="지급",ROUNDDOWN(D171*E171,0),0) -> 0 | V171: =IF(P171="외주비",F171+H171+J171,0) -> 0 | W171: =IF(P171="장비비",F171+H171+J171,0) -> 0 | X171: =IF(P171="폐기물처리비",J171,0) -> 0 | Y171: =IF(P171="가설비",J171,0) -> 0 | Z171: =IF(P171="잡비제외분",F171,0) -> 0 | AA171: =IF(P171="사급자재대",L171,0) -> 0 | AB171: =IF(P171="관급자재대",L171,0) -> 0 | AC171: =IF(P171="사용자항목1",L171,0) -> 0 | AD171: =IF(P171="사용자항목2",L171,0) -> 0 | AE171: =IF(P171="사용자항목3",L171,0) -> 0 | AF171: =IF(P171="사용자항목4",L171,0) -> 0 | AG171: =IF(P171="사용자항목5",L171,0) -> 0 | AH171: =IF(P171="사용자항목6",L171,0) -> 0 | AI171: =IF(P171="사용자항목7",L171,0) -> 0 | AJ171: =IF(P171="사용자항목8",L171,0) -> 0 | AK171: =IF(P171="사용자항목9",L171,0) -> 0
A172: 바닥철거 | B172: 비닐타일 | C172: M2 | D172: =3864-338 -> 3526 | F172: =ROUNDDOWN(D172*E172,0) -> 0 | H172: =ROUNDDOWN(D172*G172,0) -> 0 | J172: =ROUNDDOWN(D172*I172,0) -> 0 | K172: =E172+G172+I172 -> 0 | L172: =F172+H172+J172 -> 0 | P172: 기계경비 | Q172: 1 | R172: =IF(P172="기계경비",J172,0) -> 0 | S172: =IF(P172="운반비",J172,0) -> 0 | T172: =IF(P172="작업부산물",F172,0) -> 0 | U172: =IF(P172="관급",ROUNDDOWN(D172*E172,0),0)+IF(P172="지급",ROUNDDOWN(D172*E172,0),0) -> 0 | V172: =IF(P172="외주비",F172+H172+J172,0) -> 0 | W172: =IF(P172="장비비",F172+H172+J172,0) -> 0 | X172: =IF(P172="폐기물처리비",J172,0) -> 0 | Y172: =IF(P172="가설비",J172,0) -> 0 | Z172: =IF(P172="잡비제외분",F172,0) -> 0 | AA172: =IF(P172="사급자재대",L172,0) -> 0 | AB172: =IF(P172="관급자재대",L172,0) -> 0 | AC172: =IF(P172="사용자항목1",L172,0) -> 0 | AD172: =IF(P172="사용자항목2",L172,0) -> 0 | AE172: =IF(P172="사용자항목3",L172,0) -> 0 | AF172: =IF(P172="사용자항목4",L172,0) -> 0 | AG172: =IF(P172="사용자항목5",L172,0) -> 0 | AH172: =IF(P172="사용자항목6",L172,0) -> 0 | AI172: =IF(P172="사용자항목7",L172,0) -> 0 | AJ172: =IF(P172="사용자항목8",L172,0) -> 0 | AK172: =IF(P172="사용자항목9",L172,0) -> 0
A173: 창호철거 | B173: 철재 | C173: M2 | D173: 2 | F173: =ROUNDDOWN(D173*E173,0) -> 0 | H173: =ROUNDDOWN(D173*G173,0) -> 0 | J173: =ROUNDDOWN(D173*I173,0) -> 0 | K173: =E173+G173+I173 -> 0 | L173: =F173+H173+J173 -> 0 | P173: 기계경비 | Q173: 1 | R173: =IF(P173="기계경비",J173,0) -> 0 | S173: =IF(P173="운반비",J173,0) -> 0 | T173: =IF(P173="작업부산물",F173,0) -> 0 | U173: =IF(P173="관급",ROUNDDOWN(D173*E173,0),0)+IF(P173="지급",ROUNDDOWN(D173*E173,0),0) -> 0 | V173: =IF(P173="외주비",F173+H173+J173,0) -> 0 | W173: =IF(P173="장비비",F173+H173+J173,0) -> 0 | X173: =IF(P173="폐기물처리비",J173,0) -> 0 | Y173: =IF(P173="가설비",J173,0) -> 0 | Z173: =IF(P173="잡비제외분",F173,0) -> 0 | AA173: =IF(P173="사급자재대",L173,0) -> 0 | AB173: =IF(P173="관급자재대",L173,0) -> 0 | AC173: =IF(P173="사용자항목1",L173,0) -> 0 | AD173: =IF(P173="사용자항목2",L173,0) -> 0 | AE173: =IF(P173="사용자항목3",L173,0) -> 0 | AF173: =IF(P173="사용자항목4",L173,0) -> 0 | AG173: =IF(P173="사용자항목5",L173,0) -> 0 | AH173: =IF(P173="사용자항목6",L173,0) -> 0 | AI173: =IF(P173="사용자항목7",L173,0) -> 0 | AJ173: =IF(P173="사용자항목8",L173,0) -> 0 | AK173: =IF(P173="사용자항목9",L173,0) -> 0
A185: [소계] | F185: =SUMIF($Q$166:$Q$184, 1,$F$166:$F$184) -> 0 | H185: =SUMIF($Q$166:$Q$184, 1,$H$166:$H$184) -> 0 | J185: =SUMIF($Q$166:$Q$184, 1,$J$166:$J$184) -> 0 | L185: =F185+H185+J185 -> 0 | R185: =SUM($R$166:$R$184) -> 0 | S185: =SUM($S$166:$S$184) -> 0 | T185: =SUM($T$166:$T$184) -> 0 | U185: =SUM($U$166:$U$184) -> 0 | V185: =SUM($V$166:$V$184) -> 0 | W185: =SUM($W$166:$W$184) -> 0 | X185: =SUM($X$166:$X$184) -> 0 | Y185: =SUM($Y$166:$Y$184) -> 0 | Z185: =SUM($Z$166:$Z$184) -> 0 | AA185: =SUM($AA$166:$AA$184) -> 0 | AB185: =SUM($AB$166:$AB$184) -> 0 | AC185: =SUM($AC$166:$AC$184) -> 0 | AD185: =SUM($AD$166:$AD$184) -> 0 | AE185: =SUM($AE$166:$AE$184) -> 0 | AF185: =SUM($AF$166:$AF$184) -> 0 | AG185: =SUM($AG$166:$AG$184) -> 0 | AH185: =SUM($AH$166:$AH$184) -> 0 | AI185: =SUM($AI$166:$AI$184) -> 0 | AJ185: =SUM($AJ$166:$AJ$184) -> 0 | AK185: =SUM($AK$166:$AK$184) -> 0 | AL185: =SUM($AL$166:$AL$184) -> 0
A186: 10. 위생기구
A187: 전기온수기설치 | B187: 30L,스테인리스,거치대포함 | C187: EA | D187: 1 | F187: =ROUNDDOWN(D187*E187,0) -> 0 | H187: =ROUNDDOWN(D187*G187,0) -> 0 | J187: =ROUNDDOWN(D187*I187,0) -> 0 | K187: =E187+G187+I187 -> 0 | L187: =F187+H187+J187 -> 0 | P187: 기계경비 | Q187: 1 | R187: =IF(P187="기계경비",J187,0) -> 0 | S187: =IF(P187="운반비",J187,0) -> 0 | T187: =IF(P187="작업부산물",F187,0) -> 0 | U187: =IF(P187="관급",ROUNDDOWN(D187*E187,0),0)+IF(P187="지급",ROUNDDOWN(D187*E187,0),0) -> 0 | V187: =IF(P187="외주비",F187+H187+J187,0) -> 0 | W187: =IF(P187="장비비",F187+H187+J187,0) -> 0 | X187: =IF(P187="폐기물처리비",J187,0) -> 0 | Y187: =IF(P187="가설비",J187,0) -> 0 | Z187: =IF(P187="잡비제외분",F187,0) -> 0 | AA187: =IF(P187="사급자재대",L187,0) -> 0 | AB187: =IF(P187="관급자재대",L187,0) -> 0 | AC187: =IF(P187="사용자항목1",L187,0) -> 0 | AD187: =IF(P187="사용자항목2",L187,0) -> 0 | AE187: =IF(P187="사용자항목3",L187,0) -> 0 | AF187: =IF(P187="사용자항목4",L187,0) -> 0 | AG187: =IF(P187="사용자항목5",L187,0) -> 0 | AH187: =IF(P187="사용자항목6",L187,0) -> 0 | AI187: =IF(P187="사용자항목7",L187,0) -> 0 | AJ187: =IF(P187="사용자항목8",L187,0) -> 0 | AK187: =IF(P187="사용자항목9",L187,0) -> 0
A188: 팬코일유니트(상치노출형) | B188: 800 | C188: 대 | D188: =[1]공량산출서!F8 -> 1 | F188: =ROUNDDOWN(D188*E188,0) -> 0 | H188: =ROUNDDOWN(D188*G188,0) -> 0 | J188: =ROUNDDOWN(D188*I188,0) -> 0 | K188: =E188+G188+I188 -> 0 | L188: =F188+H188+J188 -> 0 | O188: 01 | P188: 기계경비 | Q188: 1 | R188: =IF(P188="기계경비",J188,0) -> 0 | S188: =IF(P188="운반비",J188,0) -> 0 | T188: =IF(P188="작업부산물",F188,0) -> 0 | U188: =IF(P188="관급",ROUNDDOWN(D188*E188,0),0)+IF(P188="지급",ROUNDDOWN(D188*E188,0),0) -> 0 | V188: =IF(P188="외주비",F188+H188+J188,0) -> 0 | W188: =IF(P188="장비비",F188+H188+J188,0) -> 0 | X188: =IF(P188="폐기물처리비",J188,0) -> 0 | Y188: =IF(P188="가설비",J188,0) -> 0 | Z188: =IF(P188="잡비제외분",F188,0) -> 0 | AA188: =IF(P188="사급자재대",L188,0) -> 0 | AB188: =IF(P188="관급자재대",L188,0) -> 0 | AC188: =IF(P188="사용자항목1",L188,0) -> 0 | AD188: =IF(P188="사용자항목2",L188,0) -> 0 | AE188: =IF(P188="사용자항목3",L188,0) -> 0 | AF188: =IF(P188="사용자항목4",L188,0) -> 0 | AG188: =IF(P188="사용자항목5",L188,0) -> 0 | AH188: =IF(P188="사용자항목6",L188,0) -> 0 | AI188: =IF(P188="사용자항목7",L188,0) -> 0 | AJ188: =IF(P188="사용자항목8",L188,0) -> 0 | AK188: =IF(P188="사용자항목9",L188,0) -> 0
A189: 양변기(탱크일체형변기) | B189: 사이펀, C2010C, CC-207 (도기) | C189: EA | D189: =[1]공량산출서!F10 -> 2 | F189: =ROUNDDOWN(D189*E189,0) -> 0 | H189: =ROUNDDOWN(D189*G189,0) -> 0 | J189: =ROUNDDOWN(D189*I189,0) -> 0 | K189: =E189+G189+I189 -> 0 | L189: =F189+H189+J189 -> 0 | O189: 04 | P189: 기계경비 | Q189: 1 | R189: =IF(P189="기계경비",J189,0) -> 0 | S189: =IF(P189="운반비",J189,0) -> 0 | T189: =IF(P189="작업부산물",F189,0) -> 0 | U189: =IF(P189="관급",ROUNDDOWN(D189*E189,0),0)+IF(P189="지급",ROUNDDOWN(D189*E189,0),0) -> 0 | V189: =IF(P189="외주비",F189+H189+J189,0) -> 0 | W189: =IF(P189="장비비",F189+H189+J189,0) -> 0 | X189: =IF(P189="폐기물처리비",J189,0) -> 0 | Y189: =IF(P189="가설비",J189,0) -> 0 | Z189: =IF(P189="잡비제외분",F189,0) -> 0 | AA189: =IF(P189="사급자재대",L189,0) -> 0 | AB189: =IF(P189="관급자재대",L189,0) -> 0 | AC189: =IF(P189="사용자항목1",L189,0) -> 0 | AD189: =IF(P189="사용자항목2",L189,0) -> 0 | AE189: =IF(P189="사용자항목3",L189,0) -> 0 | AF189: =IF(P189="사용자항목4",L189,0) -> 0 | AG189: =IF(P189="사용자항목5",L189,0) -> 0 | AH189: =IF(P189="사용자항목6",L189,0) -> 0 | AI189: =IF(P189="사용자항목7",L189,0) -> 0 | AJ189: =IF(P189="사용자항목8",L189,0) -> 0 | AK189: =IF(P189="사용자항목9",L189,0) -> 0
A190: 세면기 | B190: CL-520 | C190: 조 | D190: =[1]공량산출서!F12 -> 1 | F190: =ROUNDDOWN(D190*E190,0) -> 0 | H190: =ROUNDDOWN(D190*G190,0) -> 0 | J190: =ROUNDDOWN(D190*I190,0) -> 0 | K190: =E190+G190+I190 -> 0 | L190: =F190+H190+J190 -> 0 | O190: 04 | P190: 기계경비 | Q190: 1 | R190: =IF(P190="기계경비",J190,0) -> 0 | S190: =IF(P190="운반비",J190,0) -> 0 | T190: =IF(P190="작업부산물",F190,0) -> 0 | U190: =IF(P190="관급",ROUNDDOWN(D190*E190,0),0)+IF(P190="지급",ROUNDDOWN(D190*E190,0),0) -> 0 | V190: =IF(P190="외주비",F190+H190+J190,0) -> 0 | W190: =IF(P190="장비비",F190+H190+J190,0) -> 0 | X190: =IF(P190="폐기물처리비",J190,0) -> 0 | Y190: =IF(P190="가설비",J190,0) -> 0 | Z190: =IF(P190="잡비제외분",F190,0) -> 0 | AA190: =IF(P190="사급자재대",L190,0) -> 0 | AB190: =IF(P190="관급자재대",L190,0) -> 0 | AC190: =IF(P190="사용자항목1",L190,0) -> 0 | AD190: =IF(P190="사용자항목2",L190,0) -> 0 | AE190: =IF(P190="사용자항목3",L190,0) -> 0 | AF190: =IF(P190="사용자항목4",L190,0) -> 0 | AG190: =IF(P190="사용자항목5",L190,0) -> 0 | AH190: =IF(P190="사용자항목6",L190,0) -> 0 | AI190: =IF(P190="사용자항목7",L190,0) -> 0 | AJ190: =IF(P190="사용자항목8",L190,0) -> 0 | AK190: =IF(P190="사용자항목9",L190,0) -> 0
A191: 세면기 | B191: 4", L221 | C191: 조 | D191: =[1]공량산출서!F14 -> 1 | F191: =ROUNDDOWN(D191*E191,0) -> 0 | H191: =ROUNDDOWN(D191*G191,0) -> 0 | J191: =ROUNDDOWN(D191*I191,0) -> 0 | K191: =E191+G191+I191 -> 0 | L191: =F191+H191+J191 -> 0 | O191: 04 | P191: 기계경비 | Q191: 1 | R191: =IF(P191="기계경비",J191,0) -> 0 | S191: =IF(P191="운반비",J191,0) -> 0 | T191: =IF(P191="작업부산물",F191,0) -> 0 | U191: =IF(P191="관급",ROUNDDOWN(D191*E191,0),0)+IF(P191="지급",ROUNDDOWN(D191*E191,0),0) -> 0 | V191: =IF(P191="외주비",F191+H191+J191,0) -> 0 | W191: =IF(P191="장비비",F191+H191+J191,0) -> 0 | X191: =IF(P191="폐기물처리비",J191,0) -> 0 | Y191: =IF(P191="가설비",J191,0) -> 0 | Z191: =IF(P191="잡비제외분",F191,0) -> 0 | AA191: =IF(P191="사급자재대",L191,0) -> 0 | AB191: =IF(P191="관급자재대",L191,0) -> 0 | AC191: =IF(P191="사용자항목1",L191,0) -> 0 | AD191: =IF(P191="사용자항목2",L191,0) -> 0 | AE191: =IF(P191="사용자항목3",L191,0) -> 0 | AF191: =IF(P191="사용자항목4",L191,0) -> 0 | AG191: =IF(P191="사용자항목5",L191,0) -> 0 | AH191: =IF(P191="사용자항목6",L191,0) -> 0 | AI191: =IF(P191="사용자항목7",L191,0) -> 0 | AJ191: =IF(P191="사용자항목8",L191,0) -> 0 | AK191: =IF(P191="사용자항목9",L191,0) -> 0
...

Sheet 일위대가목록
A1: 일 위 대 가 표 목 록
A2: 공사명 : 광화문우체국대수선공사
A3: 호 표 | B3: 품 명 | C3: 규 격 | D3: 단위 | E3: 수량 | F3: 재 료 비 | H3: 노 무 비 | J3: 경 비 | L3: 합 계 | N3: 비 고
F4: 단 가 | G4: 금 액 | H4: 단 가 | I4: 금 액 | J4: 단 가 | K4: 금 액 | L4: 단 가 | M4: 금 액 | O4: 손료요율 | P4: 손료구분 | Q4: 적용구분 | R4: 합계구분
A5: 일위 1호 | B5: 이동식강관말비계 | C5: 3개월,1단(2m) | D5: 1대 | E5: 1 | F5: =일위대가표!F16 -> 47231 | G5: =E5*F5 -> 47231 | H5: =일위대가표!H16 -> 36878 | I5: =E5*H5 -> 36878 | J5: =일위대가표!J16 -> 0 | K5: =E5*J5 -> 0 | L5: =F5+H5+J5 -> 84109 | M5: =G5+I5+K5 -> 84109 | N5: 품셈2-6-3
A6: 일위 2호 | B6: 폐기물상차 | C6: 인력 | D6: TON | E6: 1 | F6: =일위대가표!F19 -> 0 | G6: =E6*F6 -> 0 | H6: =일위대가표!H19 -> 8780 | I6: =E6*H6 -> 8780 | J6: =일위대가표!J19 -> 0 | K6: =E6*J6 -> 0 | L6: =F6+H6+J6 -> 8780 | M6: =G6+I6+K6 -> 8780
A7: 일위 3호 | B7: 건축물현장정리 | C7: 보수공사,보양포함 | D7: M2 | E7: 1 | F7: =일위대가표!F23 -> 187.5 | G7: =E7*F7 -> 187.5 | H7: =일위대가표!H23 -> 878 | I7: =E7*H7 -> 878 | J7: =일위대가표!J23 -> 0 | K7: =E7*J7 -> 0 | L7: =F7+H7+J7 -> 1065.5 | M7: =G7+I7+K7 -> 1065.5 | N7: 품셈2-10
A8: 일위 4호 | B8: 0.5B 시멘트벽돌쌓기 | C8: 3.6m이하, 시멘트모래포함 | D8: 매 | E8: 1 | F8: =일위대가표!F28 -> 16 | G8: =E8*F8 -> 16 | H8: =일위대가표!H28 -> 163 | I8: =E8*H8 -> 163 | J8: =일위대가표!J28 -> 0 | K8: =E8*J8 -> 0 | L8: =F8+H8+J8 -> 179 | M8: =G8+I8+K8 -> 179 | N8: 건축8-1-2
A9: 일위 5호 | B9: 모르타르 | C9: 배합용적비 1:3, 시멘트모래포함 | D9: M3 | E9: 1 | F9: =일위대가표!F32 -> 65220 | G9: =E9*F9 -> 65220 | H9: =일위대가표!H32 -> 0 | I9: =E9*H9 -> 0 | J9: =일위대가표!J32 -> 0 | K9: =E9*J9 -> 0 | L9: =F9+H9+J9 -> 65220 | M9: =G9+I9+K9 -> 65220 | N9: 건축15-1-1
A10: 일위 6호 | B10: 1.0B 시멘트벽돌쌓기 | C10: 3.6m이하, 시멘트모래포함 | D10: 매 | E10: 1 | F10: =일위대가표!F37 -> 21 | G10: =E10*F10 -> 21 | H10: =일위대가표!H37 -> 151 | I10: =E10*H10 -> 151 | J10: =일위대가표!J37 -> 0 | K10: =E10*J10 -> 0 | L10: =F10+H10+J10 -> 172 | M10: =G10+I10+K10 -> 172 | N10: 건축8-1-2
A11: 일위 7호 | B11: 벽돌소운반 | C11: 인력, 5층이상 | D11: 매 | E11: 1 | F11: =일위대가표!F40 -> 0 | G11: =E11*F11 -> 0 | H11: =일위대가표!H40 -> 70 | I11: =E11*H11 -> 70 | J11: =일위대가표!J40 -> 0 | K11: =E11*J11 -> 0 | L11: =F11+H11+J11 -> 70 | M11: =G11+I11+K11 -> 70 | N11: 건축8-2
A12: 일위 8호 | B12: 시멘트액체방수 | C12: 1종 | D12: M2 | E12: 1 | F12: =일위대가표!F48 -> 4462 | G12: =E12*F12 -> 4462 | H12: =일위대가표!H48 -> 9441 | I12: =E12*H12 -> 9441 | J12: =일위대가표!J48 -> 0 | K12: =E12*J12 -> 0 | L12: =F12+H12+J12 -> 13903 | M12: =G12+I12+K12 -> 13903 | N12: 건축12-7-2
A13: 일위 9호 | B13: 시멘트액체방수 | C13: 2종 | D13: M2 | E13: 1 | F13: =일위대가표!F56 -> 2912 | G13: =E13*F13 -> 2912 | H13: =일위대가표!H56 -> 7412 | I13: =E13*H13 -> 7412 | J13: =일위대가표!J56 -> 0 | K13: =E13*J13 -> 0 | L13: =F13+H13+J13 -> 10324 | M13: =G13+I13+K13 -> 10324 | N13: 건축12-7-2
A14: 일위 10호 | B14: 도막방수 | C14: 비노출,바닥 | D14: M2 | E14: 1 | F14: =일위대가표!F61 -> 182 | G14: =E14*F14 -> 182 | H14: =일위대가표!H61 -> 6089 | I14: =E14*H14 -> 6089 | J14: =일위대가표!J61 -> 0 | K14: =E14*J14 -> 0 | L14: =F14+H14+J14 -> 6271 | M14: =G14+I14+K14 -> 6271 | N14: 건축12-5
A15: 일위 11호 | B15: 바탕고르기 | C15: 바닥24mm | D15: M2 | E15: 1 | F15: =일위대가표!F66 -> 1855 | G15: =E15*F15 -> 1855 | H15: =일위대가표!H66 -> 5529 | I15: =E15*H15 -> 5529 | J15: =일위대가표!J66 -> 0 | K15: =E15*J15 -> 0 | L15: =F15+H15+J15 -> 7384 | M15: =G15+I15+K15 -> 7384 | N15: 건축10-1
A16: 일위 12호 | B16: 모르타르배합 | C16: 1:3, 체가름有,재료포함 | D16: M3 | E16: 1 | F16: =일위대가표!F71 -> 77320 | G16: =E16*F16 -> 77320 | H16: =일위대가표!H71 -> 40565 | I16: =E16*H16 -> 40565 | J16: =일위대가표!J71 -> 0 | K16: =E16*J16 -> 0 | L16: =F16+H16+J16 -> 117885 | M16: =G16+I16+K16 -> 117885 | N16: 건축15-1-1
A17: 일위 13호 | B17: 바탕고르기 | C17: 벽18mm | D17: M2 | E17: 1 | F17: =일위대가표!F76 -> 1391 | G17: =E17*F17 -> 1391 | H17: =일위대가표!H76 -> 6776 | I17: =E17*H17 -> 6776 | J17: =일위대가표!J76 -> 0 | K17: =E17*J17 -> 0 | L17: =F17+H17+J17 -> 8167 | M17: =G17+I17+K17 -> 8167 | N17: 건축10-1
A18: 일위 14호 | B18: 모르타르바름(3.6m이하) | C18: 벽체,T:18mm | D18: M2 | E18: 1 | F18: =일위대가표!F82 -> 1391 | G18: =E18*F18 -> 1391 | H18: =일위대가표!H82 -> 16898 | I18: =E18*H18 -> 16898 | J18: =일위대가표!J82 -> 0 | K18: =E18*J18 -> 0 | L18: =F18+H18+J18 -> 18289 | M18: =G18+I18+K18 -> 18289 | N18: 건축15-1-2.1
A19: 일위 15호 | B19: 모르타르바름(인력) | C19: 3.6m 이하, 초벌바르기 | D19: M2 | E19: 1 | F19: =일위대가표!F86 -> 0 | G19: =E19*F19 -> 0 | H19: =일위대가표!H86 -> 3854 | I19: =E19*H19 -> 3854 | J19: =일위대가표!J86 -> 0 | K19: =E19*J19 -> 0 | L19: =F19+H19+J19 -> 3854 | M19: =G19+I19+K19 -> 3854 | N19: 건축15-1-2.1
A20: 일위 16호 | B20: 모르타르바름(인력) | C20: 3.6m 이하, 재벌바르기 | D20: M2 | E20: 1 | F20: =일위대가표!F90 -> 0 | G20: =E20*F20 -> 0 | H20: =일위대가표!H90 -> 5960 | I20: =E20*H20 -> 5960 | J20: =일위대가표!J90 -> 0 | K20: =E20*J20 -> 0 | L20: =F20+H20+J20 -> 5960 | M20: =G20+I20+K20 -> 5960 | N20: 건축15-1-2.1
A21: 일위 17호 | B21: 모르타르바름(인력) | C21: 3.6m 이하, 정벌바르기 | D21: M2 | E21: 1 | F21: =일위대가표!F94 -> 0 | G21: =E21*F21 -> 0 | H21: =일위대가표!H94 -> 6354 | I21: =E21*H21 -> 6354 | J21: =일위대가표!J94 -> 0 | K21: =E21*J21 -> 0 | L21: =F21+H21+J21 -> 6354 | M21: =G21+I21+K21 -> 6354 | N21: 건축15-1-2.1
A22: 일위 18호 | B22: 모르타르충전 | C22: 창틀주위 | D22: M | E22: 1 | F22: =일위대가표!F99 -> 645 | G22: =E22*F22 -> 645 | H22: =일위대가표!H99 -> 1588 | I22: =E22*H22 -> 1588 | J22: =일위대가표!J99 -> 0 | K22: =E22*J22 -> 0 | L22: =F22+H22+J22 -> 2233 | M22: =G22+I22+K22 -> 2233 | N22: 건축15-3
A23: 일위 19호 | B23: 모르타르배합 | C23: 1:4, 체가름無,재료포함 | D23: M3 | E23: 1 | F23: =일위대가표!F104 -> 64570 | G23: =E23*F23 -> 64570 | H23: =일위대가표!H104 -> 26367 | I23: =E23*H23 -> 26367 | J23: =일위대가표!J104 -> 0 | K23: =E23*J23 -> 0 | L23: =F23+H23+J23 -> 90937 | M23: =G23+I23+K23 -> 90937 | N23: 건축15-1-1
A24: 일위 20호 | B24: 타일압착붙임(5mm) | C24: 바닥, 타일 0.04~0.10㎡ 이하 | D24: M2 | E24: 1 | F24: =일위대가표!F112 -> 950 | G24: =E24*F24 -> 950 | H24: =일위대가표!H112 -> 15301 | I24: =E24*H24 -> 15301 | J24: =일위대가표!J112 -> 0 | K24: =E24*J24 -> 0 | L24: =F24+H24+J24 -> 16251 | M24: =G24+I24+K24 -> 16251 | N24: 건축10-2-2
A25: 일위 21호 | B25: 모르타르 | C25: 배합용적비 1:2, 시멘트모래포함 | D25: M3 | E25: 1 | F25: =일위대가표!F116 -> 81120 | G25: =E25*F25 -> 81120 | H25: =일위대가표!H116 -> 0 | I25: =E25*H25 -> 0 | J25: =일위대가표!J116 -> 0 | K25: =E25*J25 -> 0 | L25: =F25+H25+J25 -> 81120 | M25: =G25+I25+K25 -> 81120 | N25: 건축15-1-1
A26: 일위 22호 | B26: 모르타르 | C26: 배합용적비 1:1, 시멘트모래포함 | D26: M3 | E26: 1 | F26: =일위대가표!F120 -> 120846 | G26: =E26*F26 -> 120846 | H26: =일위대가표!H120 -> 0 | I26: =E26*H26 -> 0 | J26: =일위대가표!J120 -> 0 | K26: =E26*J26 -> 0 | L26: =F26+H26+J26 -> 120846 | M26: =G26+I26+K26 -> 120846 | N26: 건축15-1-1
A27: 일위 23호 | B27: 타일압착붙임(5mm) | C27: 벽, 타일 0.11~0.20㎡ 이하 | D27: M2 | E27: 1 | F27: =일위대가표!F128 -> 1080 | G27: =E27*F27 -> 1080 | H27: =일위대가표!H128 -> 17022 | I27: =E27*H27 -> 17022 | J27: =일위대가표!J128 -> 0 | K27: =E27*J27 -> 0 | L27: =F27+H27+J27 -> 18102 | M27: =G27+I27+K27 -> 18102 | N27: 건축10-2-2
A28: 일위 24호 | B28: 바탕고르기 | C28: 바닥45mm | D28: M2 | E28: 1 | F28: =일위대가표!F133 -> 3479 | G28: =E28*F28 -> 3479 | H28: =일위대가표!H133 -> 6381 | I28: =E28*H28 -> 6381 | J28: =일위대가표!J133 -> 0 | K28: =E28*J28 -> 0 | L28: =F28+H28+J28 -> 9860 | M28: =G28+I28+K28 -> 9860 | N28: 건축10-1
A29: 일위 25호 | B29: WD_1 청장실 | C29: 1800*2400 | D29: 개소 | E29: 1 | F29: =일위대가표!F136 -> 1339200 | G29: =E29*F29 -> 1339200 | H29: =일위대가표!H136 -> 0 | I29: =E29*H29 -> 0 | J29: =일위대가표!J136 -> 0 | K29: =E29*J29 -> 0 | L29: =F29+H29+J29 -> 1339200 | M29: =G29+I29+K29 -> 1339200
A30: 일위 26호 | B30: WD_2 청장실 | C30: 900*2400 | D30: 개소 | E30: 1 | F30: =일위대가표!F139 -> 680400 | G30: =E30*F30 -> 680400 | H30: =일위대가표!H139 -> 0 | I30: =E30*H30 -> 0 | J30: =일위대가표!J139 -> 0 | K30: =E30*J30 -> 0 | L30: =F30+H30+J30 -> 680400 | M30: =G30+I30+K30 -> 680400
A31: 일위 27호 | B31: WD_3 부속실 | C31: 900*2400 | D31: 개소 | E31: 1 | F31: =일위대가표!F142 -> 680400 | G31: =E31*F31 -> 680400 | H31: =일위대가표!H142 -> 0 | I31: =E31*H31 -> 0 | J31: =일위대가표!J142 -> 0 | K31: =E31*J31 -> 0 | L31: =F31+H31+J31 -> 680400 | M31: =G31+I31+K31 -> 680400
A32: 일위 28호 | B32: WD_4 부속실 | C32: 1800*2100 | D32: 개소 | E32: 1 | F32: =일위대가표!F145 -> 283500 | G32: =E32*F32 -> 283500 | H32: =일위대가표!H145 -> 0 | I32: =E32*H32 -> 0 | J32: =일위대가표!J145 -> 0 | K32: =E32*J32 -> 0 | L32: =F32+H32+J32 -> 283500 | M32: =G32+I32+K32 -> 283500
A33: 일위 29호 | B33: WD_5 전실 | C33: 800*2100 | D33: 개소 | E33: 1 | F33: =일위대가표!F148 -> 529200 | G33: =E33*F33 -> 529200 | H33: =일위대가표!H148 -> 0 | I33: =E33*H33 -> 0 | J33: =일위대가표!J148 -> 0 | K33: =E33*J33 -> 0 | L33: =F33+H33+J33 -> 529200 | M33: =G33+I33+K33 -> 529200
A34: 일위 30호 | B34: 수밀코킹(5mm각) | C34: 실리콘 | D34: M | E34: 1 | F34: =일위대가표!F152 -> 189 | G34: =E34*F34 -> 189 | H34: =일위대가표!H152 -> 2431 | I34: =E34*H34 -> 2431 | J34: =일위대가표!J152 -> 0 | K34: =E34*J34 -> 0 | L34: =F34+H34+J34 -> 2620 | M34: =G34+I34+K34 -> 2620 | N34: 건축12-12-1
A35: 일위 31호 | B35: 재료분리대(바닥) | C35: W25*H20*1.5tSST | D35: M | E35: 1 | F35: =일위대가표!F159 -> 5377 | G35: =E35*F35 -> 5377 | H35: =일위대가표!H159 -> 7362 | I35: =E35*H35 -> 7362 | J35: =일위대가표!J159 -> 29 | K35: =E35*J35 -> 29 | L35: =F35+H35+J35 -> 12768 | M35: =G35+I35+K35 -> 12768 | N35: 참고자료
A36: 일위 32호 | B36: 잡철물제작설치(스텐) | C36: 간단 | D36: KG | E36: 1 | F36: =일위대가표!F171 -> 292 | G36: =E36*F36 -> 292 | H36: =일위대가표!H171 -> 3012 | I36: =E36*H36 -> 3012 | J36: =일위대가표!J171 -> 12 | K36: =E36*J36 -> 12 | L36: =F36+H36+J36 -> 3316 | M36: =G36+I36+K36 -> 3316 | N36: 건축14-6
A37: 일위 34호 | B37: 잡철물제작설치(철제) | C37: 간단 | D37: KG | E37: 1 | F37: =일위대가표!F183 -> 187 | G37: =E37*F37 -> 187 | H37: =일위대가표!H183 -> 3012 | I37: =E37*H37 -> 3012 | J37: =일위대가표!J183 -> 12 | K37: =E37*J37 -> 12 | L37: =F37+H37+J37 -> 3211 | M37: =G37+I37+K37 -> 3211 | N37: 건축14-6
A38: 일위 35호 | B38: 유리끼우기(판유리) | C38: 5mm이하 | D38: M2 | E38: 1 | F38: =일위대가표!F186 -> 0 | G38: =E38*F38 -> 0 | H38: =일위대가표!H186 -> 7937 | I38: =E38*H38 -> 7937 | J38: =일위대가표!J186 -> 0 | K38: =E38*J38 -> 0 | L38: =F38+H38+J38 -> 7937 | M38: =G38+I38+K38 -> 7937 | N38: 건축16-5-1
A39: 일위 36호 | B39: 유리주위코킹 | C39: 5*5,실리콘 | D39: M | E39: 1 | F39: =일위대가표!F189 -> 279 | G39: =E39*F39 -> 279 | H39: =일위대가표!H189 -> 0 | I39: =E39*H39 -> 0 | J39: =일위대가표!J189 -> 0 | K39: =E39*J39 -> 0 | L39: =F39+H39+J39 -> 279 | M39: =G39+I39+K39 -> 279 | N39: 건축16-5-1
A40: 일위 37호 | B40: 암면텍스붙임 | C40: 12mm천정,텍스포함 | D40: M2 | E40: 1 | F40: =일위대가표!F195 -> 8858 | G40: =E40*F40 -> 8858 | H40: =일위대가표!H195 -> 7949 | I40: =E40*H40 -> 7949 | J40: =일위대가표!J195 -> 0 | K40: =E40*J40 -> 0 | L40: =F40+H40+J40 -> 16807 | M40: =G40+I40+K40 -> 16807 | N40: 건축18-2-1.1
A41: 일위 38호 | B41: 목조벽틀설치 | C41: 30*30,450*450 | D41: M2 | E41: 1 | F41: =일위대가표!F200 -> 1873 | G41: =E41*F41 -> 1873 | H41: =일위대가표!H200 -> 3218 | I41: =E41*H41 -> 3218 | J41: =일위대가표!J200 -> 0 | K41: =E41*J41 -> 0 | L41: =F41+H41+J41 -> 5091 | M41: =G41+I41+K41 -> 5091 | N41: 참고자료삭제
A42: 일위 39호 | B42: 메탈스터드설치공사(C-100) | C42: 0.8T 100*45 | D42: M2 | E42: 1 | F42: =일위대가표!F211 -> 13895 | G42: =E42*F42 -> 13895 | H42: =일위대가표!H211 -> 10896 | I42: =E42*H42 -> 10896 | J42: =일위대가표!J211 -> 0 | K42: =E42*J42 -> 0 | L42: =F42+H42+J42 -> 24791 | M42: =G42+I42+K42 -> 24791
A43: 일위 40호 | B43: 석고판못붙임(바탕용,벽) | C43: 일반 9mm | D43: M2 | E43: 1 | F43: =일위대가표!F217 -> 1962 | G43: =E43*F43 -> 1962 | H43: =일위대가표!H217 -> 4104 | I43: =E43*H43 -> 4104 | J43: =일위대가표!J217 -> 0 | K43: =E43*J43 -> 0 | L43: =F43+H43+J43 -> 6066 | M43: =G43+I43+K43 -> 6066 | N43: 건축18-2-1.2.가
A44: 일위 41호 | B44: 석고판못붙임(치장용,벽) | C44: 일반 9mm | D44: M2 | E44: 1 | F44: =일위대가표!F223 -> 2003 | G44: =E44*F44 -> 2003 | H44: =일위대가표!H223 -> 8208 | I44: =E44*H44 -> 8208 | J44: =일위대가표!J223 -> 0 | K44: =E44*J44 -> 0 | L44: =F44+H44+J44 -> 10211 | M44: =G44+I44+K44 -> 10211 | N44: 건축18-2-1.2.가
A45: 일위 42호 | B45: 합판붙이기 | C45: 벽, 5MM | D45: M2 | E45: 1 | F45: =일위대가표!F228 -> 4079 | G45: =E45*F45 -> 4079 | H45: =일위대가표!H228 -> 6220 | I45: =E45*H45 -> 6220 | J45: =일위대가표!J228 -> 0 | K45: =E45*J45 -> 0 | L45: =F45+H45+J45 -> 10299 | M45: =G45+I45+K45 -> 10299 | N45: 건축11-4.3
A46: 일위 43호 | B46: 벽,MDF붙임 | C46: MDF포함 | D46: M2 | E46: 1 | F46: =일위대가표!F234 -> 3964 | G46: =E46*F46 -> 3964 | H46: =일위대가표!H234 -> 6220 | I46: =E46*H46 -> 6220 | J46: =일위대가표!J234 -> 0 | K46: =E46*J46 -> 0 | L46: =F46+H46+J46 -> 10184 | M46: =G46+I46+K46 -> 10184 | N46: 건축11-4.3
A47: 일위 44호 | B47: 벽지바름 | D47: M2 | E47: 1 | F47: =일위대가표!F240 -> 435 | G47: =E47*F47 -> 435 | H47: =일위대가표!H240 -> 2319 | I47: =E47*H47 -> 2319 | J47: =일위대가표!J240 -> 0 | K47: =E47*J47 -> 0 | L47: =F47+H47+J47 -> 2754 | M47: =G47+I47+K47 -> 2754 | N47: 건축18-2-3
A48: 일위 45호 | B48: 비닐타일(디럭스) | C48: 450*450*3.0mm (왁스유) | D48: M2 | E48: 1 | F48: =일위대가표!F247 -> 7534 | G48: =E48*F48 -> 7534 | H48: =일위대가표!H247 -> 7558 | I48: =E48*H48 -> 7558 | J48: =일위대가표!J247 -> 0 | K48: =E48*J48 -> 0 | L48: =F48+H48+J48 -> 15092 | M48: =G48+I48+K48 -> 15092 | N48: 건축18-1-1.1
A49: 일위 46호 | B49: 카펫트타일붙임 | C49: 500*500*7.0mm(LOOP) | D49: M2 | E49: 1 | F49: =일위대가표!F253 -> 28670 | G49: =E49*F49 -> 28670 | H49: =일위대가표!H253 -> 6241 | I49: =E49*H49 -> 6241 | J49: =일위대가표!J253 -> 0 | K49: =E49*J49 -> 0 | L49: =F49+H49+J49 -> 34911 | M49: =G49+I49+K49 -> 34911 | N49: 건축18-1-1.1
A50: 일위 47호 | B50: 경량칸막이설치 | C50: 일반석고2PLY+STUD+방수석고2PLY | D50: M2 | E50: 1 | F50: =일위대가표!F260 -> 11304 | G50: =E50*F50 -> 11304 | H50: =일위대가표!H260 -> 33826 | I50: =E50*H50 -> 33826 | J50: =일위대가표!J260 -> 0 | K50: =E50*J50 -> 0 | L50: =F50+H50+J50 -> 45130 | M50: =G50+I50+K50 -> 45130 | N50: 참고자료
A51: 일위 48호 | B51: 메탈 스터드(C-65) | C51: 65×45 @450 | D51: M2 | E51: 1 | F51: =일위대가표!F270 -> 478 | G51: =E51*F51 -> 478 | H51: =일위대가표!H270 -> 9202 | I51: =E51*H51 -> 9202 | J51: =일위대가표!J270 -> 0 | K51: =E51*J51 -> 0 | L51: =F51+H51+J51 -> 9680 | M51: =G51+I51+K51 -> 9680 | N51: 참고자료
A52: 일위 49호 | B52: 석고판못붙임(바탕용,벽) | C52: 방수 9mm | D52: M2 | E52: 1 | F52: =일위대가표!F276 -> 3410 | G52: =E52*F52 -> 3410 | H52: =일위대가표!H276 -> 4104 | I52: =E52*H52 -> 4104 | J52: =일위대가표!J276 -> 0 | K52: =E52*J52 -> 0 | L52: =F52+H52+J52 -> 7514 | M52: =G52+I52+K52 -> 7514 | N52: 건축18-2-1.2.가
A53: 일위 50호 | B53: 석고판못붙임(치장용,벽) | C53: 방수 9mm | D53: M2 | E53: 1 | F53: =일위대가표!F282 -> 3451 | G53: =E53*F53 -> 3451 | H53: =일위대가표!H282 -> 8208 | I53: =E53*H53 -> 8208 | J53: =일위대가표!J282 -> 0 | K53: =E53*J53 -> 0 | L53: =F53+H53+J53 -> 11659 | M53: =G53+I53+K53 -> 11659 | N53: 건축18-2-1.2.가
A54: 일위 51호 | B54: FABRIC 흡음판 설치 | C54: 50T*1000*2000 | D54: M2 | E54: 1 | F54: =일위대가표!F289 -> 48697 | G54: =E54*F54 -> 48697 | H54: =일위대가표!H289 -> 7566 | I54: =E54*H54 -> 7566 | J54: =일위대가표!J289 -> 0 | K54: =E54*J54 -> 0 | L54: =F54+H54+J54 -> 56263 | M54: =G54+I54+K54 -> 56263
A55: 일위 52호 | B55: AL몰딩설치 | C55: W형, 15*15*15*15*1.0mm | D55: M | E55: 1 | F55: =일위대가표!F295 -> 2286 | G55: =E55*F55 -> 2286 | H55: =일위대가표!H295 -> 3445 | I55: =E55*H55 -> 3445 | J55: =일위대가표!J295 -> 0 | K55: =E55*J55 -> 0 | L55: =F55+H55+J55 -> 5731 | M55: =G55+I55+K55 -> 5731 | N55: 건축14-8
A56: 일위 53호 | B56: 문선몰딩설치 | C56: MDF기성제품 | D56: M | E56: 1 | F56: =일위대가표!F301 -> 2762 | G56: =E56*F56 -> 2762 | H56: =일위대가표!H301 -> 3186 | I56: =E56*H56 -> 3186 | J56: =일위대가표!J301 -> 0 | K56: =E56*J56 -> 0 | L56: =F56+H56+J56 -> 5948 | M56: =G56+I56+K56 -> 5948 | N56: 참고자료
A57: 일위 54호 | B57: 복도도장보수 | C57: 각증,수성페인트 | D57: 개소 | E57: 1 | F57: =일위대가표!F305 -> 738 | G57: =E57*F57 -> 738 | H57: =일위대가표!H305 -> 4129 | I57: =E57*H57 -> 4129 | J57: =일위대가표!J305 -> 0 | K57: =E57*J57 -> 0 | L57: =F57+H57+J57 -> 4867 | M57: =G57+I57+K57 -> 4867
A58: 일위 55호 | B58: 수성페인트 로울러칠 | C58: 내벽 2회 1급,광택 | D58: M2 | E58: 1 | F58: =일위대가표!F312 -> 689 | G58: =E58*F58 -> 689 | H58: =일위대가표!H312 -> 3213 | I58: =E58*H58 -> 3213 | J58: =일위대가표!J312 -> 0 | K58: =E58*J58 -> 0 | L58: =F58+H58+J58 -> 3902 | M58: =G58+I58+K58 -> 3902 | N58: 건축17-2-2
A59: 일위 56호 | B59: 바탕만들기 | C59: 콘크리트,몰탈면(벽) | D59: M2 | E59: 1 | F59: =일위대가표!F318 -> 174 | G59: =E59*F59 -> 174 | H59: =일위대가표!H318 -> 916 | I59: =E59*H59 -> 916 | J59: =일위대가표!J318 -> 0 | K59: =E59*J59 -> 0 | L59: =F59+H59+J59 -> 1090 | M59: =G59+I59+K59 -> 1090 | N59: 건축17-1-1.1
A60: 일위 57호 | B60: 바탕만들기 | C60: 콘크리트,모르터,플라스터 | D60: M2 | E60: 1 | F60: =일위대가표!F324 -> 49 | G60: =E60*F60 -> 49 | H60: =일위대가표!H324 -> 916 | I60: =E60*H60 -> 916 | J60: =일위대가표!J324 -> 0 | K60: =E60*J60 -> 0 | L60: =F60+H60+J60 -> 965 | M60: =G60+I60+K60 -> 965 | N60: 2015년삭제(상반기)
A61: 일위 58호 | B61: 메탈 스터드(C-50 이하) | C61: 50×45 @450 | D61: M2 | E61: 1 | F61: =일위대가표!F334 -> 437 | G61: =E61*F61 -> 437 | H61: =일위대가표!H334 -> 9202 | I61: =E61*H61 -> 9202 | J61: =일위대가표!J334 -> 0 | K61: =E61*J61 -> 0 | L61: =F61+H61+J61 -> 9639 | M61: =G61+I61+K61 -> 9639 | N61: 참고자료
A62: 일위 59호 | B62: 마루귀틀설치(조달실적) | C62: 라왕60*120, 락카 | D62: M | E62: 1 | F62: =일위대가표!F335 -> 6649 | G62: =E62*F62 -> 6649 | H62: =일위대가표!H335 -> 10847 | I62: =E62*H62 -> 10847 | J62: =일위대가표!J335 -> 0 | K62: =E62*J62 -> 0 | L62: =F62+H62+J62 -> 17496 | M62: =G62+I62+K62 -> 17496 | N62: 2014년하반기
A63: 일위 60호 | B63: 온돌마루틀설치 | C63: 멍애+장선+내수합판2PLY | D63: M2 | E63: 1 | F63: =일위대가표!F343 -> 11723 | G63: =E63*F63 -> 11723 | H63: =일위대가표!H343 -> 8709 | I63: =E63*H63 -> 8709 | J63: =일위대가표!J343 -> 0 | K63: =E63*J63 -> 0 | L63: =F63+H63+J63 -> 20432 | M63: =G63+I63+K63 -> 20432
A64: 일위 61호 | B64: 목조벽틀설치 | C64: 45*45,450*450 | D64: M2 | E64: 1 | F64: =일위대가표!F348 -> 4182 | G64: =E64*F64 -> 4182 | H64: =일위대가표!H348 -> 3218 | I64: =E64*H64 -> 3218 | J64: =일위대가표!J348 -> 0 | K64: =E64*J64 -> 0 | L64: =F64+H64+J64 -> 7400 | M64: =G64+I64+K64 -> 7400 | N64: 참고자료삭제
A65: 일위 62호 | B65: 전기온돌시스템 | C65: 단열재+전기판넬+컨트롤BOX | D65: M2 | E65: 1 | F65: =일위대가표!F357 -> 128007 | G65: =E65*F65 -> 128007 | H65: =일위대가표!H357 -> 23458 | I65: =E65*H65 -> 23458 | J65: =일위대가표!J357 -> 0 | K65: =E65*J65 -> 0 | L65: =F65+H65+J65 -> 151465 | M65: =G65+I65+K65 -> 151465
A66: 일위 63호 | B66: 모노륨바닥깔기 | C66: T=3.0 | D66: M2 | E66: 1 | F66: =일위대가표!F363 -> 19593 | G66: =E66*F66 -> 19593 | H66: =일위대가표!H363 -> 8747 | I66: =E66*H66 -> 8747 | J66: =일위대가표!J363 -> 0 | K66: =E66*J66 -> 0 | L66: =F66+H66+J66 -> 28340 | M66: =G66+I66+K66 -> 28340 | N66: 참고자료
A67: 일위 64호 | B67: 순간온수기 거치대설치 | C67: 천정상부 | D67: SET | E67: 1 | F67: =일위대가표!F366 -> 56928 | G67: =E67*F67 -> 56928 | H67: =일위대가표!H366 -> 141528 | I67: =E67*H67 -> 141528 | J67: =일위대가표!J366 -> 528 | K67: =E67*J67 -> 528 | L67: =F67+H67+J67 -> 198984 | M67: =G67+I67+K67 -> 198984
A68: 일위 65호 | B68: 각형강관설치(ㅁ-1.6T) | C68: 50*50*1.88KG | D68: M | E68: 1 | F68: =일위대가표!F371 -> 2372 | G68: =E68*F68 -> 2372 | H68: =일위대가표!H371 -> 5897 | I68: =E68*H68 -> 5897 | J68: =일위대가표!J371 -> 22 | K68: =E68*J68 -> 22 | L68: =F68+H68+J68 -> 8291 | M68: =G68+I68+K68 -> 8291
A69: 일위 66호 | B69: 녹막이페인트칠 | C69: 1종.1회 | D69: M2 | E69: 1 | F69: =일위대가표!F378 -> 752 | G69: =E69*F69 -> 752 | H69: =일위대가표!H378 -> 1466 | I69: =E69*H69 -> 1466 | J69: =일위대가표!J378 -> 0 | K69: =E69*J69 -> 0 | L69: =F69+H69+J69 -> 2218 | M69: =G69+I69+K69 -> 2218 | N69: 건축17-4
A70: 일위 67호 | B70: 천정철거 | C70: 텍스,틀재사용 | D70: M2 | E70: 1 | F70: =일위대가표!F382 -> 0 | G70: =E70*F70 -> 0 | H70: =일위대가표!H382 -> 3306 | I70: =E70*H70 -> 3306 | J70: =일위대가표!J382 -> 0 | K70: =E70*J70 -> 0 | L70: =F70+H70+J70 -> 3306 | M70: =G70+I70+K70 -> 3306 | N70: 건축19-1-2
A71: 일위 68호 | B71: 천정철거 | C71: 반자틀 | D71: M2 | E71: 1 | F71: =일위대가표!F386 -> 0 | G71: =E71*F71 -> 0 | H71: =일위대가표!H386 -> 6412 | I71: =E71*H71 -> 6412 | J71: =일위대가표!J386 -> 0 | K71: =E71*J71 -> 0 | L71: =F71+H71+J71 -> 6412 | M71: =G71+I71+K71 -> 6412 | N71: 건축19-1-2
A72: 일위 69호 | B72: 경량칸막이철거 | D72: M2 | E72: 1 | F72: =일위대가표!F390 -> 0 | G72: =E72*F72 -> 0 | H72: =일위대가표!H390 -> 5354 | I72: =E72*H72 -> 5354 | J72: =일위대가표!J390 -> 0 | K72: =E72*J72 -> 0 | L72: =F72+H72+J72 -> 5354 | M72: =G72+I72+K72 -> 5354 | N72: 건축19-1.2
A73: 일위 70호 | B73: 칸막이철거 | D73: M2 | E73: 1 | F73: =일위대가표!F394 -> 0 | G73: =E73*F73 -> 0 | H73: =일위대가표!H394 -> 7695 | I73: =E73*H73 -> 7695 | J73: =일위대가표!J394 -> 0 | K73: =E73*J73 -> 0 | L73: =F73+H73+J73 -> 7695 | M73: =G73+I73+K73 -> 7695 | N73: 건축19-1-2
A74: 일위 71호 | B74: 유리칸막이철거 | C74: 틀포함 | D74: M2 | E74: 1 | F74: =일위대가표!F398 -> 0 | G74: =E74*F74 -> 0 | H74: =일위대가표!H398 -> 3738 | I74: =E74*H74 -> 3738 | J74: =일위대가표!J398 -> 0 | K74: =E74*J74 -> 0 | L74: =F74+H74+J74 -> 3738 | M74: =G74+I74+K74 -> 3738
A75: 일위 72호 | B75: 바닥철거 | C75: 비닐타일 | D75: M2 | E75: 1 | F75: =일위대가표!F401 -> 0 | G75: =E75*F75 -> 0 | H75: =일위대가표!H401 -> 921 | I75: =E75*H75 -> 921 | J75: =일위대가표!J401 -> 0 | K75: =E75*J75 -> 0 | L75: =F75+H75+J75 -> 921 | M75: =G75+I75+K75 -> 921 | N75: 건축19-1-2
A76: 일위 73호 | B76: 창호철거 | C76: 철재 | D76: M2 | E76: 1 | F76: =일위대가표!F404 -> 0 | G76: =E76*F76 -> 0 | H76: =일위대가표!H404 -> 1843 | I76: =E76*H76 -> 1843 | J76: =일위대가표!J404 -> 0 | K76: =E76*J76 -> 0 | L76: =F76+H76+J76 -> 1843 | M76: =G76+I76+K76 -> 1843 | N76: 확인바람
A77: 일위 74호 | B77: 구멍뚫기(코어드릴) | C77: D100, 콘크리트 300㎜ | D77: 개소 | E77: 1 | F77: =일위대가표!F410 -> 1155 | G77: =E77*F77 -> 1155 | H77: =일위대가표!H410 -> 38508 | I77: =E77*H77 -> 38508 | J77: =일위대가표!J410 -> 763 | K77: =E77*J77 -> 763 | L77: =F77+H77+J77 -> 40426 | M77: =G77+I77+K77 -> 40426 | N77: 설비1-8

Sheet 일위대가표
A1: 일 위 대 가 명 세 서
A2: 공사명 : 광화문우체국대수선공사
A3: 품 명 | B3: 규 격 | C3: 단위 | D3: 수 량 | E3: 재 료 비 | G3: 노 무 비 | I3: 경 비 | K3: 합 계 | M3: 비 고
E4: 단 가 | F4: 금 액 | G4: 단 가 | H4: 금 액 | I4: 단 가 | J4: 금 액 | K4: 단 가 | L4: 금 액 | N4: 손료요율 | O4: 손료구분 | P4: 적용구분 | Q4: 합계구분
A5: 일위 1호 이동식강관말비계 | B5: 3개월,1단(2m) | C5: 1대 | M5: 품셈2-6-3
A6: 비계기본틀(기둥) | B6: 1.2*1.7 ( H=1700 * W=1219 ) | C6: EA | D6: 0.12 | E6: =ROUNDDOWN(자재단가대비표!N39,0) -> 20830 | F6: =ROUNDDOWN(D6*E6,1) -> 2499.6 | K6: =E6+G6+I6 -> 20830 | L6: =F6+H6+J6 -> 2499.6 | O6: 01 | P6: 기계경비 | Q6: 1
A7: 가새 | B7: 1.2*1.9 | C7: EA | D7: 0.24 | E7: =ROUNDDOWN(자재단가대비표!N20,0) -> 6640 | F7: =ROUNDDOWN(D7*E7,1) -> 1593.6 | K7: =E7+G7+I7 -> 6640 | L7: =F7+H7+J7 -> 1593.6 | O7: 01 | P7: 기계경비 | Q7: 1
A8: 수평띠장 | B8: L=1829 | C8: EA | D8: 0.24 | E8: =ROUNDDOWN(자재단가대비표!N56,0) -> 24000 | F8: =ROUNDDOWN(D8*E8,1) -> 5760 | K8: =E8+G8+I8 -> 24000 | L8: =F8+H8+J8 -> 5760 | O8: 01 | P8: 기계경비 | Q8: 1
A9: 손잡이기둥 | C9: EA | D9: 0.24 | E9: =ROUNDDOWN(자재단가대비표!N54,0) -> 24500 | F9: =ROUNDDOWN(D9*E9,1) -> 5880 | K9: =E9+G9+I9 -> 24500 | L9: =F9+H9+J9 -> 5880 | M9: 1.2*1.7 | O9: 01 | P9: 기계경비 | Q9: 1
A10: 비계안정장치(손잡이) | B10: L=1229 | C10: EA | D10: 0.12 | E10: =ROUNDDOWN(자재단가대비표!N40,0) -> 8000 | F10: =ROUNDDOWN(D10*E10,1) -> 960 | K10: =E10+G10+I10 -> 8000 | L10: =F10+H10+J10 -> 960 | O10: 01 | P10: 기계경비 | Q10: 1
A11: 비계안정장치(손잡이) | B11: L=1829 | C11: EA | D11: 0.24 | E11: =ROUNDDOWN(자재단가대비표!N41,0) -> 24000 | F11: =ROUNDDOWN(D11*E11,1) -> 5760 | K11: =E11+G11+I11 -> 24000 | L11: =F11+H11+J11 -> 5760 | O11: 01 | P11: 기계경비 | Q11: 1
A12: 바퀴 | B12: L=1829 | C12: EA | D12: 0.36 | E12: =ROUNDDOWN(자재단가대비표!N36,0) -> 24000 | F12: =ROUNDDOWN(D12*E12,1) -> 8640 | K12: =E12+G12+I12 -> 24000 | L12: =F12+H12+J12 -> 8640 | O12: 01 | P12: 기계경비 | Q12: 1
A13: 쟈키 | B13: L=1829 | C13: EA | D13: 0.36 | E13: =ROUNDDOWN(자재단가대비표!N86,0) -> 10100 | F13: =ROUNDDOWN(D13*E13,1) -> 3636 | K13: =E13+G13+I13 -> 10100 | L13: =F13+H13+J13 -> 3636 | O13: 01 | P13: 기계경비 | Q13: 1
A14: 판재 | B14: 외송 일반(㎥) | C14: M3 | D14: 0.0315 | E14: =ROUNDDOWN(자재단가대비표!N99,0) -> 396900 | F14: =ROUNDDOWN(D14*E14,1) -> 12502.3 | K14: =E14+G14+I14 -> 396900 | L14: =F14+H14+J14 -> 12502.3 | O14: 01 | P14: 기계경비 | Q14: 1
A15: 보통인부 | C15: 인 | D15: 0.42 | G15: =ROUNDDOWN(자재단가대비표!N119,0) -> 87805 | H15: =ROUNDDOWN(D15*G15,1) -> 36878.1 | K15: =E15+G15+I15 -> 87805 | L15: =F15+H15+J15 -> 36878.1 | O15: 02 | P15: 기계경비 | Q15: 1
A16: 합 계 | F16: =ROUNDDOWN(SUMIF($Q$6:$Q$15, 1,$F$6:$F$15),0) -> 47231 | H16: =ROUNDDOWN(SUMIF($Q$6:$Q$15, 1,$H$6:$H$15),0) -> 36878 | J16: =ROUNDDOWN(SUMIF($Q$6:$Q$15, 1,$J$6:$J$15),0) -> 0 | L16: =F16+H16+J16 -> 84109
A17: 일위 2호 폐기물상차 | B17: 인력 | C17: TON
A18: 보통인부 | C18: 인 | D18: 0.1 | G18: =ROUNDDOWN(자재단가대비표!N119,0) -> 87805 | H18: =ROUNDDOWN(D18*G18,1) -> 8780.5 | K18: =E18+G18+I18 -> 87805 | L18: =F18+H18+J18 -> 8780.5 | O18: 02 | P18: 기계경비 | Q18: 1
A19: 합 계 | F19: =ROUNDDOWN(SUMIF($Q$18:$Q$18, 1,$F$18:$F$18),0) -> 0 | H19: =ROUNDDOWN(SUMIF($Q$18:$Q$18, 1,$H$18:$H$18),0) -> 8780 | J19: =ROUNDDOWN(SUMIF($Q$18:$Q$18, 1,$J$18:$J$18),0) -> 0 | L19: =F19+H19+J19 -> 8780
A20: 일위 3호 건축물현장정리 | B20: 보수공사 | C20: M2 | M20: 품셈2-10
A21: 보통인부 | C21: 인 | D21: 0.01 | G21: =ROUNDDOWN(자재단가대비표!N119,0) -> 87805 | H21: =ROUNDDOWN(D21*G21,1) -> 878 | K21: =E21+G21+I21 -> 87805 | L21: =F21+H21+J21 -> 878 | O21: 02 | P21: 기계경비 | Q21: 1
A22: 비닐재 | C22: M2 | D22: 0.25 | E22: 750 | F22: =ROUNDDOWN(D22*E22,1) -> 187.5
A23: 합 계 | F23: =F21+F22 -> 187.5 | H23: =H21+H22 -> 878 | J23: =ROUNDDOWN(SUMIF($Q$21:$Q$21, 1,$J$21:$J$21),0) -> 0 | L23: =F23+H23+J23 -> 1065.5
A24: 일위 4호 0.5B 시멘트벽돌쌓기 | B24: 3.6m이하, 시멘트모래포함 | C24: 매 | M24: 건축8-1-2
A25: 모르타르 | B25: 배합용적비 1:3, 시멘트모래포함 | C25: M3 | D25: 0.00025 | E25: =ROUNDDOWN(일위대가표!F32,0) -> 65220 | F25: =ROUNDDOWN(D25*E25,1) -> 16.3 | K25: =E25+G25+I25 -> 65220 | L25: =F25+H25+J25 -> 16.3 | M25: 일위 5호 | P25: 기계경비 | Q25: 1
A26: 조적공 | C26: 인 | D26: 0.0011 | G26: =ROUNDDOWN(자재단가대비표!N123,0) -> 125105 | H26: =ROUNDDOWN(D26*G26,1) -> 137.6 | K26: =E26+G26+I26 -> 125105 | L26: =F26+H26+J26 -> 137.6 | O26: 02 | P26: 기계경비 | Q26: 1
A27: 보통인부 | C27: 인 | D27: 0.0003 | G27: =ROUNDDOWN(자재단가대비표!N119,0) -> 87805 | H27: =ROUNDDOWN(D27*G27,1) -> 26.3 | K27: =E27+G27+I27 -> 87805 | L27: =F27+H27+J27 -> 26.3 | O27: 02 | P27: 기계경비 | Q27: 1
A28: 합 계 | F28: =ROUNDDOWN(SUMIF($Q$25:$Q$27, 1,$F$25:$F$27),0) -> 16 | H28: =ROUNDDOWN(SUMIF($Q$25:$Q$27, 1,$H$25:$H$27),0) -> 163 | J28: =ROUNDDOWN(SUMIF($Q$25:$Q$27, 1,$J$25:$J$27),0) -> 0 | L28: =F28+H28+J28 -> 179
A29: 일위 5호 모르타르 | B29: 배합용적비 1:3, 시멘트모래포함 | C29: M3 | M29: 건축15-1-1
A30: 시멘트 | B30: 40kg 포장품 | C30: KG | D30: 510 | E30: =ROUNDDOWN(자재단가대비표!N64,0) -> 102 | F30: =ROUNDDOWN(D30*E30,1) -> 52020 | K30: =E30+G30+I30 -> 102 | L30: =F30+H30+J30 -> 52020 | O30: 01 | P30: 기계경비 | Q30: 1
A31: 모래 | B31: 서울(상차도) | C31: M3 | D31: 1.1 | E31: =ROUNDDOWN(자재단가대비표!N30,0) -> 12000 | F31: =ROUNDDOWN(D31*E31,1) -> 13200 | K31: =E31+G31+I31 -> 12000 | L31: =F31+H31+J31 -> 13200 | M31: 운반비별도 | O31: 01 | P31: 기계경비 | Q31: 1
A32: 합 계 | F32: =ROUNDDOWN(SUMIF($Q$30:$Q$31, 1,$F$30:$F$31),0) -> 65220 | H32: =ROUNDDOWN(SUMIF($Q$30:$Q$31, 1,$H$30:$H$31),0) -> 0 | J32: =ROUNDDOWN(SUMIF($Q$30:$Q$31, 1,$J$30:$J$31),0) -> 0 | L32: =F32+H32+J32 -> 65220
A33: 일위 6호 1.0B 시멘트벽돌쌓기 | B33: 3.6m이하, 시멘트모래포함 | C33: 매 | M33: 건축8-1-2
A34: 모르타르 | B34: 배합용적비 1:3, 시멘트모래포함 | C34: M3 | D34: 0.00033 | E34: =ROUNDDOWN(일위대가표!F32,0) -> 65220 | F34: =ROUNDDOWN(D34*E34,1) -> 21.5 | K34: =E34+G34+I34 -> 65220 | L34: =F34+H34+J34 -> 21.5 | M34: 일위 5호 | P34: 기계경비 | Q34: 1
A35: 조적공 | C35: 인 | D35: 0.001 | G35: =ROUNDDOWN(자재단가대비표!N123,0) -> 125105 | H35: =ROUNDDOWN(D35*G35,1) -> 125.1 | K35: =E35+G35+I35 -> 125105 | L35: =F35+H35+J35 -> 125.1 | O35: 02 | P35: 기계경비 | Q35: 1
A36: 보통인부 | C36: 인 | D36: 0.0003 | G36: =ROUNDDOWN(자재단가대비표!N119,0) -> 87805 | H36: =ROUNDDOWN(D36*G36,1) -> 26.3 | K36: =E36+G36+I36 -> 87805 | L36: =F36+H36+J36 -> 26.3 | O36: 02 | P36: 기계경비 | Q36: 1
A37: 합 계 | F37: =ROUNDDOWN(SUMIF($Q$34:$Q$36, 1,$F$34:$F$36),0) -> 21 | H37: =ROUNDDOWN(SUMIF($Q$34:$Q$36, 1,$H$34:$H$36),0) -> 151 | J37: =ROUNDDOWN(SUMIF($Q$34:$Q$36, 1,$J$34:$J$36),0) -> 0 | L37: =F37+H37+J37 -> 172
A38: 일위 7호 벽돌소운반 | B38: 인력, 5층이상 | C38: 매 | M38: 건축8-2
A39: 보통인부 | C39: 인 | D39: 0.0008 | G39: =ROUNDDOWN(자재단가대비표!N119,0) -> 87805 | H39: =ROUNDDOWN(D39*G39,1) -> 70.2 | K39: =E39+G39+I39 -> 87805 | L39: =F39+H39+J39 -> 70.2 | O39: 02 | P39: 기계경비 | Q39: 1
A40: 합 계 | F40: =ROUNDDOWN(SUMIF($Q$39:$Q$39, 1,$F$39:$F$39),0) -> 0 | H40: =ROUNDDOWN(SUMIF($Q$39:$Q$39, 1,$H$39:$H$39),0) -> 70 | J40: =ROUNDDOWN(SUMIF($Q$39:$Q$39, 1,$J$39:$J$39),0) -> 0 | L40: =F40+H40+J40 -> 70
A41: 일위 8호 시멘트액체방수 | B41: 1종 | C41: M2 | M41: 건축12-7-2
A42: 시멘트 | B42: 40kg 포장품 | C42: KG | D42: 13.05 | E42: =ROUNDDOWN(자재단가대비표!N64,0) -> 102 | F42: =ROUNDDOWN(D42*E42,1) -> 1331.1 | K42: =E42+G42+I42 -> 102 | L42: =F42+H42+J42 -> 1331.1 | O42: 01 | P42: 기계경비 | Q42: 1
A43: 모래 | B43: 서울(도착도) | C43: M3 | D43: 0.017 | E43: =ROUNDDOWN(자재단가대비표!N29,0) -> 23000 | F43: =ROUNDDOWN(D43*E43,1) -> 391 | K43: =E43+G43+I43 -> 23000 | L43: =F43+H43+J43 -> 391 | O43: 01 | P43: 기계경비 | Q43: 1
A44: 모르터방수제 | B44: 물 50배 회석 | C44: L | D44: 0.655 | E44: =ROUNDDOWN(자재단가대비표!N31,0) -> 3752 | F44: =ROUNDDOWN(D44*E44,1) -> 2457.5 | K44: =E44+G44+I44 -> 3752 | L44: =F44+H44+J44 -> 2457.5 | O44: 01 | P44: 기계경비 | Q44: 1
A45: 방수공 | C45: 인 | D45: 0.063 | G45: =ROUNDDOWN(자재단가대비표!N114,0) -> 101093 | H45: =ROUNDDOWN(D45*G45,1) -> 6368.8 | K45: =E45+G45+I45 -> 101093 | L45: =F45+H45+J45 -> 6368.8 | O45: 02 | P45: 기계경비 | Q45: 1
A46: 보통인부 | C46: 인 | D46: 0.035 | G46: =ROUNDDOWN(자재단가대비표!N119,0) -> 87805 | H46: =ROUNDDOWN(D46*G46,1) -> 3073.1 | K46: =E46+G46+I46 -> 87805 | L46: =F46+H46+J46 -> 3073.1 | O46: 02 | P46: 기계경비 | Q46: 1
A47: 공구손료 | B47: ="노무비의 "&N47*100&"%" -> 노무비의 3% | C47: 식 | D47: 1 | E47: =SUMIF($O$41:O47, "02", $H$41:H47) -> 9441.9 | F47: =ROUNDDOWN(E47*N47,1) -> 283.2 | K47: =E47+G47+I47 -> 9441.9 | L47: =F47+H47+J47 -> 283.2 | M47: 자재에입력 | N47: 0.03 | P47: 기계경비 | Q47: 1
A48: 합 계 | F48: =ROUNDDOWN(SUMIF($Q$42:$Q$47, 1,$F$42:$F$47),0) -> 4462 | H48: =ROUNDDOWN(SUMIF($Q$42:$Q$47, 1,$H$42:$H$47),0) -> 9441 | J48: =ROUNDDOWN(SUMIF($Q$42:$Q$47, 1,$J$42:$J$47),0) -> 0 | L48: =F48+H48+J48 -> 13903
A49: 일위 9호 시멘트액체방수 | B49: 2종 | C49: M2 | M49: 건축12-7-2
A50: 시멘트 | B50: 40kg 포장품 | C50: KG | D50: 7.2 | E50: =ROUNDDOWN(자재단가대비표!N64,0) -> 102 | F50: =ROUNDDOWN(D50*E50,1) -> 734.4 | K50: =E50+G50+I50 -> 102 | L50: =F50+H50+J50 -> 734.4 | O50: 01 | P50: 기계경비 | Q50: 1
A51: 모래 | B51: 서울(도착도) | C51: M3 | D51: 0.01 | E51: =ROUNDDOWN(자재단가대비표!N29,0) -> 23000 | F51: =ROUNDDOWN(D51*E51,1) -> 230 | K51: =E51+G51+I51 -> 23000 | L51: =F51+H51+J51 -> 230 | O51: 01 | P51: 기계경비 | Q51: 1
A52: 모르터방수제 | B52: 물 50배 회석 | C52: L | D52: 0.46 | E52: =ROUNDDOWN(자재단가대비표!N31,0) -> 3752 | F52: =ROUNDDOWN(D52*E52,1) -> 1725.9 | K52: =E52+G52+I52 -> 3752 | L52: =F52+H52+J52 -> 1725.9 | O52: 01 | P52: 기계경비 | Q52: 1
A53: 방수공 | C53: 인 | D53: 0.049 | G53: =ROUNDDOWN(자재단가대비표!N114,0) -> 101093 | H53: =ROUNDDOWN(D53*G53,1) -> 4953.5 | K53: =E53+G53+I53 -> 101093 | L53: =F53+H53+J53 -> 4953.5 | O53: 02 | P53: 기계경비 | Q53: 1
A54: 보통인부 | C54: 인 | D54: 0.028 | G54: =ROUNDDOWN(자재단가대비표!N119,0) -> 87805 | H54: =ROUNDDOWN(D54*G54,1) -> 2458.5 | K54: =E54+G54+I54 -> 87805 | L54: =F54+H54+J54 -> 2458.5 | O54: 02 | P54: 기계경비 | Q54: 1
A55: 공구손료 | B55: ="노무비의 "&N55*100&"%" -> 노무비의 3% | C55: 식 | D55: 1 | E55: =SUMIF($O$49:O55, "02", $H$49:H55) -> 7412 | F55: =ROUNDDOWN(E55*N55,1) -> 222.3 | K55: =E55+G55+I55 -> 7412 | L55: =F55+H55+J55 -> 222.3 | M55: 자재에입력 | N55: 0.03 | P55: 기계경비 | Q55: 1
A56: 합 계 | F56: =ROUNDDOWN(SUMIF($Q$50:$Q$55, 1,$F$50:$F$55),0) -> 2912 | H56: =ROUNDDOWN(SUMIF($Q$50:$Q$55, 1,$H$50:$H$55),0) -> 7412 | J56: =ROUNDDOWN(SUMIF($Q$50:$Q$55, 1,$J$50:$J$55),0) -> 0 | L56: =F56+H56+J56 -> 10324
A57: 일위 10호 도막방수 | B57: 비노출,바닥 | C57: M2 | M57: 건축12-5
A58: 방수공 | C58: 인 | D58: 0.042 | G58: =ROUNDDOWN(자재단가대비표!N114,0) -> 101093 | H58: =ROUNDDOWN(D58*G58,1) -> 4245.9 | K58: =E58+G58+I58 -> 101093 | L58: =F58+H58+J58 -> 4245.9 | O58: 02 | P58: 기계경비 | Q58: 1
A59: 보통인부 | C59: 인 | D59: 0.021 | G59: =ROUNDDOWN(자재단가대비표!N119,0) -> 87805 | H59: =ROUNDDOWN(D59*G59,1) -> 1843.9 | K59: =E59+G59+I59 -> 87805 | L59: =F59+H59+J59 -> 1843.9 | O59: 02 | P59: 기계경비 | Q59: 1
A60: 공구손료 | B60: ="노무비의 "&N60*100&"%" -> 노무비의 3% | C60: 식 | D60: 1 | E60: =SUMIF($O$57:O60, "02", $H$57:H60) -> 6089.8 | F60: =ROUNDDOWN(E60*N60,1) -> 182.6 | K60: =E60+G60+I60 -> 6089.8 | L60: =F60+H60+J60 -> 182.6 | M60: 자재에입력 | N60: 0.03 | P60: 기계경비 | Q60: 1
A61: 합 계 | F61: =ROUNDDOWN(SUMIF($Q$58:$Q$60, 1,$F$58:$F$60),0) -> 182 | H61: =ROUNDDOWN(SUMIF($Q$58:$Q$60, 1,$H$58:$H$60),0) -> 6089 | J61: =ROUNDDOWN(SUMIF($Q$58:$Q$60, 1,$J$58:$J$60),0) -> 0 | L61: =F61+H61+J61 -> 6271
A62: 일위 11호 바탕고르기 | B62: 바닥24mm | C62: M2 | M62: 건축10-1
A63: 모르타르배합 | B63: 1:3, 체가름有,재료포함 | C63: M3 | D63: 0.024 | E63: =ROUNDDOWN(일위대가표!F71,0) -> 77320 | F63: =ROUNDDOWN(D63*E63,1) -> 1855.6 | G63: =ROUNDDOWN(일위대가표!H71,0) -> 40565 | H63: =ROUNDDOWN(D63*G63,1) -> 973.5 | K63: =E63+G63+I63 -> 117885 | L63: =F63+H63+J63 -> 2829.1 | M63: 일위 12호 | P63: 기계경비 | Q63: 1
A64: 미장공 | C64: 인 | D64: 0.0245 | G64: =ROUNDDOWN(자재단가대비표!N117,0) -> 140811 | H64: =ROUNDDOWN(D64*G64,1) -> 3449.8 | K64: =E64+G64+I64 -> 140811 | L64: =F64+H64+J64 -> 3449.8 | O64: 02 | P64: 기계경비 | Q64: 1
A65: 보통인부 | C65: 인 | D65: 0.0126 | G65: =ROUNDDOWN(자재단가대비표!N119,0) -> 87805 | H65: =ROUNDDOWN(D65*G65,1) -> 1106.3 | K65: =E65+G65+I65 -> 87805 | L65: =F65+H65+J65 -> 1106.3 | O65: 02 | P65: 기계경비 | Q65: 1
A66: 합 계 | F66: =ROUNDDOWN(SUMIF($Q$63:$Q$65, 1,$F$63:$F$65),0) -> 1855 | H66: =ROUNDDOWN(SUMIF($Q$63:$Q$65, 1,$H$63:$H$65),0) -> 5529 | J66: =ROUNDDOWN(SUMIF($Q$63:$Q$65, 1,$J$63:$J$65),0) -> 0 | L66: =F66+H66+J66 -> 7384
A67: 일위 12호 모르타르배합 | B67: 1:3, 체가름有,재료포함 | C67: M3 | M67: 건축15-1-1
A68: 시멘트 | B68: 40kg 포장품 | C68: KG | D68: 510 | E68: =ROUNDDOWN(자재단가대비표!N64,0) -> 102 | F68: =ROUNDDOWN(D68*E68,1) -> 52020 | K68: =E68+G68+I68 -> 102 | L68: =F68+H68+J68 -> 52020 | O68: 01 | P68: 기계경비 | Q68: 1
A69: 모래 | B69: 서울(도착도) | C69: M3 | D69: 1.1 | E69: =ROUNDDOWN(자재단가대비표!N29,0) -> 23000 | F69: =ROUNDDOWN(D69*E69,1) -> 25300 | K69: =E69+G69+I69 -> 23000 | L69: =F69+H69+J69 -> 25300 | O69: 01 | P69: 기계경비 | Q69: 1
A70: 보통인부 | C70: 인 | D70: 0.462 | G70: =ROUNDDOWN(자재단가대비표!N119,0) -> 87805 | H70: =ROUNDDOWN(D70*G70,1) -> 40565.9 | K70: =E70+G70+I70 -> 87805 | L70: =F70+H70+J70 -> 40565.9 | O70: 02 | P70: 기계경비 | Q70: 1
A71: 합 계 | F71: =ROUNDDOWN(SUMIF($Q$68:$Q$70, 1,$F$68:$F$70),0) -> 77320 | H71: =ROUNDDOWN(SUMIF($Q$68:$Q$70, 1,$H$68:$H$70),0) -> 40565 | J71: =ROUNDDOWN(SUMIF($Q$68:$Q$70, 1,$J$68:$J$70),0) -> 0 | L71: =F71+H71+J71 -> 117885
A72: 일위 13호 바탕고르기 | B72: 벽18mm | C72: M2 | M72: 건축10-1
A73: 모르타르배합 | B73: 1:3, 체가름有,재료포함 | C73: M3 | D73: 0.018 | E73: =ROUNDDOWN(일위대가표!F71,0) -> 77320 | F73: =ROUNDDOWN(D73*E73,1) -> 1391.7 | G73: =ROUNDDOWN(일위대가표!H71,0) -> 40565 | H73: =ROUNDDOWN(D73*G73,1) -> 730.1 | K73: =E73+G73+I73 -> 117885 | L73: =F73+H73+J73 -> 2121.8 | M73: 일위 12호 | P73: 기계경비 | Q73: 1
A74: 미장공 | C74: 인 | D74: 0.0329 | G74: =ROUNDDOWN(자재단가대비표!N117,0) -> 140811 | H74: =ROUNDDOWN(D74*G74,1) -> 4632.6 | K74: =E74+G74+I74 -> 140811 | L74: =F74+H74+J74 -> 4632.6 | O74: 02 | P74: 기계경비 | Q74: 1
A75: 보통인부 | C75: 인 | D75: 0.0161 | G75: =ROUNDDOWN(자재단가대비표!N119,0) -> 87805 | H75: =ROUNDDOWN(D75*G75,1) -> 1413.6 | K75: =E75+G75+I75 -> 87805 | L75: =F75+H75+J75 -> 1413.6 | O75: 02 | P75: 기계경비 | Q75: 1
A76: 합 계 | F76: =ROUNDDOWN(SUMIF($Q$73:$Q$75, 1,$F$73:$F$75),0) -> 1391 | H76: =ROUNDDOWN(SUMIF($Q$73:$Q$75, 1,$H$73:$H$75),0) -> 6776 | J76: =ROUNDDOWN(SUMIF($Q$73:$Q$75, 1,$J$73:$J$75),0) -> 0 | L76: =F76+H76+J76 -> 8167
A77: 일위 14호 모르타르바름(3.6m이하) | B77: 벽체,T:18mm | C77: M2 | M77: 건축15-1-2.1
A78: 모르타르배합 | B78: 1:3, 체가름有,재료포함 | C78: M3 | D78: 0.018 | E78: =ROUNDDOWN(일위대가표!F71,0) -> 77320 | F78: =ROUNDDOWN(D78*E78,1) -> 1391.7 | G78: =ROUNDDOWN(일위대가표!H71,0) -> 40565 | H78: =ROUNDDOWN(D78*G78,1) -> 730.1 | K78: =E78+G78+I78 -> 117885 | L78: =F78+H78+J78 -> 2121.8 | M78: 일위 12호 | P78: 기계경비 | Q78: 1
A79: 모르타르바름(인력) | B79: 3.6m 이하, 초벌바르기 | C79: M2 | D79: 1 | G79: =ROUNDDOWN(일위대가표!H86,0) -> 3854 | H79: =ROUNDDOWN(D79*G79,1) -> 3854 | K79: =E79+G79+I79 -> 3854 | L79: =F79+H79+J79 -> 3854 | M79: 일위 15호 | P79: 기계경비 | Q79: 1
A80: 모르타르바름(인력) | B80: 3.6m 이하, 재벌바르기 | C80: M2 | D80: 1 | G80: =ROUNDDOWN(일위대가표!H90,0) -> 5960 | H80: =ROUNDDOWN(D80*G80,1) -> 5960 | K80: =E80+G80+I80 -> 5960 | L80: =F80+H80+J80 -> 5960 | M80: 일위 16호 | P80: 기계경비 | Q80: 1
A81: 모르타르바름(인력) | B81: 3.6m 이하, 정벌바르기 | C81: M2 | D81: 1 | G81: =ROUNDDOWN(일위대가표!H94,0) -> 6354 | H81: =ROUNDDOWN(D81*G81,1) -> 6354 | K81: =E81+G81+I81 -> 6354 | L81: =F81+H81+J81 -> 6354 | M81: 일위 17호 | P81: 기계경비 | Q81: 1
A82: 합 계 | F82: =ROUNDDOWN(SUMIF($Q$78:$Q$81, 1,$F$78:$F$81),0) -> 1391 | H82: =ROUNDDOWN(SUMIF($Q$78:$Q$81, 1,$H$78:$H$81),0) -> 16898 | J82: =ROUNDDOWN(SUMIF($Q$78:$Q$81, 1,$J$78:$J$81),0) -> 0 | L82: =F82+H82+J82 -> 18289
A83: 일위 15호 모르타르바름(인력) | B83: 3.6m 이하, 초벌바르기 | C83: M2 | M83: 건축15-1-2.1
A84: 미장공 | C84: 인 | D84: 0.0217 | G84: =ROUNDDOWN(자재단가대비표!N117,0) -> 140811 | H84: =ROUNDDOWN(D84*G84,1) -> 3055.5 | K84: =E84+G84+I84 -> 140811 | L84: =F84+H84+J84 -> 3055.5 | O84: 02 | P84: 기계경비 | Q84: 1
A85: 보통인부 | C85: 인 | D85: 0.0091 | G85: =ROUNDDOWN(자재단가대비표!N119,0) -> 87805 | H85: =ROUNDDOWN(D85*G85,1) -> 799 | K85: =E85+G85+I85 -> 87805 | L85: =F85+H85+J85 -> 799 | O85: 02 | P85: 기계경비 | Q85: 1
A86: 합 계 | F86: =ROUNDDOWN(SUMIF($Q$84:$Q$85, 1,$F$84:$F$85),0) -> 0 | H86: =ROUNDDOWN(SUMIF($Q$84:$Q$85, 1,$H$84:$H$85),0) -> 3854 | J86: =ROUNDDOWN(SUMIF($Q$84:$Q$85, 1,$J$84:$J$85),0) -> 0 | L86: =F86+H86+J86 -> 3854
A87: 일위 16호 모르타르바름(인력) | B87: 3.6m 이하, 재벌바르기 | C87: M2 | M87: 건축15-1-2.1
A88: 미장공 | C88: 인 | D88: 0.0336 | G88: =ROUNDDOWN(자재단가대비표!N117,0) -> 140811 | H88: =ROUNDDOWN(D88*G88,1) -> 4731.2 | K88: =E88+G88+I88 -> 140811 | L88: =F88+H88+J88 -> 4731.2 | O88: 02 | P88: 기계경비 | Q88: 1
A89: 보통인부 | C89: 인 | D89: 0.014 | G89: =ROUNDDOWN(자재단가대비표!N119,0) -> 87805 | H89: =ROUNDDOWN(D89*G89,1) -> 1229.2 | K89: =E89+G89+I89 -> 87805 | L89: =F89+H89+J89 -> 1229.2 | O89: 02 | P89: 기계경비 | Q89: 1
A90: 합 계 | F90: =ROUNDDOWN(SUMIF($Q$88:$Q$89, 1,$F$88:$F$89),0) -> 0 | H90: =ROUNDDOWN(SUMIF($Q$88:$Q$89, 1,$H$88:$H$89),0) -> 5960 | J90: =ROUNDDOWN(SUMIF($Q$88:$Q$89, 1,$J$88:$J$89),0) -> 0 | L90: =F90+H90+J90 -> 5960
A91: 일위 17호 모르타르바름(인력) | B91: 3.6m 이하, 정벌바르기 | C91: M2 | M91: 건축15-1-2.1
A92: 미장공 | C92: 인 | D92: 0.0364 | G92: =ROUNDDOWN(자재단가대비표!N117,0) -> 140811 | H92: =ROUNDDOWN(D92*G92,1) -> 5125.5 | K92: =E92+G92+I92 -> 140811 | L92: =F92+H92+J92 -> 5125.5 | O92: 02 | P92: 기계경비 | Q92: 1
A93: 보통인부 | C93: 인 | D93: 0.014 | G93: =ROUNDDOWN(자재단가대비표!N119,0) -> 87805 | H93: =ROUNDDOWN(D93*G93,1) -> 1229.2 | K93: =E93+G93+I93 -> 87805 | L93: =F93+H93+J93 -> 1229.2 | O93: 02 | P93: 기계경비 | Q93: 1
A94: 합 계 | F94: =ROUNDDOWN(SUMIF($Q$92:$Q$93, 1,$F$92:$F$93),0) -> 0 | H94: =ROUNDDOWN(SUMIF($Q$92:$Q$93, 1,$H$92:$H$93),0) -> 6354 | J94: =ROUNDDOWN(SUMIF($Q$92:$Q$93, 1,$J$92:$J$93),0) -> 0 | L94: =F94+H94+J94 -> 6354
A95: 일위 18호 모르타르충전 | B95: 창틀주위 | C95: M | M95: 건축15-3
A96: 모르타르배합 | B96: 1:4, 체가름無,재료포함 | C96: M3 | D96: 0.01 | E96: =ROUNDDOWN(일위대가표!F104,0) -> 64570 | F96: =ROUNDDOWN(D96*E96,1) -> 645.7 | G96: =ROUNDDOWN(일위대가표!H104,0) -> 26367 | H96: =ROUNDDOWN(D96*G96,1) -> 263.6 | K96: =E96+G96+I96 -> 90937 | L96: =F96+H96+J96 -> 909.3 | M96: 일위 19호 | P96: 기계경비 | Q96: 1
A97: 미장공 | C97: 인 | D97: 0.0081 | G97: =ROUNDDOWN(자재단가대비표!N117,0) -> 140811 | H97: =ROUNDDOWN(D97*G97,1) -> 1140.5 | K97: =E97+G97+I97 -> 140811 | L97: =F97+H97+J97 -> 1140.5 | O97: 02 | P97: 기계경비 | Q97: 1
A98: 보통인부 | C98: 인 | D98: 0.0021 | G98: =ROUNDDOWN(자재단가대비표!N119,0) -> 87805 | H98: =ROUNDDOWN(D98*G98,1) -> 184.3 | K98: =E98+G98+I98 -> 87805 | L98: =F98+H98+J98 -> 184.3 | O98: 02 | P98: 기계경비 | Q98: 1
A99: 합 계 | F99: =ROUNDDOWN(SUMIF($Q$96:$Q$98, 1,$F$96:$F$98),0) -> 645 | H99: =ROUNDDOWN(SUMIF($Q$96:$Q$98, 1,$H$96:$H$98),0) -> 1588 | J99: =ROUNDDOWN(SUMIF($Q$96:$Q$98, 1,$J$96:$J$98),0) -> 0 | L99: =F99+H99+J99 -> 2233
A100: 일위 19호 모르타르배합 | B100: 1:4, 체가름無,재료포함 | C100: M3 | M100: 건축15-1-1
...

Sheet 중기경비목록
A1: 중 기 경 비 목 록
A2: 공사명 : 광화문우체국대수선공사
A3: 호 표 | B3: 품 명 | C3: 규 격 | D3: 단위 | E3: 수량 | F3: 재 료 비 | H3: 노 무 비 | J3: 경 비 | L3: 합 계 | N3: 비 고
F4: 단 가 | G4: 금 액 | H4: 단 가 | I4: 금 액 | J4: 단 가 | K4: 금 액 | L4: 단 가 | M4: 금 액 | O4: 손료요율 | P4: 손료구분 | Q4: 적용구분 | R4: 합계구분
A5: 중기 33호 | B5: 용접기 (교류) | C5: 500 AMP | D5: HR | E5: 1 | F5: =중기경비!F9 -> 0 | G5: =E5*F5 -> 0 | H5: =중기경비!H9 -> 0 | I5: =E5*H5 -> 0 | J5: =중기경비!J9 -> 124 | K5: =E5*J5 -> 124 | L5: =F5+H5+J5 -> 124 | M5: =G5+I5+K5 -> 124 | N5: 토목11-2
A6: 중기 75호 | B6: 코아드릴 | C6: 25.4cm(10inch) | D6: HR | E6: 1 | F6: =중기경비!F14 -> 0 | G6: =E6*F6 -> 0 | H6: =중기경비!H14 -> 0 | I6: =E6*H6 -> 0 | J6: =중기경비!J14 -> 523 | K6: =E6*J6 -> 523 | L6: =F6+H6+J6 -> 523 | M6: =G6+I6+K6 -> 523 | N6: 토목11-2
A7: 중기 77호 | B7: 굴삭기(유압식백호우) | C7: 0.7M3 | D7: HR | E7: 1 | F7: =중기경비!F26 -> 17307 | G7: =E7*F7 -> 17307 | H7: =중기경비!H26 -> 18031 | I7: =E7*H7 -> 18031 | J7: =중기경비!J26 -> 19708 | K7: =E7*J7 -> 19708 | L7: =F7+H7+J7 -> 55046 | M7: =G7+I7+K7 -> 55046 | N7: 토목11-2
A8: 중기 78호 | B8: 덤프트럭 | C8: 15 TON | D8: HR | E8: 1 | F8: =중기경비!F38 -> 26835 | G8: =E8*F8 -> 26835 | H8: =중기경비!H38 -> 18031 | I8: =E8*H8 -> 18031 | J8: =중기경비!J38 -> 17283 | K8: =E8*J8 -> 17283 | L8: =F8+H8+J8 -> 62149 | M8: =G8+I8+K8 -> 62149 | N8: 토목11-2

Sheet 중기경비
A1: 중 기 경 비
A2: 공사명 : 광화문우체국대수선공사
A3: 품 명 | B3: 규 격 | C3: 단위 | D3: 수 량 | E3: 재 료 비 | G3: 노 무 비 | I3: 경 비 | K3: 합 계 | M3: 비 고
E4: 단 가 | F4: 금 액 | G4: 단 가 | H4: 금 액 | I4: 단 가 | J4: 금 액 | K4: 단 가 | L4: 금 액 | N4: 손료요율 | O4: 손료구분 | P4: 적용구분 | Q4: 합계구분
A5: 중기 33호 용접기 (교류) | B5: 500 AMP | C5: HR | M5: 토목11-2
A6: 경 비 | K6: =E6+G6+I6 -> 0 | L6: =F6+H6+J6 -> 0
A7: 용접기 (교류) | B7: 500 AMP | C7: 대 | D7: 0.0002294 | I7: =ROUNDDOWN(자재단가대비표!N132,0) -> 544000 | J7: =ROUNDDOWN(D7*I7,1) -> 124.7 | K7: =E7+G7+I7 -> 544000 | L7: =F7+H7+J7 -> 124.7 | M7: 토목11-4 | O7: 03 | P7: 기계경비 | Q7: 1
A8: 소 계 | J8: =SUMIF($Q$6:$Q$7, 1,$J$6:$J$7) -> 124.7 | L8: =F8+H8+J8 -> 124.7
A9: 합 계 | F9: =ROUNDDOWN(SUMIF($Q$6:$Q$8, 1,$F$6:$F$8),0) -> 0 | H9: =ROUNDDOWN(SUMIF($Q$6:$Q$8, 1,$H$6:$H$8),0) -> 0 | J9: =ROUNDDOWN(SUMIF($Q$6:$Q$8, 1,$J$6:$J$8),0) -> 124 | L9: =F9+H9+J9 -> 124
A10: 중기 75호 코아드릴 | B10: 25.4cm(10inch) | C10: HR | M10: 토목11-2
A11: 경 비 | K11: =E11+G11+I11 -> 0 | L11: =F11+H11+J11 -> 0
A12: 코아드릴 | B12: 10 inch | C12: 대 | D12: 0.00052 | I12: =ROUNDDOWN(자재단가대비표!N134,0) -> 1007000 | J12: =ROUNDDOWN(D12*I12,1) -> 523.6 | K12: =E12+G12+I12 -> 1007000 | L12: =F12+H12+J12 -> 523.6 | M12: 토목11-4 | O12: 03 | P12: 기계경비 | Q12: 1
A13: 소 계 | J13: =SUMIF($Q$11:$Q$12, 1,$J$11:$J$12) -> 523.6 | L13: =F13+H13+J13 -> 523.6
A14: 합 계 | F14: =ROUNDDOWN(SUMIF($Q$11:$Q$13, 1,$F$11:$F$13),0) -> 0 | H14: =ROUNDDOWN(SUMIF($Q$11:$Q$13, 1,$H$11:$H$13),0) -> 0 | J14: =ROUNDDOWN(SUMIF($Q$11:$Q$13, 1,$J$11:$J$13),0) -> 523 | L14: =F14+H14+J14 -> 523
A15: 중기 77호 굴삭기(유압식백호우) | B15: 0.7M3 | C15: HR | M15: 토목11-2
A16: 경 비 | K16: =E16+G16+I16 -> 0 | L16: =F16+H16+J16 -> 0
A17: 굴삭기(유압식백호우) | B17: 0.7 ㎥ | C17: 대 | D17: 0.0002038 | I17: =ROUNDDOWN(자재단가대비표!N130,0) -> 96703000 | J17: =ROUNDDOWN(D17*I17,1) -> 19708 | K17: =E17+G17+I17 -> 96703000 | L17: =F17+H17+J17 -> 19708 | M17: 토목11-4 | O17: 03 | P17: 기계경비 | Q17: 1
A18: 소 계 | J18: =SUMIF($Q$16:$Q$17, 1,$J$16:$J$17) -> 19708 | L18: =F18+H18+J18 -> 19708
A19: 재료비 | K19: =E19+G19+I19 -> 0 | L19: =F19+H19+J19 -> 0
A20: 경유 | B20: 저유황 | C20: L | D20: 11.6 | E20: =ROUNDDOWN(자재단가대비표!N22,0) -> 1223 | F20: =ROUNDDOWN(D20*E20,1) -> 14186.8 | K20: =E20+G20+I20 -> 1223 | L20: =F20+H20+J20 -> 14186.8 | O20: 01 | P20: 기계경비 | Q20: 1
A21: 잡품 | B21: ="주연료비의 "&N21*100&"%" -> 주연료비의 22% | C21: 식 | D21: 1 | E21: =SUMIF($O$15:O25, "01", $F$15:F25) -> 14186.8 | F21: =ROUNDDOWN(E21*N21,1) -> 3121 | K21: =E21+G21+I21 -> 14186.8 | L21: =F21+H21+J21 -> 3121 | N21: 0.22 | P21: 기계경비 | Q21: 1
A22: 소 계 | F22: =SUMIF($Q$19:$Q$21, 1,$F$19:$F$21) -> 17307.8 | L22: =F22+H22+J22 -> 17307.8
A23: 노무비 | K23: =E23+G23+I23 -> 0 | L23: =F23+H23+J23 -> 0
A24: 건설기계운전사 | C24: 인 | D24: 0.1458333 | G24: =ROUNDDOWN(자재단가대비표!N108,0) -> 123642 | H24: =ROUNDDOWN(D24*G24,1) -> 18031.1 | K24: =E24+G24+I24 -> 123642 | L24: =F24+H24+J24 -> 18031.1 | M24: 건설기계운전기사 | O24: 02 | P24: 기계경비 | Q24: 1
A25: 소 계 | H25: =SUMIF($Q$23:$Q$24, 1,$H$23:$H$24) -> 18031.1 | L25: =F25+H25+J25 -> 18031.1
A26: 합 계 | F26: =ROUNDDOWN(SUMIF($Q$16:$Q$25, 1,$F$16:$F$25),0) -> 17307 | H26: =ROUNDDOWN(SUMIF($Q$16:$Q$25, 1,$H$16:$H$25),0) -> 18031 | J26: =ROUNDDOWN(SUMIF($Q$16:$Q$25, 1,$J$16:$J$25),0) -> 19708 | L26: =F26+H26+J26 -> 55046
A27: 중기 78호 덤프트럭 | B27: 15 TON | C27: HR | M27: 토목11-2
A28: 경 비 | K28: =E28+G28+I28 -> 0 | L28: =F28+H28+J28 -> 0
A29: 덤프트럭 | B29: 15.0 TON | C29: 대 | D29: 0.0002213 | I29: =ROUNDDOWN(자재단가대비표!N131,0) -> 78101000 | J29: =ROUNDDOWN(D29*I29,1) -> 17283.7 | K29: =E29+G29+I29 -> 78101000 | L29: =F29+H29+J29 -> 17283.7 | M29: 토목11-4 | O29: 03 | P29: 기계경비 | Q29: 1
A30: 소 계 | J30: =SUMIF($Q$28:$Q$29, 1,$J$28:$J$29) -> 17283.7 | L30: =F30+H30+J30 -> 17283.7
A31: 재료비 | K31: =E31+G31+I31 -> 0 | L31: =F31+H31+J31 -> 0
A32: 경유 | B32: 저유황 | C32: L | D32: 15.9 | E32: =ROUNDDOWN(자재단가대비표!N22,0) -> 1223 | F32: =ROUNDDOWN(D32*E32,1) -> 19445.7 | K32: =E32+G32+I32 -> 1223 | L32: =F32+H32+J32 -> 19445.7 | O32: 01 | P32: 기계경비 | Q32: 1
A33: 잡품 | B33: ="주연료비의 "&N33*100&"%" -> 주연료비의 38% | C33: 식 | D33: 1 | E33: =SUMIF($O$27:O37, "01", $F$27:F37) -> 19445.7 | F33: =ROUNDDOWN(E33*N33,1) -> 7389.3 | K33: =E33+G33+I33 -> 19445.7 | L33: =F33+H33+J33 -> 7389.3 | N33: 0.38 | P33: 기계경비 | Q33: 1
A34: 소 계 | F34: =SUMIF($Q$31:$Q$33, 1,$F$31:$F$33) -> 26835 | L34: =F34+H34+J34 -> 26835
A35: 노무비 | K35: =E35+G35+I35 -> 0 | L35: =F35+H35+J35 -> 0
A36: 건설기계운전사 | C36: 인 | D36: 0.1458333 | G36: =ROUNDDOWN(자재단가대비표!N108,0) -> 123642 | H36: =ROUNDDOWN(D36*G36,1) -> 18031.1 | K36: =E36+G36+I36 -> 123642 | L36: =F36+H36+J36 -> 18031.1 | M36: 건설기계운전기사 | O36: 02 | P36: 기계경비 | Q36: 1
A37: 소 계 | H37: =SUMIF($Q$35:$Q$36, 1,$H$35:$H$36) -> 18031.1 | L37: =F37+H37+J37 -> 18031.1
A38: 합 계 | F38: =ROUNDDOWN(SUMIF($Q$28:$Q$37, 1,$F$28:$F$37),0) -> 26835 | H38: =ROUNDDOWN(SUMIF($Q$28:$Q$37, 1,$H$28:$H$37),0) -> 18031 | J38: =ROUNDDOWN(SUMIF($Q$28:$Q$37, 1,$J$28:$J$37),0) -> 17283 | L38: =F38+H38+J38 -> 62149

Sheet 단가산출서목록
A1: 단 가 산 출 서 목 록
A2: 공사명 : 광화문우체국대수선공사
A3: 호 표 | B3: 품 명 | C3: 규 격 | D3: 단위 | E3: 수량 | F3: 재 료 비 | H3: 노 무 비 | J3: 경 비 | L3: 합 계 | N3: 비 고
F4: 단 가 | G4: 금 액 | H4: 단 가 | I4: 금 액 | J4: 단 가 | K4: 금 액 | L4: 단 가 | M4: 금 액 | O4: 손료요율 | P4: 손료구분 | Q4: 적용구분 | R4: 합계구분
A5: 단산 76호 | B5: 폐기물수집,운반비 | C5: 10km | D5: TON | E5: 1 | F5: =단가산출서!B45 -> 3067 | G5: =E5*F5 -> 3067 | H5: =단가산출서!C45 -> 2311 | I5: =E5*H5 -> 2311 | J5: =단가산출서!D45 -> 2310 | K5: =E5*J5 -> 2310 | L5: =F5+H5+J5 -> 7688 | M5: =G5+I5+K5 -> 7688 | N5: 참고자료

Sheet 단가산출서
A1: 단 가 산 출 서
A2: 공사명 : 광화문우체국대수선공사
A3: 산 출 근 거 | B3: 재 료 비 | C3: 노 무 비 | D3: 경 비 | E3: 합 계 | F3: 비 고
B4: 금액 | C4: 금액 | D4: 금액 | E4: 금액 | G4: 손료요율 | H4: 손료구분 | I4: 적용구분 | J4: 합계구분
A5: 단산 76호 폐기물수집,운반비 10km TON | F5: 참고자료
A6: 1.적사 | E6: =B6+C6+D6 -> 0 | J6: 0 | L6: 0 | M6: 0 | N6: 0 | O6: 0
A7: 굴삭기(유압식백호우) : 0.7M3 HR | E7: =B7+C7+D7 -> 0 | F7: 중기 77호 | J7: 0 | L7: =ROUNDDOWN(1,4) -> 1 | M7: =중기경비!F26 -> 17307 | N7: =중기경비!H26 -> 18031 | O7: =중기경비!J26 -> 19708
A8: =" 버킷용량(㎥) : q = "&L8 -> 버킷용량(㎥) : q = 0.7 | E8: =B8+C8+D8 -> 0 | J8: 0 | K8: q | L8: =ROUNDDOWN(0.7,4) -> 0.7 | M8: 0 | N8: 0 | O8: 0
A9: =" 버킷계수 : k = "&L9 -> 버킷계수 : k = 0.55 | E9: =B9+C9+D9 -> 0 | J9: 0 | K9: k | L9: =ROUNDDOWN(0.55,4) -> 0.55 | M9: 0 | N9: 0 | O9: 0
A10: =" 토량환산계수 : f = "&L10 -> 토량환산계수 : f = 1 | E10: =B10+C10+D10 -> 0 | J10: 0 | K10: f | L10: =ROUNDDOWN(1,4) -> 1 | M10: 0 | N10: 0 | O10: 0
A11: =" 작업효율 : E = "&L11 -> 작업효율 : E = 0.35 | E11: =B11+C11+D11 -> 0 | J11: 0 | K11: E | L11: =ROUNDDOWN(0.35,4) -> 0.35 | M11: 0 | N11: 0 | O11: 0
A12: =" 1회사이클시간(초) : Cm = "&L12 -> 1회사이클시간(초) : Cm = 19 | E12: =B12+C12+D12 -> 0 | J12: 0 | K12: Cm | L12: =ROUND(19,2) -> 19 | M12: 0 | N12: 0 | O12: 0
A13: =" 시간당작업량(㎥/hr) : Q = (3600*q*k*f*E)/Cm = "&L13 -> 시간당작업량(㎥/hr) : Q = (3600*q*k*f*E)/Cm = 25.53 | E13: =B13+C13+D13 -> 0 | J13: 0 | K13: Q | L13: =ROUND((3600*L8*L9*L10*L11)/L12,2) -> 25.53 | M13: 0 | N13: 0 | O13: 0
A14: =" 재료비 : "&M7&"/"&"2"&"5"&"."&"5"&"3" -> 재료비 : 17307/25.53 | B14: =ROUNDDOWN((M7)/25.53,1) -> 677.9 | E14: =B14+C14+D14 -> 677.9 | I14: 기계경비 | J14: 1 | L14: 0 | M14: 0 | N14: 0 | O14: 0
A15: =" 노무비 : "&N7&"/"&"2"&"5"&"."&"5"&"3" -> 노무비 : 18031/25.53 | C15: =ROUNDDOWN((N7)/25.53,1) -> 706.2 | E15: =B15+C15+D15 -> 706.2 | I15: 기계경비 | J15: 1 | L15: 0 | M15: 0 | N15: 0 | O15: 0
A16: =" 경 비 : "&O7&"/"&"2"&"5"&"."&"5"&"3" -> 경 비 : 19708/25.53 | D16: =ROUNDDOWN((O7)/25.53,1) -> 771.9 | E16: =B16+C16+D16 -> 771.9 | I16: 기계경비 | J16: 1 | L16: 0 | M16: 0 | N16: 0 | O16: 0
A17: 소 계 | B17: =SUMIF($J$7:$J$16,1,$B$7:$B$16) -> 677.9 | C17: =SUMIF($J$7:$J$16,1,$C$7:$C$16) -> 706.2 | D17: =SUMIF($J$7:$J$16,1,$D$7:$D$16) -> 771.9 | E17: =B17+C17+D17 -> 2156 | J17: 0 | L17: 0 | M17: 0 | N17: 0 | O17: 0
A18: 2.운반 | E18: =B18+C18+D18 -> 0 | J18: 0 | L18: 0 | M18: 0 | N18: 0 | O18: 0
A19: 덤프트럭 : 15 TON HR | E19: =B19+C19+D19 -> 0 | F19: 중기 78호 | J19: 0 | L19: =ROUNDDOWN(1,4) -> 1 | M19: =중기경비!F38 -> 26835 | N19: =중기경비!H38 -> 18031 | O19: =중기경비!J38 -> 17283
A20: =" 운반거리(㎞) : V = "&L20 -> 운반거리(㎞) : V = 10 | E20: =B20+C20+D20 -> 0 | J20: 0 | K20: V | L20: =ROUNDDOWN(10,4) -> 10 | M20: 0 | N20: 0 | O20: 0
A21: =" 적재시평균주행속도(㎞/hr) : V1 = "&L21 -> 적재시평균주행속도(㎞/hr) : V1 = 35 | E21: =B21+C21+D21 -> 0 | J21: 0 | K21: V1 | L21: =ROUNDDOWN(35,4) -> 35 | M21: 0 | N21: 0 | O21: 0
A22: =" 공차시평균주행속도(㎞/hr) : V2 = "&L22 -> 공차시평균주행속도(㎞/hr) : V2 = 35 | E22: =B22+C22+D22 -> 0 | J22: 0 | K22: V2 | L22: =ROUNDDOWN(35,4) -> 35 | M22: 0 | N22: 0 | O22: 0
A23: =" 버킷계수 : k = "&L23 -> 버킷계수 : k = 0.9 | E23: =B23+C23+D23 -> 0 | J23: 0 | K23: k | L23: =ROUNDDOWN(0.9,4) -> 0.9 | M23: 0 | N23: 0 | O23: 0
A24: =" 버킷용량(㎥) : q = "&L24 -> 버킷용량(㎥) : q = 0.7 | E24: =B24+C24+D24 -> 0 | J24: 0 | K24: q | L24: =ROUNDDOWN(0.7,4) -> 0.7 | M24: 0 | N24: 0 | O24: 0
A25: =" 덤프트럭의적재용량(톤) : T = "&L25 -> 덤프트럭의적재용량(톤) : T = 15 | E25: =B25+C25+D25 -> 0 | J25: 0 | K25: T | L25: =ROUNDDOWN(15,4) -> 15 | M25: 0 | N25: 0 | O25: 0
A26: =" 자연상태에서의토석의단위중량(톤/㎥) : rt = "&L26 -> 자연상태에서의토석의단위중량(톤/㎥) : rt = 2.3 | E26: =B26+C26+D26 -> 0 | J26: 0 | K26: rt | L26: =ROUNDDOWN(2.3,4) -> 2.3 | M26: 0 | N26: 0 | O26: 0
A27: =" 토량환산계수에서의토량변환율 : L = "&L27 -> 토량환산계수에서의토량변환율 : L = 1.625 | E27: =B27+C27+D27 -> 0 | J27: 0 | K27: L | L27: =ROUNDDOWN(1.625,4) -> 1.625 | M27: 0 | N27: 0 | O27: 0
A28: =" 덤프트럭1대의적재토량(㎥) : Qt = (T/rt)*L = "&L28 -> 덤프트럭1대의적재토량(㎥) : Qt = (T/rt)*L = 10.5978 | E28: =B28+C28+D28 -> 0 | J28: 0 | K28: Qt | L28: =ROUNDDOWN((L25/L26)*L27,4) -> 10.5978 | M28: 0 | N28: 0 | O28: 0
A29: =" 토량환산계수 : f = "&L29 -> 토량환산계수 : f = 1 | E29: =B29+C29+D29 -> 0 | J29: 0 | K29: f | L29: =ROUNDDOWN(1,4) -> 1 | M29: 0 | N29: 0 | O29: 0
A30: =" 작업효율 : E = "&L30 -> 작업효율 : E = 0.9 | E30: =B30+C30+D30 -> 0 | J30: 0 | K30: E | L30: =ROUNDDOWN(0.9,4) -> 0.9 | M30: 0 | N30: 0 | O30: 0
A31: =" D/T1대의토량적재소요적재기계싸이클회수 : n = Qt/(q*k) = "&L31 -> D/T1대의토량적재소요적재기계싸이클회수 : n = Qt/(q*k) = 16.8219 | E31: =B31+C31+D31 -> 0 | J31: 0 | K31: n | L31: =ROUNDDOWN(L28/(L24*L23),4) -> 16.8219 | M31: 0 | N31: 0 | O31: 0
A32: =" 적재기계의1회사이클시간(초) : Cms = "&L32 -> 적재기계의1회사이클시간(초) : Cms = 19 | E32: =B32+C32+D32 -> 0 | J32: 0 | K32: Cms | L32: =ROUNDDOWN(19,4) -> 19 | M32: 0 | N32: 0 | O32: 0
A33: =" 적재기계의작업효율 : Es = "&L33 -> 적재기계의작업효율 : Es = 0.35 | E33: =B33+C33+D33 -> 0 | J33: 0 | K33: Es | L33: =ROUNDDOWN(0.35,4) -> 0.35 | M33: 0 | N33: 0 | O33: 0
A34: =" 적재시간(분) : t1 = (Cms*n)/(60*Es) = "&L34 -> 적재시간(분) : t1 = (Cms*n)/(60*Es) = 15.2198 | E34: =B34+C34+D34 -> 0 | J34: 0 | K34: t1 | L34: =ROUNDDOWN((L32*L31)/(60*L33),4) -> 15.2198 | M34: 0 | N34: 0 | O34: 0
A35: =" 왕복시간(분) : t2 = (V/V1+V/V2)*60 = "&L35 -> 왕복시간(분) : t2 = (V/V1+V/V2)*60 = 34.2857 | E35: =B35+C35+D35 -> 0 | J35: 0 | K35: t2 | L35: =ROUNDDOWN((L20/L21+L20/L22)*60,4) -> 34.2857 | M35: 0 | N35: 0 | O35: 0
A36: =" 적하시간(분) : t3 = "&L36 -> 적하시간(분) : t3 = 0.8 | E36: =B36+C36+D36 -> 0 | J36: 0 | K36: t3 | L36: =ROUNDDOWN(0.8,4) -> 0.8 | M36: 0 | N36: 0 | O36: 0
A37: =" 적재장소도착부터적재작업시작까지(분) : t4 = "&L37 -> 적재장소도착부터적재작업시작까지(분) : t4 = 0.15 | E37: =B37+C37+D37 -> 0 | J37: 0 | K37: t4 | L37: =ROUNDDOWN(0.15,4) -> 0.15 | M37: 0 | N37: 0 | O37: 0
A38: =" 적재함덮개설치및해체시간(분) : t5 = "&L38 -> 적재함덮개설치및해체시간(분) : t5 = 0.5 | E38: =B38+C38+D38 -> 0 | J38: 0 | K38: t5 | L38: =ROUNDDOWN(0.5,4) -> 0.5 | M38: 0 | N38: 0 | O38: 0
A39: =" 1회사이클시간(분) : Cm = t1+t2+t3+t4+t5 = "&L39 -> 1회사이클시간(분) : Cm = t1+t2+t3+t4+t5 = 50.96 | E39: =B39+C39+D39 -> 0 | J39: 0 | K39: Cm | L39: =ROUND(L34+L35+L36+L37+L38,2) -> 50.96 | M39: 0 | N39: 0 | O39: 0
A40: =" 시간당작업량(㎥/hr) : Q = (60*Qt*f*E)/Cm = "&L40 -> 시간당작업량(㎥/hr) : Q = (60*Qt*f*E)/Cm = 11.23 | E40: =B40+C40+D40 -> 0 | J40: 0 | K40: Q | L40: =ROUND((60*L28*L29*L30)/L39,2) -> 11.23 | M40: 0 | N40: 0 | O40: 0
A41: =" 재료비 : "&M19&"/"&"1"&"1"&"."&"2"&"3" -> 재료비 : 26835/11.23 | B41: =ROUNDDOWN((M19)/11.23,1) -> 2389.5 | E41: =B41+C41+D41 -> 2389.5 | I41: 기계경비 | J41: 1 | L41: 0 | M41: 0 | N41: 0 | O41: 0
A42: =" 노무비 : "&N19&"/"&"1"&"1"&"."&"2"&"3" -> 노무비 : 18031/11.23 | C42: =ROUNDDOWN((N19)/11.23,1) -> 1605.6 | E42: =B42+C42+D42 -> 1605.6 | I42: 기계경비 | J42: 1 | L42: 0 | M42: 0 | N42: 0 | O42: 0
A43: =" 경 비 : "&O19&"/"&"1"&"1"&"."&"2"&"3" -> 경 비 : 17283/11.23 | D43: =ROUNDDOWN((O19)/11.23,1) -> 1539 | E43: =B43+C43+D43 -> 1539 | I43: 기계경비 | J43: 1 | L43: 0 | M43: 0 | N43: 0 | O43: 0
A44: 소 계 | B44: =SUMIF($J$19:$J$43,1,$B$19:$B$43) -> 2389.5 | C44: =SUMIF($J$19:$J$43,1,$C$19:$C$43) -> 1605.6 | D44: =SUMIF($J$19:$J$43,1,$D$19:$D$43) -> 1539 | E44: =B44+C44+D44 -> 5534.1 | J44: 0 | L44: 0 | M44: 0 | N44: 0 | O44: 0
A45: 합 계 | B45: =ROUNDDOWN(SUMIF($J$6:$J$44,1,$B$6:$B$44),0) -> 3067 | C45: =ROUNDDOWN(SUMIF($J$6:$J$44,1,$C$6:$C$44),0) -> 2311 | D45: =ROUNDDOWN(SUMIF($J$6:$J$44,1,$D$6:$D$44),0) -> 2310 | E45: =B45+C45+D45 -> 7688

Sheet 공량산출서
A1: 공 량 산 출 서
A2: 공사명 : 광화문우체국대수선공사
A3: 품 명 | B3: 규 격 | C3: 단위 | D3: 수 량 | E3: 적용% | F3: 적 용 자재수량 | G3: 공 량 | N3: 비고
D4: 자재원수량 | E4: 자재 | G4: 기계설비공 | H4: 보통인부 | I4: 위생공 | J4: 배관공 | K4: 보온공
D5: 품셈목록 | E5: 인부 | G5: 114481 | H5: 87805 | I5: 114023 | J5: 116622 | K5: 101978
A6: 10. 위생기구
A8: 팬코일유니트(상치노출형) | B8: 800 | C8: 대 | D8: 1 | E8: 1 | F8: =ROUND(D8*E8,0) -> 1 | G8: 1 | H8: 0.2
E9: 1 | G9: =ROUND(D8*1,4) -> 1 | H9: =ROUND(D8*0.2,4) -> 0.2 | R9: 1
A10: 양변기(탱크일체형변기) | B10: 사이펀, C2010C, CC-207 (도기) | C10: EA | D10: 2 | E10: 1 | F10: =ROUND(D10*E10,0) -> 2 | H10: 0.2 | I10: 0.694
E11: 1 | H11: =ROUND(D10*0.2,4) -> 0.4 | I11: =ROUND(D10*0.694,4) -> 1.388 | R11: 1
A12: 세면기 | B12: CL-520 | C12: 조 | D12: 1 | E12: 1 | F12: =ROUND(D12*E12,0) -> 1 | H12: 0.065 | I12: 0.275
E13: 1 | H13: =ROUND(D12*0.065,4) -> 0.065 | I13: =ROUND(D12*0.275,4) -> 0.275 | R13: 1
A14: 세면기 | B14: 4", L221 | C14: 조 | D14: 1 | E14: 1 | F14: =ROUND(D14*E14,0) -> 1 | H14: 0.065 | I14: 0.275
E15: 1 | H15: =ROUND(D14*0.065,4) -> 0.065 | I15: =ROUND(D14*0.275,4) -> 0.275 | R15: 1
A16: 세면기자동수전 | B16: JATA-200BC 냉온수혼합형 | C16: EA | D16: 1 | E16: 1 | F16: =ROUND(D16*E16,0) -> 1 | H16: 0.028 | I16: 0.139
E17: 1 | H17: =ROUND(D16*0.028,4) -> 0.028 | I17: =ROUND(D16*0.139,4) -> 0.139 | R17: 1
A18: 세면기수전 | B18: 4"싱글레버930RG/RWG | C18: EA | D18: 1 | E18: 1 | F18: =ROUND(D18*E18,0) -> 1 | H18: 0.028 | I18: 0.139
E19: 1 | H19: =ROUND(D18*0.028,4) -> 0.028 | I19: =ROUND(D18*0.139,4) -> 0.139 | R19: 1
A20: 샤워수전 | B20: DD-1006 골드화이트 | C20: EA | D20: 1 | E20: 1 | F20: =ROUND(D20*E20,0) -> 1 | H20: 0.2 | I20: 1
E21: 1 | H21: =ROUND(D20*0.2,4) -> 0.2 | I21: =ROUND(D20*1,4) -> 1 | R21: 1
A22: 씽크수전 | B22: DD-2058 크롬 | C22: EA | D22: 2 | E22: 1 | F22: =ROUND(D22*E22,0) -> 2 | H22: 0.033 | I22: 0.164
E23: 1 | H23: =ROUND(D22*0.033,4) -> 0.066 | I23: =ROUND(D22*0.164,4) -> 0.328 | R23: 1
A24: 화장경 | B24: 600*900*5T | C24: EA | D24: 2 | E24: 1 | F24: =ROUND(D24*E24,0) -> 2 | I24: 0.229
E25: 1 | I25: =ROUND(D24*0.229,4) -> 0.458 | R25: 1
A26: 화장실용 액세서리 | B26: 매립형휴지걸이 | C26: EA | D26: 2 | E26: 1 | F26: =ROUND(D26*E26,0) -> 2 | I26: 0.071
E27: 1 | I27: =ROUND(D26*0.071,4) -> 0.142 | R27: 1
A28: 화장실용 액세서리 | B28: 물비누통, 수동 | C28: EA | D28: 2 | E28: 1 | F28: =ROUND(D28*E28,0) -> 2 | I28: 0.071
E29: 1 | I29: =ROUND(D28*0.071,4) -> 0.142 | R29: 1
A30: 화장실용 액세서리 | B30: 수건걸이, 1BAR | C30: EA | D30: 2 | E30: 1 | F30: =ROUND(D30*E30,0) -> 2 | I30: 0.099
E31: 1 | I31: =ROUND(D30*0.099,4) -> 0.198 | R31: 1
G40: =SUMIF(R6:R39,1,G6:G39) -> 1 | H40: =SUMIF(R6:R39,1,H6:H39) -> 1.052 | I40: =SUMIF(R6:R39,1,I6:I39) -> 4.484
A41: 합 계 | G41: =ROUND(SUMIF(R6:R39,1,G6:G39),1) -> 1 | H41: =ROUND(SUMIF(R6:R39,1,H6:H39),1) -> 1.1 | I41: =ROUND(SUMIF(R6:R39,1,I6:I39),1) -> 4.5
A42: 11. 급수공사
A44: 스텐관(2.0T) | B44: D20 | C44: M | D44: 140 | E44: 1.1 | F44: =ROUND(D44*E44,0) -> 154 | H44: 0.017 | J44: 0.033
E45: 1 | H45: =ROUND(D44*0.017,4) -> 2.38 | J45: =ROUND(D44*0.033,4) -> 4.62 | R45: 1
A46: 앵글밸브(청동,10K) | B46: D15 | C46: EA | D46: 12 | E46: 1 | F46: =ROUND(D46*E46,0) -> 12 | J46: 0.05
E47: 1 | J47: =ROUND(D46*0.05,4) -> 0.6 | R47: 1
A48: 볼밸브(황동,10Kg) | B48: D20 | C48: EA | D48: 10 | E48: 1 | F48: =ROUND(D48*E48,0) -> 10 | J48: 0.05
E49: 1 | J49: =ROUND(D48*0.05,4) -> 0.5 | R49: 1
A50: 아티론(난연AL)25T | B50: D20 | C50: M | D50: 140 | E50: 1 | F50: =ROUND(D50*E50,0) -> 140 | H50: 0.0019 | K50: 0.0266
E51: 1 | H51: =ROUND(D50*0.0019,4) -> 0.266 | K51: =ROUND(D50*0.0266,4) -> 3.724 | R51: 1
H58: =SUMIF(R42:R57,1,H42:H57) -> 2.646 | J58: =SUMIF(R42:R57,1,J42:J57) -> 5.72 | K58: =SUMIF(R42:R57,1,K42:K57) -> 3.724
A59: 합 계 | H59: =ROUND(SUMIF(R42:R57,1,H42:H57),1) -> 2.6 | J59: =ROUND(SUMIF(R42:R57,1,J42:J57),1) -> 5.7 | K59: =ROUND(SUMIF(R42:R57,1,K42:K57),1) -> 3.7
A60: 12. 배수배관
A62: PVC관(VG1) 고무링접합 | B62: D100 | C62: M | D62: 40 | E62: 1 | F62: =ROUND(D62*E62,0) -> 40 | H62: 0.034 | J62: 0.064
E63: 1 | H63: =ROUND(D62*0.034,4) -> 1.36 | J63: =ROUND(D62*0.064,4) -> 2.56 | R63: 1
A64: PVC관(VG1) 고무링접합 | B64: D50 | C64: M | D64: 40 | E64: 1 | F64: =ROUND(D64*E64,0) -> 40 | H64: 0.018 | J64: 0.034
E65: 1 | H65: =ROUND(D64*0.018,4) -> 0.72 | J65: =ROUND(D64*0.034,4) -> 1.36 | R65: 1
H76: =SUMIF(R60:R75,1,H60:H75) -> 2.08 | J76: =SUMIF(R60:R75,1,J60:J75) -> 3.92
A77: 합 계 | H77: =ROUND(SUMIF(R60:R75,1,H60:H75),1) -> 2.1 | J77: =ROUND(SUMIF(R60:R75,1,J60:J75),1) -> 3.9

Sheet 자재단가대비표
A1: 단 가 대 비 표
A2: 공사명 : 광화문우체국대수선공사
A3: 품 명 | B3: 규 격 | C3: 단위 | D3: 물가자료 | F3: 물가정보 | H3: 가격정보 | I3: 유통물가 | K3: 거래가격 | M3: 조사단가 | N3: 적용단가 | O3: 비 고
D4: 단 가 | E4: Page | F4: 단 가 | G4: Page | H4: 단 가 | I4: 단 가 | J4: Page | K4: 단 가 | L4: Page | M4: 단 가
A5: AS관 이음관(90˚엘보) | B5: 50mm | C5: EA | D5: 4961 | E5: 773 | N5: =MIN(D5, F5, H5, I5, K5, M5) -> 4961
A6: AS관 이음관(90˚엘보) | B6: 100mm | C6: EA | D6: 15730 | E6: 773 | N6: =MIN(D6, F6, H6, I6, K6, M6) -> 15730
A7: AS관 이음관(레듀샤) | B7: 75* 50mm | C7: EA | D7: 5687 | E7: 773 | N7: =MIN(D7, F7, H7, I7, K7, M7) -> 5687
A8: AS관 이음관(소켓) | B8: 50mm | C8: EA | D8: 3267 | E8: 773 | N8: =MIN(D8, F8, H8, I8, K8, M8) -> 3267
A9: AS관 이음관(소켓) | B9: 100mm | C9: EA | D9: 11979 | E9: 773 | N9: =MIN(D9, F9, H9, I9, K9, M9) -> 11979
A10: FABRIC 흡음판 | B10: VI-401 50T*1000*2000 | C10: M2 | D10: 41000 | E10: 1076 | N10: =MIN(D10, F10, H10, I10, K10, M10) -> 41000
A11: M.D.F | B11: 9.0T 1210*2420 | C11: M2 | D11: 4029 | E11: 680 | H11: 3747 | I11: 3728 | J11: 408 | N11: =MIN(D11, F11, H11, I11, K11, M11) -> 3728
A12: METAL C-RUNNER | B12: 0.8T 102*40 | C12: M | D12: 2670 | E12: 536 | N12: =MIN(D12, F12, H12, I12, K12, M12) -> 2670
A13: METAL C-STUD | B13: 0.8T 100*45 | C13: M | D13: 3140 | E13: 536 | N13: =MIN(D13, F13, H13, I13, K13, M13) -> 3140
A14: PVC관(VG1) 고무링접합 | B14: D100 | C14: M | D14: 7787 | E14: 745 | F14: 7927.5 | G14: 2-537 | H14: 6230 | I14: 7787 | J14: 566 | K14: 8175 | L14: 689 | N14: =MIN(D14, F14, H14, I14, K14, M14) -> 6230
A15: PVC관(VG1) 고무링접합 | B15: D50 | C15: M | D15: 2572 | E15: 745 | F15: 2605 | G15: 2-537 | H15: 2050 | I15: 2572 | J15: 566 | K15: 2700 | L15: 689 | N15: =MIN(D15, F15, H15, I15, K15, M15) -> 2050
A16: SGP칸막이 | B16: SGP칸막이 A형 | C16: M2 | F16: 62000 | G16: 2-452 | I16: 68000 | J16: 521 | K16: 69000 | L16: 636 | N16: =MIN(D16, F16, H16, I16, K16, M16) -> 62000
A17: SGP칸막이 | B17: SGP칸막이 B형 | C17: M2 | F17: 65000 | G17: 2-452 | I17: 72000 | J17: 521 | K17: 75000 | L17: 636 | N17: =MIN(D17, F17, H17, I17, K17, M17) -> 65000
A18: SMC천정재 | B18: 1.2*300*300 | C18: M2 | D18: 48000 | E18: 690 | F18: 46000 | G18: 2-350 | H18: 43200 | I18: 46000 | J18: 414 | N18: =MIN(D18, F18, H18, I18, K18, M18) -> 43200
A19: U 형못 | B19: 3*38mm | C19: KG | M19: 1100 | N19: =MIN(D19, F19, H19, I19, K19, M19) -> 1100
A20: 가새 | B20: 1.2*1.9 | C20: EA | D20: 8000 | E20: 146 | F20: 8900 | G20: 164 | H20: 6640 | I20: 8900 | J20: 93 | N20: =MIN(D20, F20, H20, I20, K20, M20) -> 6640
A21: 각재 | B21: 미송(재) | C21: 재 | D21: 1800 | E21: 139 | F21: 1400 | G21: 163 | H21: 1685 | K21: 1810 | L21: 112 | N21: =MIN(D21, F21, H21, I21, K21, M21) -> 1400
A22: 경유 | B22: 저유황 | C22: L | D22: 1360 | E22: 하권32 | F22: 1369 | G22: 2-950 | H22: 1223 | I22: 1400 | J22: 1237 | K22: 1382 | L22: 1323 | N22: =MIN(D22, F22, H22, I22, K22, M22) -> 1223
A23: 광명단조합페인트 | B23: KSM6030-1종1류 | C23: L | D23: 17422 | E23: 624 | F23: 11027 | G23: 2-258 | H23: 9040 | I23: 11027 | J23: 473 | N23: =MIN(D23, F23, H23, I23, K23, M23) -> 9040
A24: 구조용각형강관(1.6t) | B24: 40*40*1.6t | C24: M | D24: 1901 | E24: 64 | H24: 1810 | N24: =MIN(D24, F24, H24, I24, K24, M24) -> 1810
A25: 굽도리 | B25: 비닐, 2*100mm | C25: M | F25: 500 | G25: 2-439(1305) | H25: 500 | N25: =MIN(D25, F25, H25, I25, K25, M25) -> 500
A26: 디럭스타일 | B26: 3.0*450*450 | C26: M2 | D26: 7500 | E26: 637 | F26: 7500 | G26: 2-425 | H26: 6280 | I26: 6700 | J26: 507 | K26: 7400 | L26: 611 | N26: =MIN(D26, F26, H26, I26, K26, M26) -> 6280
A27: 마이톤 | B27: M-Bar 12*300*600 | C27: M2 | D27: 8400 | E27: 692 | F27: 8800 | G27: 2-367 | I27: 8800 | J27: 411 | N27: =MIN(D27, F27, H27, I27, K27, M27) -> 8400
A28: 맑은유리 | B28: 5mm | C28: M2 | D28: 7620 | E28: 616 | F28: 8070 | G28: 2-333 | H28: 7480 | I28: 7620 | J28: 466 | K28: 7500 | L28: 572 | N28: =MIN(D28, F28, H28, I28, K28, M28) -> 7480
A29: 모래 | B29: 서울(도착도) | C29: M3 | D29: 23000 | E29: 103 | F29: 24000 | G29: 135 | I29: 24000 | J29: 75 | K29: 23000 | L29: 93 | N29: =MIN(D29, F29, H29, I29, K29, M29) -> 23000
A30: 모래 | B30: 서울(상차도) | C30: M3 | F30: 12000 | G30: 134 | I30: 12000 | J30: 74 | N30: =MIN(D30, F30, H30, I30, K30, M30) -> 12000 | O30: 운반비별도
A31: 모르터방수제 | B31: 물 50배 회석 | C31: L | D31: 3752 | E31: 500 | F31: 3754 | G31: 2-222 | I31: 3752 | J31: 382 | K31: 3754 | L31: 515 | N31: =MIN(D31, F31, H31, I31, K31, M31) -> 3752
A32: 목재도어설치 | B32: SGP,편개(하드웨어포함) | C32: EA | M32: 250000 | N32: =MIN(D32, F32, H32, I32, K32, M32) -> 250000
A33: 몰딩(AL) | B33: W형 15*15*15*15*1.0 | C33: M | I33: 1890 | J33: 419 | N33: =MIN(D33, F33, H33, I33, K33, M33) -> 1890 | O33: WELL 몰딩
A34: 몰딩(합성목재) | B34: W:100*T:9.5,필름 | C34: M | M34: 2500 | N34: =MIN(D34, F34, H34, I34, K34, M34) -> 2500
A35: 방염벽지 | B35: 실크 | C35: M2 | F35: 11363 | G35: 2-440(1303) | N35: =MIN(D35, F35, H35, I35, K35, M35) -> 11363
A36: 바퀴 | B36: L=1829 | C36: EA | D36: 24000 | E36: 146 | N36: =MIN(D36, F36, H36, I36, K36, M36) -> 24000
A37: 보통합판(1급) | B37: 5.0T 1.21*2.42 | C37: M2 | D37: 3961 | E37: 681 | K37: 3961 | L37: 578 | N37: =MIN(D37, F37, H37, I37, K37, M37) -> 3961
A38: 볼밸브(황동,10Kg) | B38: D20 | C38: EA | D38: 5020 | E38: 817 | F38: 5510 | G38: 2-592 | H38: 3590 | K38: 5340 | L38: 731 | N38: =MIN(D38, F38, H38, I38, K38, M38) -> 3590
A39: 비계기본틀(기둥) | B39: 1.2*1.7 ( H=1700 * W=1219 ) | C39: EA | D39: 24500 | E39: 146 | F39: 28300 | G39: 164 | H39: 20830 | I39: 28300 | J39: 93 | N39: =MIN(D39, F39, H39, I39, K39, M39) -> 20830
A40: 비계안정장치(손잡이) | B40: L=1229 | C40: EA | D40: 8000 | E40: 146 | F40: 8900 | G40: 164 | I40: 8900 | J40: 93 | N40: =MIN(D40, F40, H40, I40, K40, M40) -> 8000
A41: 비계안정장치(손잡이) | B41: L=1829 | C41: EA | D41: 24000 | E41: 146 | F41: 25200 | G41: 164 | I41: 25200 | J41: 93 | N41: =MIN(D41, F41, H41, I41, K41, M41) -> 24000
A42: 비데 | B42: 계림요업-헬로우비데,KCB3100 | C42: 대 | F42: 240000 | G42: 2-692(1403) | N42: =MIN(D42, F42, H42, I42, K42, M42) -> 240000
A43: 산소 | B43: 산소 가스 | C43: L | D43: 2 | E43: 하권33 | F43: 2 | G43: 2-951 | H43: 2 | K43: 2 | L43: 1323 | N43: =MIN(D43, F43, H43, I43, K43, M43) -> 2
A44: 샤워부스칸막이 | B44: 반강화,칼라 | C44: EA | M44: 180000 | N44: =MIN(D44, F44, H44, I44, K44, M44) -> 180000
A45: 샤워수전 | B45: DD-1006 골드화이트 | C45: EA | F45: 63000 | G45: 628(0512) | N45: =MIN(D45, F45, H45, I45, K45, M45) -> 63000
A46: 석고보드 | B46: 평보드, 9.5×900×1800mm(㎡) | C46: M2 | D46: 2037 | E46: 686 | F46: 2592 | G46: 2-363 | H46: 1830 | I46: 2037 | J46: 407 | K46: 2283 | L46: 582 | N46: =MIN(D46, F46, H46, I46, K46, M46) -> 1830
A47: 석고보드 | B47: 평보드, 방수 9mm(㎡) | C47: M2 | D47: 3209 | E47: 687 | F47: 4197 | G47: 2-364 | N47: =MIN(D47, F47, H47, I47, K47, M47) -> 3209
A48: 세면기 | B48: 4", L221 | C48: 조 | F48: 120000 | G48: 2-644(1112) | N48: =MIN(D48, F48, H48, I48, K48, M48) -> 120000
A49: 세면기 | B49: CL-520 | C49: 조 | D49: 95000 | E49: 872(1204) | N49: =MIN(D49, F49, H49, I49, K49, M49) -> 95000
A50: 세면기수전 | B50: 4"싱글레버930RG/RWG | C50: EA | D50: 74000 | E50: 875 | N50: =MIN(D50, F50, H50, I50, K50, M50) -> 74000
A51: 세면기자동수전 | B51: JATA-200BC 냉온수혼합형 | C51: EA | D51: 165000 | E51: 875 | N51: =MIN(D51, F51, H51, I51, K51, M51) -> 165000
A52: 세이프목재문(쌍여닫이) | B52: 45*250,전사도장&부속포함 | C52: M2 | D52: 310000 | E52: 592 | N52: =MIN(D52, F52, H52, I52, K52, M52) -> 310000 | O52: 현장설치도
A53: 세이프목재문(외여닫이) | B53: 45*250,전사도장&부속포함 | C53: M2 | D53: 315000 | E53: 592 | N53: =MIN(D53, F53, H53, I53, K53, M53) -> 315000 | O53: 현장설치도
A54: 손잡이기둥 | C54: EA | D54: 24500 | E54: 146 | F54: 28300 | G54: 164 | I54: 28300 | J54: 93 | N54: =MIN(D54, F54, H54, I54, K54, M54) -> 24500 | O54: 1.2*1.7
A55: 수성페인트 | B55: KSM6010-2종1급, 백색 | C55: L | D55: 3505 | E55: 621 | F55: 2972 | G55: 2-258 | H55: 2470 | I55: 2972 | J55: 473 | N55: =MIN(D55, F55, H55, I55, K55, M55) -> 2470
A56: 수평띠장 | B56: L=1829 | C56: EA | D56: 24000 | E56: 146 | F56: 25200 | G56: 164 | I56: 25200 | J56: 93 | N56: =MIN(D56, F56, H56, I56, K56, M56) -> 24000
A57: 슈퍼온도리 | B57: 데코 | C57: M2 | F57: 5000 | G57: 2-366(1305) | I57: 5000 | J57: 397 | N57: =MIN(D57, F57, H57, I57, K57, M57) -> 5000
A58: 스테인리스강판(STS304) | B58: 1.5t (STS304) | C58: KG | D58: 3550 | E58: 69 | F58: 4109 | G58: 100 | H58: 3380 | I58: 3590 | J58: 50 | K58: 3720 | L58: 59 | N58: =MIN(D58, F58, H58, I58, K58, M58) -> 3380
A59: 스테인리스관이음쇠(SP Joint) | B59: 소켓 20 SU | C59: EA | F59: 1847 | G59: 2-533 | N59: =MIN(D59, F59, H59, I59, K59, M59) -> 1847
A60: 스테인리스관이음쇠(SP Joint) | B60: 수전엘보 W-Type 20x15 | C60: EA | F60: 4160 | G60: 2-533 | N60: =MIN(D60, F60, H60, I60, K60, M60) -> 4160
A61: 스테인리스관이음쇠(SP Joint) | B61: 엘보(45˚ ,90 ˚) 20 SU | C61: EA | F61: 2329 | G61: 2-533 | N61: =MIN(D61, F61, H61, I61, K61, M61) -> 2329
A62: 스텐관(2.0T) | B62: D20 | C62: M | D62: 6350 | E62: 736 | F62: 6101 | G62: 2-525 | H62: 4881 | I62: 6320 | J62: 560 | K62: 6177 | L62: 677 | N62: =MIN(D62, F62, H62, I62, K62, M62) -> 4881
A63: 스트롱앵커 | B63: 1/2" (M13) | C63: EA | D63: 260 | E63: 91 | F63: 274 | G63: 125 | N63: =MIN(D63, F63, H63, I63, K63, M63) -> 260
A64: 시멘트 | B64: 40kg 포장품 | C64: KG | D64: 102 | E64: 106 | F64: 102 | G64: 136 | K64: 104 | L64: 94 | N64: =MIN(D64, F64, H64, I64, K64, M64) -> 102
A65: 시멘트벽돌 | C65: 매 | D65: 70 | E65: 474 | F65: 60 | G65: 2-175 | I65: 70 | J65: 361 | K65: 70 | L65: 465 | N65: =MIN(D65, F65, H65, I65, K65, M65) -> 60
A66: 신나 | B66: KSM6060-2종,조합페인트용 | C66: L | D66: 2711 | E66: 625 | F66: 1777 | G66: 2-258 | H66: 1780 | I66: 1777 | J66: 473 | K66: 1777 | L66: 534 | N66: =MIN(D66, F66, H66, I66, K66, M66) -> 1777
A67: 실리콘(비초산) | B67: 유리용,창호주위 | C67: L | F67: 10000 | G67: 2-240 | H67: 9310 | N67: =MIN(D67, F67, H67, I67, K67, M67) -> 9310
A68: 실리콘(초산형) | B68: 글래스실란트 | C68: L | H68: 6300 | N68: =MIN(D68, F68, H68, I68, K68, M68) -> 6300
A69: 씽크대설치(상,하부장) | B69: I형,L=1200 | C69: 개소 | M69: 600000 | N69: =MIN(D69, F69, H69, I69, K69, M69) -> 600000
A70: 씽크수전 | B70: DD-2058 크롬 | C70: EA | F70: 52000 | G70: 628(0512) | N70: =MIN(D70, F70, H70, I70, K70, M70) -> 52000
A71: 아세틸렌 | C71: KG | D71: 11000 | E71: 하권33 | F71: 13000 | G71: 2-951 | H71: 9500 | K71: 10000 | L71: 1323 | N71: =MIN(D71, F71, H71, I71, K71, M71) -> 9500 | O71: 압축가스
A72: 아티론(난연AL)25T | B72: D20 | C72: M | F72: 2403 | G72: 2-752 | H72: 1380 | N72: =MIN(D72, F72, H72, I72, K72, M72) -> 1380
A73: 양변기(탱크일체형변기) | B73: 사이펀, C2010C, CC-207 (도기) | C73: EA | F73: 270000 | G73: 2-687(1303) | N73: =MIN(D73, F73, H73, I73, K73, M73) -> 270000
A74: 앵글밸브(청동,10K) | B74: D15 | C74: EA | D74: 10740 | E74: 816 | N74: =MIN(D74, F74, H74, I74, K74, M74) -> 10740
A75: 연마지 | B75: # 120 | C75: 매 | D75: 230 | E75: 1418 | F75: 275 | G75: 1-662 | I75: 275 | J75: 1216 | K75: 230 | L75: 1209 | N75: =MIN(D75, F75, H75, I75, K75, M75) -> 230
A76: 연마지 | B76: #120~#180 | C76: 매 | D76: 220 | E76: 1418 | F76: 275 | G76: 1-662 | H76: 200 | I76: 275 | J76: 1216 | K76: 230 | L76: 1209 | N76: =MIN(D76, F76, H76, I76, K76, M76) -> 200
A77: 온도조절기 | B77: 디지털온도조절계, 220Vac, 비례식 | C77: EA | F77: 238000 | G77: 2-883 | N77: =MIN(D77, F77, H77, I77, K77, M77) -> 238000
A78: 용접봉 | B78: 연강용 3.2mm | C78: KG | D78: 2020 | E78: 1279 | N78: =MIN(D78, F78, H78, I78, K78, M78) -> 2020
A79: 용접봉(스텐용) | B79: Φ3.2mm, AWSE308 | C79: KG | D79: 9160 | E79: 1389 | F79: 8880 | G79: 1-622 | I79: 8880 | J79: 1180 | K79: 8880 | L79: 1198 | N79: =MIN(D79, F79, H79, I79, K79, M79) -> 8880
A80: 용접봉(연강용) | B80: ∮3.2 CR-13 | C80: KG | D80: 3150 | E80: 1389 | N80: =MIN(D80, F80, H80, I80, K80, M80) -> 3150
A81: 우레탄폼 충전 | B81: 창호주위 (건식벽) | C81: m | M81: 2842 | N81: =MIN(D81, F81, H81, I81, K81, M81) -> 2842 | O81: 실적(건축-28)
A82: 장판지 | B82: 장판지, 퓨전, 3.0T*1830 | C82: ㎡ | H82: 17200 | N82: =MIN(D82, F82, H82, I82, K82, M82) -> 17200
A83: 인테리어표면마감재 | B83: 0.42*1220mm FW (목무늬방염) | C83: M2 | D83: 33000 | E83: 682 | I83: 30000 | J83: 512 | N83: =MIN(D83, F83, H83, I83, K83, M83) -> 30000
A84: 일반구조용압연강판 | B84: 1.4∼1.6mm | C84: KG | D84: 1200 | E84: 52 | F84: 1100 | G84: 88 | H84: 880 | I84: 1112 | J84: 40 | K84: 1170 | L84: 45 | N84: =MIN(D84, F84, H84, I84, K84, M84) -> 880
A85: 일반구조용압연강판 | B85: 2.0∼2.3mm | C85: KG | D85: 1170 | E85: 52 | F85: 1074 | G85: 88 | I85: 1085 | J85: 40 | K85: 1140 | L85: 45 | N85: =MIN(D85, F85, H85, I85, K85, M85) -> 1074
A86: 쟈키 | B86: L=1829 | C86: EA | F86: 10100 | G86: 164 | I86: 10100 | J86: 93 | N86: =MIN(D86, F86, H86, I86, K86, M86) -> 10100
A87: 자기질타일 | B87: 무유색소, 300*300*8~11 | C87: M2 | D87: 15000 | E87: 497 | H87: 13500 | N87: =MIN(D87, F87, H87, I87, K87, M87) -> 13500
A88: 자기질타일 | B88: 무유연마, 300*600*8~10 | C88: M2 | D88: 29000 | E88: 497 | H88: 26100 | N88: =MIN(D88, F88, H88, I88, K88, M88) -> 26100
A89: 전기온돌판넬 | B89: 1250 x 400 x 15 | C89: M2 | D89: 70000 | E89: 925(1411) | N89: =MIN(D89, F89, H89, I89, K89, M89) -> 70000
A90: 전산볼트 | B90: M12 L1000 | C90: EA | D90: 1340 | E90: 86 | F90: 1386 | G90: 119 | I90: 1386 | J90: 65 | K90: 1407 | L90: 81 | N90: =MIN(D90, F90, H90, I90, K90, M90) -> 1340
A91: 절연행거 | B91: D20 | C91: EA | D91: 550 | E91: 702 | F91: 650 | G91: 2-481 | H91: 440 | K91: 540 | L91: 729 | N91: =MIN(D91, F91, H91, I91, K91, M91) -> 440
A92: 접착재 | B92: 비닐타일용 | C92: KG | H92: 2450 | N92: =MIN(D92, F92, H92, I92, K92, M92) -> 2450
A93: 접착재 | B93: 스치로폴용 | C93: KG | H93: 1930 | N93: =MIN(D93, F93, H93, I93, K93, M93) -> 1930
A94: 철못 | B94: N 90 | C94: KG | D94: 1433 | E94: 67 | F94: 1100 | G94: 106 | H94: 850 | I94: 1100 | J94: 56 | K94: 1286 | L94: 75 | N94: =MIN(D94, F94, H94, I94, K94, M94) -> 850
A95: 초배지 | C95: M2 | D95: 192 | E95: 696 | I95: 185 | J95: 512 | N95: =MIN(D95, F95, H95, I95, K95, M95) -> 185
A96: 타일카페트 | B96: LOOP, 500*500*7.0mm | C96: M2 | F96: 29000 | G96: 2-430 | I96: 26500 | J96: 513 | N96: =MIN(D96, F96, H96, I96, K96, M96) -> 26500
A97: 파이프행거(일반) | B97: D100 | C97: EA | D97: 1100 | E97: 702 | F97: 1100 | G97: 2-481 | H97: 880 | K97: 1080 | L97: 729 | N97: =MIN(D97, F97, H97, I97, K97, M97) -> 880
A98: 파이프행거(일반) | B98: D50 | C98: EA | D98: 580 | E98: 702 | F98: 575 | G98: 2-481 | H98: 460 | K98: 570 | L98: 729 | N98: =MIN(D98, F98, H98, I98, K98, M98) -> 460
A99: 판재 | B99: 외송 일반(㎥) | C99: M3 | D99: 480000 | E99: 139 | F99: 465000 | G99: 163 | H99: 396900 | N99: =MIN(D99, F99, H99, I99, K99, M99) -> 396900
A100: 팬코일유니트(상치노출형) | B100: 800 | C100: 대 | D100: 490000 | E100: 933 | F100: 485000 | G100: 2-822 | N100: =MIN(D100, F100, H100, I100, K100, M100) -> 485000
...

Sheet Sheet1
H1: 공제물량
C2: 번호 | D2: A타입 | E2: B타입 | F2: C타입 | G2: D타입 | H2: 출입문 | I2: 계 | J2: 높이 | K2: 면적
C3: 1 | E3: 13.57 | H3: 1 | I3: =SUM(D3:G3) -> 13.57 | J3: 2.4 | K3: =I3*J3 -> 32.568
C4: 2 | D4: 2.8 | H4: 1 | I4: =SUM(D4:G4) -> 2.8 | J4: 2.4 | K4: =I4*J4 -> 6.72
C5: 3 | D5: 11.775 | E5: 4.7 | H5: 1 | I5: =SUM(D5:G5) -> 16.475 | J5: 2.4 | K5: =I5*J5 -> 39.54
C6: 4 | D6: 9.105 | I6: =SUM(D6:G6) -> 9.105 | J6: 2.4 | K6: =I6*J6 -> 21.852
C7: 5 | D7: 6.175 | E7: 10.3 | H7: 2 | I7: =SUM(D7:G7) -> 16.475 | J7: 2.4 | K7: =I7*J7 -> 39.54
C8: 6 | D8: 4.5 | I8: =SUM(D8:G8) -> 4.5 | J8: 2.4 | K8: =I8*J8 -> 10.8
C9: 6-1 | D9: 6.5 | I9: =SUM(D9:G9) -> 6.5 | J9: 2.4 | K9: =I9*J9 -> 15.6
C10: 7 | D10: 18.36 | I10: =SUM(D10:G10) -> 18.36 | J10: 2.4 | K10: =I10*J10 -> 44.064
C11: 8 | E11: 5.5 | H11: 1 | I11: =SUM(D11:G11) -> 5.5 | J11: 2.4 | K11: =I11*J11 -> 13.2
C12: 9 | E12: 16.5 | H12: 3 | I12: =SUM(D12:G12) -> 16.5 | J12: 2.4 | K12: =I12*J12 -> 39.6
C13: 10 | E13: 5.18 | I13: =SUM(D13:G13) -> 5.18 | J13: 2.4 | K13: =I13*J13 -> 12.432
C14: 11 | E14: 5.18 | I14: =SUM(D14:G14) -> 5.18 | J14: 2.4 | K14: =I14*J14 -> 12.432
C15: 12 | E15: 3.6 | H15: 1 | I15: =SUM(D15:G15) -> 3.6 | J15: 2.4 | K15: =I15*J15 -> 8.64
C16: 13 | E16: 5.3 | I16: =SUM(D16:G16) -> 5.3 | J16: 2.4 | K16: =I16*J16 -> 12.72
C17: 14 | E17: 13.07 | H17: 1 | I17: =SUM(D17:G17) -> 13.07 | J17: 2.4 | K17: =I17*J17 -> 31.368
C18: 15 | E18: 7.15 | H18: 1 | I18: =SUM(D18:G18) -> 7.15 | J18: 2.4 | K18: =I18*J18 -> 17.16
C19: 16 | D19: 4.6 | F19: 9.21 | H19: 1 | I19: =SUM(D19:G19) -> 13.81 | J19: 2.4 | K19: =I19*J19 -> 33.144
C20: 17 | D20: 5.2 | I20: =SUM(D20:G20) -> 5.2 | J20: 2.4 | K20: =I20*J20 -> 12.48
C21: 17-1 | E21: 3.1 | H21: 1 | I21: =SUM(D21:G21) -> 3.1 | J21: 2.4 | K21: =I21*J21 -> 7.44
C22: 18 | E22: 15.8 | H22: 1 | I22: =SUM(D22:G22) -> 15.8 | J22: 2.4 | K22: =I22*J22 -> 37.92
C23: 19 | D23: 10.29 | E23: 6.2 | H23: 2 | I23: =SUM(D23:G23) -> 16.49 | J23: 2.4 | K23: =I23*J23 -> 39.576
C24: 20 | D24: 5.41 | I24: =SUM(D24:G24) -> 5.41 | J24: 2.4 | K24: =I24*J24 -> 12.984
C25: 21 | E25: 5 | H25: 1 | I25: =SUM(D25:G25) -> 5 | J25: 2.4 | K25: =I25*J25 -> 12
C26: 22 | E26: 5.2 | H26: 1 | I26: =SUM(D26:G26) -> 5.2 | J26: 2.4 | K26: =I26*J26 -> 12.48
C27: 23 | G27: 13.15 | H27: 4 | I27: =SUM(D27:G27) -> 13.15 | J27: 2.4 | K27: =I27*J27 -> 31.56
C28: 24 | G28: 4.6 | I28: =SUM(D28:G28) -> 4.6 | J28: 2.4 | K28: =I28*J28 -> 11.04
C29: 25 | G29: 4.6 | I29: =SUM(D29:G29) -> 4.6 | J29: 2.4 | K29: =I29*J29 -> 11.04
C30: 26 | G30: 4.6 | I30: =SUM(D30:G30) -> 4.6 | J30: 2.4 | K30: =I30*J30 -> 11.04
C31: [계] | D31: =SUM(D3:D30) -> 84.715 | E31: =SUM(E3:E30) -> 125.35 | F31: =SUM(F3:F30) -> 9.21 | G31: =SUM(G3:G30) -> 26.95 | H31: =SUM(H3:H30) -> 23
B32: H | C32: 2.4 | D32: =ROUNDUP(D31*$C$32,0) -> 204 | E32: =ROUNDUP(E31*$C$32,0) -> 301 | F32: =ROUNDUP(F31*$C$32,0) -> 23 | G32: =ROUNDUP(G31*$C$32,0) -> 65 | H32: =H31*(0.9*2.1) -> 43.47 | I32: =SUM(D32:H32) -> 636.47
B33: 할증 | C33: 0.05 | D33: =INT(D32*1.05) -> 214 | E33: =INT(E32*1.05) -> 316 | F33: =INT(F32*1.05) -> 24 | G33: =INT(G32*1.05) -> 68 | I33: =INT(I32*1.05) -> 668
E34: =E33-H32 -> 272.53
